BEGIN:VCALENDAR
VERSION:2.0
PRODID:-//Car-Dun-Al Dog Obedience Training Club - ECPv6.15.17.1//NONSGML v1.0//EN
CALSCALE:GREGORIAN
METHOD:PUBLISH
X-WR-CALNAME:Car-Dun-Al Dog Obedience Training Club
X-ORIGINAL-URL:https://www.cardunaldogtraining.com
X-WR-CALDESC:Events for Car-Dun-Al Dog Obedience Training Club
REFRESH-INTERVAL;VALUE=DURATION:PT1H
X-Robots-Tag:noindex
X-PUBLISHED-TTL:PT1H
BEGIN:VTIMEZONE
TZID:America/Chicago
BEGIN:DAYLIGHT
TZOFFSETFROM:-0600
TZOFFSETTO:-0500
TZNAME:CDT
DTSTART:20250309T080000
END:DAYLIGHT
BEGIN:STANDARD
TZOFFSETFROM:-0500
TZOFFSETTO:-0600
TZNAME:CST
DTSTART:20251102T070000
END:STANDARD
BEGIN:DAYLIGHT
TZOFFSETFROM:-0600
TZOFFSETTO:-0500
TZNAME:CDT
DTSTART:20260308T080000
END:DAYLIGHT
BEGIN:STANDARD
TZOFFSETFROM:-0500
TZOFFSETTO:-0600
TZNAME:CST
DTSTART:20261101T070000
END:STANDARD
BEGIN:DAYLIGHT
TZOFFSETFROM:-0600
TZOFFSETTO:-0500
TZNAME:CDT
DTSTART:20270314T080000
END:DAYLIGHT
BEGIN:STANDARD
TZOFFSETFROM:-0500
TZOFFSETTO:-0600
TZNAME:CST
DTSTART:20271107T070000
END:STANDARD
END:VTIMEZONE
BEGIN:VEVENT
DTSTART;TZID=America/Chicago:20260427T180000
DTEND;TZID=America/Chicago:20260427T190000
DTSTAMP:20260423T082855
CREATED:20260423T014757Z
LAST-MODIFIED:20260423T014757Z
UID:29952-1777312800-1777316400@www.cardunaldogtraining.com
SUMMARY:Advanced Agility Level 4
DESCRIPTION:
URL:https://www.cardunaldogtraining.com/event/advanced-agility-level-4-22/2026-04-27/
LOCATION:CarDunAl Dog Training Club\, 10783 Wolf Dr.\, Huntley\, IL\, 60142\, United States
CATEGORIES:Agility
END:VEVENT
BEGIN:VEVENT
DTSTART;TZID=America/Chicago:20260504T180000
DTEND;TZID=America/Chicago:20260504T190000
DTSTAMP:20260423T082855
CREATED:20260423T014757Z
LAST-MODIFIED:20260423T014757Z
UID:29953-1777917600-1777921200@www.cardunaldogtraining.com
SUMMARY:Advanced Agility Level 4
DESCRIPTION:
URL:https://www.cardunaldogtraining.com/event/advanced-agility-level-4-22/2026-05-04/
LOCATION:CarDunAl Dog Training Club\, 10783 Wolf Dr.\, Huntley\, IL\, 60142\, United States
CATEGORIES:Agility
END:VEVENT
BEGIN:VEVENT
DTSTART;TZID=America/Chicago:20260511T180000
DTEND;TZID=America/Chicago:20260511T190000
DTSTAMP:20260423T082855
CREATED:20260423T014757Z
LAST-MODIFIED:20260423T014757Z
UID:29954-1778522400-1778526000@www.cardunaldogtraining.com
SUMMARY:Advanced Agility Level 4
DESCRIPTION:
URL:https://www.cardunaldogtraining.com/event/advanced-agility-level-4-22/2026-05-11/
LOCATION:CarDunAl Dog Training Club\, 10783 Wolf Dr.\, Huntley\, IL\, 60142\, United States
CATEGORIES:Agility
END:VEVENT
BEGIN:VEVENT
DTSTART;TZID=America/Chicago:20260518T180000
DTEND;TZID=America/Chicago:20260518T190000
DTSTAMP:20260423T082855
CREATED:20260423T014757Z
LAST-MODIFIED:20260423T014757Z
UID:29955-1779127200-1779130800@www.cardunaldogtraining.com
SUMMARY:Advanced Agility Level 4
DESCRIPTION:
URL:https://www.cardunaldogtraining.com/event/advanced-agility-level-4-22/2026-05-18/
LOCATION:CarDunAl Dog Training Club\, 10783 Wolf Dr.\, Huntley\, IL\, 60142\, United States
CATEGORIES:Agility
END:VEVENT
BEGIN:VEVENT
DTSTART;TZID=America/Chicago:20260525T180000
DTEND;TZID=America/Chicago:20260525T190000
DTSTAMP:20260423T082855
CREATED:20260423T014757Z
LAST-MODIFIED:20260423T014757Z
UID:29956-1779732000-1779735600@www.cardunaldogtraining.com
SUMMARY:Advanced Agility Level 4
DESCRIPTION:
URL:https://www.cardunaldogtraining.com/event/advanced-agility-level-4-22/2026-05-25/
LOCATION:CarDunAl Dog Training Club\, 10783 Wolf Dr.\, Huntley\, IL\, 60142\, United States
CATEGORIES:Agility
END:VEVENT
BEGIN:VEVENT
DTSTART;TZID=America/Chicago:20260601T180000
DTEND;TZID=America/Chicago:20260601T190000
DTSTAMP:20260423T082855
CREATED:20260423T014757Z
LAST-MODIFIED:20260423T014757Z
UID:29957-1780336800-1780340400@www.cardunaldogtraining.com
SUMMARY:Advanced Agility Level 4
DESCRIPTION:
URL:https://www.cardunaldogtraining.com/event/advanced-agility-level-4-22/2026-06-01/
LOCATION:CarDunAl Dog Training Club\, 10783 Wolf Dr.\, Huntley\, IL\, 60142\, United States
CATEGORIES:Agility
END:VEVENT
END:VCALENDAR