BEGIN:VCALENDAR
VERSION:2.0
PRODID:-//Car-Dun-Al Dog Obedience Training Club - ECPv6.15.17.1//NONSGML v1.0//EN
CALSCALE:GREGORIAN
METHOD:PUBLISH
X-ORIGINAL-URL:https://www.cardunaldogtraining.com
X-WR-CALDESC:Events for Car-Dun-Al Dog Obedience Training Club
REFRESH-INTERVAL;VALUE=DURATION:PT1H
X-Robots-Tag:noindex
X-PUBLISHED-TTL:PT1H
BEGIN:VTIMEZONE
TZID:America/Chicago
BEGIN:DAYLIGHT
TZOFFSETFROM:-0600
TZOFFSETTO:-0500
TZNAME:CDT
DTSTART:20250309T080000
END:DAYLIGHT
BEGIN:STANDARD
TZOFFSETFROM:-0500
TZOFFSETTO:-0600
TZNAME:CST
DTSTART:20251102T070000
END:STANDARD
BEGIN:DAYLIGHT
TZOFFSETFROM:-0600
TZOFFSETTO:-0500
TZNAME:CDT
DTSTART:20260308T080000
END:DAYLIGHT
BEGIN:STANDARD
TZOFFSETFROM:-0500
TZOFFSETTO:-0600
TZNAME:CST
DTSTART:20261101T070000
END:STANDARD
BEGIN:DAYLIGHT
TZOFFSETFROM:-0600
TZOFFSETTO:-0500
TZNAME:CDT
DTSTART:20270314T080000
END:DAYLIGHT
BEGIN:STANDARD
TZOFFSETFROM:-0500
TZOFFSETTO:-0600
TZNAME:CST
DTSTART:20271107T070000
END:STANDARD
END:VTIMEZONE
BEGIN:VEVENT
DTSTART;TZID=America/Chicago:20260422T190000
DTEND;TZID=America/Chicago:20260422T200000
DTSTAMP:20260419T212950
CREATED:20251231T012254Z
LAST-MODIFIED:20251231T012254Z
UID:29289-1776884400-1776888000@www.cardunaldogtraining.com
SUMMARY:Conformation Drop-In Training
DESCRIPTION:
URL:https://www.cardunaldogtraining.com/event/conformation-drop-in-training-2/2026-04-22/
LOCATION:CarDunAl Dog Training Club\, 10783 Wolf Dr.\, Huntley\, IL\, 60142\, United States
CATEGORIES:Drop In Training
END:VEVENT
BEGIN:VEVENT
DTSTART;TZID=America/Chicago:20260429T190000
DTEND;TZID=America/Chicago:20260429T200000
DTSTAMP:20260419T212950
CREATED:20251231T012254Z
LAST-MODIFIED:20251231T012254Z
UID:29290-1777489200-1777492800@www.cardunaldogtraining.com
SUMMARY:Conformation Drop-In Training
DESCRIPTION:
URL:https://www.cardunaldogtraining.com/event/conformation-drop-in-training-2/2026-04-29/
LOCATION:CarDunAl Dog Training Club\, 10783 Wolf Dr.\, Huntley\, IL\, 60142\, United States
CATEGORIES:Drop In Training
END:VEVENT
BEGIN:VEVENT
DTSTART;TZID=America/Chicago:20260506T190000
DTEND;TZID=America/Chicago:20260506T200000
DTSTAMP:20260419T212950
CREATED:20251231T012254Z
LAST-MODIFIED:20251231T012254Z
UID:29291-1778094000-1778097600@www.cardunaldogtraining.com
SUMMARY:Conformation Drop-In Training
DESCRIPTION:
URL:https://www.cardunaldogtraining.com/event/conformation-drop-in-training-2/2026-05-06/
LOCATION:CarDunAl Dog Training Club\, 10783 Wolf Dr.\, Huntley\, IL\, 60142\, United States
CATEGORIES:Drop In Training
END:VEVENT
BEGIN:VEVENT
DTSTART;TZID=America/Chicago:20260513T190000
DTEND;TZID=America/Chicago:20260513T200000
DTSTAMP:20260419T212950
CREATED:20251231T012254Z
LAST-MODIFIED:20251231T012254Z
UID:29292-1778698800-1778702400@www.cardunaldogtraining.com
SUMMARY:Conformation Drop-In Training
DESCRIPTION:
URL:https://www.cardunaldogtraining.com/event/conformation-drop-in-training-2/2026-05-13/
LOCATION:CarDunAl Dog Training Club\, 10783 Wolf Dr.\, Huntley\, IL\, 60142\, United States
CATEGORIES:Drop In Training
END:VEVENT
BEGIN:VEVENT
DTSTART;TZID=America/Chicago:20260520T190000
DTEND;TZID=America/Chicago:20260520T200000
DTSTAMP:20260419T212950
CREATED:20251231T012254Z
LAST-MODIFIED:20251231T012254Z
UID:29293-1779303600-1779307200@www.cardunaldogtraining.com
SUMMARY:Conformation Drop-In Training
DESCRIPTION:
URL:https://www.cardunaldogtraining.com/event/conformation-drop-in-training-2/2026-05-20/
LOCATION:CarDunAl Dog Training Club\, 10783 Wolf Dr.\, Huntley\, IL\, 60142\, United States
CATEGORIES:Drop In Training
END:VEVENT
BEGIN:VEVENT
DTSTART;TZID=America/Chicago:20260527T190000
DTEND;TZID=America/Chicago:20260527T200000
DTSTAMP:20260419T212950
CREATED:20251231T012254Z
LAST-MODIFIED:20251231T012254Z
UID:29294-1779908400-1779912000@www.cardunaldogtraining.com
SUMMARY:Conformation Drop-In Training
DESCRIPTION:
URL:https://www.cardunaldogtraining.com/event/conformation-drop-in-training-2/2026-05-27/
LOCATION:CarDunAl Dog Training Club\, 10783 Wolf Dr.\, Huntley\, IL\, 60142\, United States
CATEGORIES:Drop In Training
END:VEVENT
BEGIN:VEVENT
DTSTART;TZID=America/Chicago:20260603T190000
DTEND;TZID=America/Chicago:20260603T200000
DTSTAMP:20260419T212950
CREATED:20251231T012254Z
LAST-MODIFIED:20251231T012254Z
UID:29295-1780513200-1780516800@www.cardunaldogtraining.com
SUMMARY:Conformation Drop-In Training
DESCRIPTION:
URL:https://www.cardunaldogtraining.com/event/conformation-drop-in-training-2/2026-06-03/
LOCATION:CarDunAl Dog Training Club\, 10783 Wolf Dr.\, Huntley\, IL\, 60142\, United States
CATEGORIES:Drop In Training
END:VEVENT
BEGIN:VEVENT
DTSTART;TZID=America/Chicago:20260610T190000
DTEND;TZID=America/Chicago:20260610T200000
DTSTAMP:20260419T212950
CREATED:20251231T012254Z
LAST-MODIFIED:20251231T012254Z
UID:29296-1781118000-1781121600@www.cardunaldogtraining.com
SUMMARY:Conformation Drop-In Training
DESCRIPTION:
URL:https://www.cardunaldogtraining.com/event/conformation-drop-in-training-2/2026-06-10/
LOCATION:CarDunAl Dog Training Club\, 10783 Wolf Dr.\, Huntley\, IL\, 60142\, United States
CATEGORIES:Drop In Training
END:VEVENT
BEGIN:VEVENT
DTSTART;TZID=America/Chicago:20260617T190000
DTEND;TZID=America/Chicago:20260617T200000
DTSTAMP:20260419T212950
CREATED:20251231T012254Z
LAST-MODIFIED:20251231T012254Z
UID:29297-1781722800-1781726400@www.cardunaldogtraining.com
SUMMARY:Conformation Drop-In Training
DESCRIPTION:
URL:https://www.cardunaldogtraining.com/event/conformation-drop-in-training-2/2026-06-17/
LOCATION:CarDunAl Dog Training Club\, 10783 Wolf Dr.\, Huntley\, IL\, 60142\, United States
CATEGORIES:Drop In Training
END:VEVENT
BEGIN:VEVENT
DTSTART;TZID=America/Chicago:20260624T190000
DTEND;TZID=America/Chicago:20260624T200000
DTSTAMP:20260419T212950
CREATED:20251231T012254Z
LAST-MODIFIED:20251231T012254Z
UID:29298-1782327600-1782331200@www.cardunaldogtraining.com
SUMMARY:Conformation Drop-In Training
DESCRIPTION:
URL:https://www.cardunaldogtraining.com/event/conformation-drop-in-training-2/2026-06-24/
LOCATION:CarDunAl Dog Training Club\, 10783 Wolf Dr.\, Huntley\, IL\, 60142\, United States
CATEGORIES:Drop In Training
END:VEVENT
BEGIN:VEVENT
DTSTART;TZID=America/Chicago:20260701T190000
DTEND;TZID=America/Chicago:20260701T200000
DTSTAMP:20260419T212950
CREATED:20251231T012254Z
LAST-MODIFIED:20251231T012254Z
UID:29299-1782932400-1782936000@www.cardunaldogtraining.com
SUMMARY:Conformation Drop-In Training
DESCRIPTION:
URL:https://www.cardunaldogtraining.com/event/conformation-drop-in-training-2/2026-07-01/
LOCATION:CarDunAl Dog Training Club\, 10783 Wolf Dr.\, Huntley\, IL\, 60142\, United States
CATEGORIES:Drop In Training
END:VEVENT
BEGIN:VEVENT
DTSTART;TZID=America/Chicago:20260708T190000
DTEND;TZID=America/Chicago:20260708T200000
DTSTAMP:20260419T212950
CREATED:20251231T012254Z
LAST-MODIFIED:20251231T012254Z
UID:29300-1783537200-1783540800@www.cardunaldogtraining.com
SUMMARY:Conformation Drop-In Training
DESCRIPTION:
URL:https://www.cardunaldogtraining.com/event/conformation-drop-in-training-2/2026-07-08/
LOCATION:CarDunAl Dog Training Club\, 10783 Wolf Dr.\, Huntley\, IL\, 60142\, United States
CATEGORIES:Drop In Training
END:VEVENT
BEGIN:VEVENT
DTSTART;TZID=America/Chicago:20260715T190000
DTEND;TZID=America/Chicago:20260715T200000
DTSTAMP:20260419T212950
CREATED:20251231T012254Z
LAST-MODIFIED:20251231T012254Z
UID:29301-1784142000-1784145600@www.cardunaldogtraining.com
SUMMARY:Conformation Drop-In Training
DESCRIPTION:
URL:https://www.cardunaldogtraining.com/event/conformation-drop-in-training-2/2026-07-15/
LOCATION:CarDunAl Dog Training Club\, 10783 Wolf Dr.\, Huntley\, IL\, 60142\, United States
CATEGORIES:Drop In Training
END:VEVENT
BEGIN:VEVENT
DTSTART;TZID=America/Chicago:20260722T190000
DTEND;TZID=America/Chicago:20260722T200000
DTSTAMP:20260419T212950
CREATED:20251231T012254Z
LAST-MODIFIED:20251231T012254Z
UID:29302-1784746800-1784750400@www.cardunaldogtraining.com
SUMMARY:Conformation Drop-In Training
DESCRIPTION:
URL:https://www.cardunaldogtraining.com/event/conformation-drop-in-training-2/2026-07-22/
LOCATION:CarDunAl Dog Training Club\, 10783 Wolf Dr.\, Huntley\, IL\, 60142\, United States
CATEGORIES:Drop In Training
END:VEVENT
BEGIN:VEVENT
DTSTART;TZID=America/Chicago:20260729T190000
DTEND;TZID=America/Chicago:20260729T200000
DTSTAMP:20260419T212950
CREATED:20251231T012254Z
LAST-MODIFIED:20251231T012254Z
UID:29303-1785351600-1785355200@www.cardunaldogtraining.com
SUMMARY:Conformation Drop-In Training
DESCRIPTION:
URL:https://www.cardunaldogtraining.com/event/conformation-drop-in-training-2/2026-07-29/
LOCATION:CarDunAl Dog Training Club\, 10783 Wolf Dr.\, Huntley\, IL\, 60142\, United States
CATEGORIES:Drop In Training
END:VEVENT
BEGIN:VEVENT
DTSTART;TZID=America/Chicago:20260805T190000
DTEND;TZID=America/Chicago:20260805T200000
DTSTAMP:20260419T212950
CREATED:20251231T012254Z
LAST-MODIFIED:20251231T012254Z
UID:29304-1785956400-1785960000@www.cardunaldogtraining.com
SUMMARY:Conformation Drop-In Training
DESCRIPTION:
URL:https://www.cardunaldogtraining.com/event/conformation-drop-in-training-2/2026-08-05/
LOCATION:CarDunAl Dog Training Club\, 10783 Wolf Dr.\, Huntley\, IL\, 60142\, United States
CATEGORIES:Drop In Training
END:VEVENT
BEGIN:VEVENT
DTSTART;TZID=America/Chicago:20260812T190000
DTEND;TZID=America/Chicago:20260812T200000
DTSTAMP:20260419T212950
CREATED:20251231T012254Z
LAST-MODIFIED:20251231T012254Z
UID:29305-1786561200-1786564800@www.cardunaldogtraining.com
SUMMARY:Conformation Drop-In Training
DESCRIPTION:
URL:https://www.cardunaldogtraining.com/event/conformation-drop-in-training-2/2026-08-12/
LOCATION:CarDunAl Dog Training Club\, 10783 Wolf Dr.\, Huntley\, IL\, 60142\, United States
CATEGORIES:Drop In Training
END:VEVENT
BEGIN:VEVENT
DTSTART;TZID=America/Chicago:20260819T190000
DTEND;TZID=America/Chicago:20260819T200000
DTSTAMP:20260419T212950
CREATED:20251231T012254Z
LAST-MODIFIED:20251231T012254Z
UID:29306-1787166000-1787169600@www.cardunaldogtraining.com
SUMMARY:Conformation Drop-In Training
DESCRIPTION:
URL:https://www.cardunaldogtraining.com/event/conformation-drop-in-training-2/2026-08-19/
LOCATION:CarDunAl Dog Training Club\, 10783 Wolf Dr.\, Huntley\, IL\, 60142\, United States
CATEGORIES:Drop In Training
END:VEVENT
BEGIN:VEVENT
DTSTART;TZID=America/Chicago:20260826T190000
DTEND;TZID=America/Chicago:20260826T200000
DTSTAMP:20260419T212950
CREATED:20251231T012254Z
LAST-MODIFIED:20251231T012254Z
UID:29307-1787770800-1787774400@www.cardunaldogtraining.com
SUMMARY:Conformation Drop-In Training
DESCRIPTION:
URL:https://www.cardunaldogtraining.com/event/conformation-drop-in-training-2/2026-08-26/
LOCATION:CarDunAl Dog Training Club\, 10783 Wolf Dr.\, Huntley\, IL\, 60142\, United States
CATEGORIES:Drop In Training
END:VEVENT
BEGIN:VEVENT
DTSTART;TZID=America/Chicago:20260902T190000
DTEND;TZID=America/Chicago:20260902T200000
DTSTAMP:20260419T212950
CREATED:20251231T012254Z
LAST-MODIFIED:20251231T012254Z
UID:29308-1788375600-1788379200@www.cardunaldogtraining.com
SUMMARY:Conformation Drop-In Training
DESCRIPTION:
URL:https://www.cardunaldogtraining.com/event/conformation-drop-in-training-2/2026-09-02/
LOCATION:CarDunAl Dog Training Club\, 10783 Wolf Dr.\, Huntley\, IL\, 60142\, United States
CATEGORIES:Drop In Training
END:VEVENT
BEGIN:VEVENT
DTSTART;TZID=America/Chicago:20260909T190000
DTEND;TZID=America/Chicago:20260909T200000
DTSTAMP:20260419T212950
CREATED:20251231T012254Z
LAST-MODIFIED:20251231T012254Z
UID:29309-1788980400-1788984000@www.cardunaldogtraining.com
SUMMARY:Conformation Drop-In Training
DESCRIPTION:
URL:https://www.cardunaldogtraining.com/event/conformation-drop-in-training-2/2026-09-09/
LOCATION:CarDunAl Dog Training Club\, 10783 Wolf Dr.\, Huntley\, IL\, 60142\, United States
CATEGORIES:Drop In Training
END:VEVENT
BEGIN:VEVENT
DTSTART;TZID=America/Chicago:20260916T190000
DTEND;TZID=America/Chicago:20260916T200000
DTSTAMP:20260419T212950
CREATED:20251231T012254Z
LAST-MODIFIED:20251231T012254Z
UID:29310-1789585200-1789588800@www.cardunaldogtraining.com
SUMMARY:Conformation Drop-In Training
DESCRIPTION:
URL:https://www.cardunaldogtraining.com/event/conformation-drop-in-training-2/2026-09-16/
LOCATION:CarDunAl Dog Training Club\, 10783 Wolf Dr.\, Huntley\, IL\, 60142\, United States
CATEGORIES:Drop In Training
END:VEVENT
BEGIN:VEVENT
DTSTART;TZID=America/Chicago:20260923T190000
DTEND;TZID=America/Chicago:20260923T200000
DTSTAMP:20260419T212950
CREATED:20251231T012254Z
LAST-MODIFIED:20251231T012254Z
UID:29311-1790190000-1790193600@www.cardunaldogtraining.com
SUMMARY:Conformation Drop-In Training
DESCRIPTION:
URL:https://www.cardunaldogtraining.com/event/conformation-drop-in-training-2/2026-09-23/
LOCATION:CarDunAl Dog Training Club\, 10783 Wolf Dr.\, Huntley\, IL\, 60142\, United States
CATEGORIES:Drop In Training
END:VEVENT
BEGIN:VEVENT
DTSTART;TZID=America/Chicago:20260930T190000
DTEND;TZID=America/Chicago:20260930T200000
DTSTAMP:20260419T212950
CREATED:20251231T012254Z
LAST-MODIFIED:20251231T012254Z
UID:29312-1790794800-1790798400@www.cardunaldogtraining.com
SUMMARY:Conformation Drop-In Training
DESCRIPTION:
URL:https://www.cardunaldogtraining.com/event/conformation-drop-in-training-2/2026-09-30/
LOCATION:CarDunAl Dog Training Club\, 10783 Wolf Dr.\, Huntley\, IL\, 60142\, United States
CATEGORIES:Drop In Training
END:VEVENT
BEGIN:VEVENT
DTSTART;TZID=America/Chicago:20261007T190000
DTEND;TZID=America/Chicago:20261007T200000
DTSTAMP:20260419T212950
CREATED:20251231T012254Z
LAST-MODIFIED:20251231T012254Z
UID:29313-1791399600-1791403200@www.cardunaldogtraining.com
SUMMARY:Conformation Drop-In Training
DESCRIPTION:
URL:https://www.cardunaldogtraining.com/event/conformation-drop-in-training-2/2026-10-07/
LOCATION:CarDunAl Dog Training Club\, 10783 Wolf Dr.\, Huntley\, IL\, 60142\, United States
CATEGORIES:Drop In Training
END:VEVENT
BEGIN:VEVENT
DTSTART;TZID=America/Chicago:20261014T190000
DTEND;TZID=America/Chicago:20261014T200000
DTSTAMP:20260419T212950
CREATED:20251231T012254Z
LAST-MODIFIED:20251231T012254Z
UID:29314-1792004400-1792008000@www.cardunaldogtraining.com
SUMMARY:Conformation Drop-In Training
DESCRIPTION:
URL:https://www.cardunaldogtraining.com/event/conformation-drop-in-training-2/2026-10-14/
LOCATION:CarDunAl Dog Training Club\, 10783 Wolf Dr.\, Huntley\, IL\, 60142\, United States
CATEGORIES:Drop In Training
END:VEVENT
BEGIN:VEVENT
DTSTART;TZID=America/Chicago:20261021T190000
DTEND;TZID=America/Chicago:20261021T200000
DTSTAMP:20260419T212950
CREATED:20251231T012254Z
LAST-MODIFIED:20251231T012254Z
UID:29315-1792609200-1792612800@www.cardunaldogtraining.com
SUMMARY:Conformation Drop-In Training
DESCRIPTION:
URL:https://www.cardunaldogtraining.com/event/conformation-drop-in-training-2/2026-10-21/
LOCATION:CarDunAl Dog Training Club\, 10783 Wolf Dr.\, Huntley\, IL\, 60142\, United States
CATEGORIES:Drop In Training
END:VEVENT
BEGIN:VEVENT
DTSTART;TZID=America/Chicago:20261028T190000
DTEND;TZID=America/Chicago:20261028T200000
DTSTAMP:20260419T212950
CREATED:20251231T012254Z
LAST-MODIFIED:20251231T012254Z
UID:29316-1793214000-1793217600@www.cardunaldogtraining.com
SUMMARY:Conformation Drop-In Training
DESCRIPTION:
URL:https://www.cardunaldogtraining.com/event/conformation-drop-in-training-2/2026-10-28/
LOCATION:CarDunAl Dog Training Club\, 10783 Wolf Dr.\, Huntley\, IL\, 60142\, United States
CATEGORIES:Drop In Training
END:VEVENT
BEGIN:VEVENT
DTSTART;TZID=America/Chicago:20261104T190000
DTEND;TZID=America/Chicago:20261104T200000
DTSTAMP:20260419T212950
CREATED:20251231T012254Z
LAST-MODIFIED:20251231T012254Z
UID:29317-1793818800-1793822400@www.cardunaldogtraining.com
SUMMARY:Conformation Drop-In Training
DESCRIPTION:
URL:https://www.cardunaldogtraining.com/event/conformation-drop-in-training-2/2026-11-04/
LOCATION:CarDunAl Dog Training Club\, 10783 Wolf Dr.\, Huntley\, IL\, 60142\, United States
CATEGORIES:Drop In Training
END:VEVENT
BEGIN:VEVENT
DTSTART;TZID=America/Chicago:20261111T190000
DTEND;TZID=America/Chicago:20261111T200000
DTSTAMP:20260419T212950
CREATED:20251231T012254Z
LAST-MODIFIED:20251231T012254Z
UID:29318-1794423600-1794427200@www.cardunaldogtraining.com
SUMMARY:Conformation Drop-In Training
DESCRIPTION:
URL:https://www.cardunaldogtraining.com/event/conformation-drop-in-training-2/2026-11-11/
LOCATION:CarDunAl Dog Training Club\, 10783 Wolf Dr.\, Huntley\, IL\, 60142\, United States
CATEGORIES:Drop In Training
END:VEVENT
END:VCALENDAR