BEGIN:VCALENDAR
VERSION:2.0
PRODID:-//Car-Dun-Al Dog Obedience Training Club - ECPv6.15.17.1//NONSGML v1.0//EN
CALSCALE:GREGORIAN
METHOD:PUBLISH
X-ORIGINAL-URL:https://www.cardunaldogtraining.com
X-WR-CALDESC:Events for Car-Dun-Al Dog Obedience Training Club
REFRESH-INTERVAL;VALUE=DURATION:PT1H
X-Robots-Tag:noindex
X-PUBLISHED-TTL:PT1H
BEGIN:VTIMEZONE
TZID:America/Chicago
BEGIN:DAYLIGHT
TZOFFSETFROM:-0600
TZOFFSETTO:-0500
TZNAME:CDT
DTSTART:20240310T080000
END:DAYLIGHT
BEGIN:STANDARD
TZOFFSETFROM:-0500
TZOFFSETTO:-0600
TZNAME:CST
DTSTART:20241103T070000
END:STANDARD
BEGIN:DAYLIGHT
TZOFFSETFROM:-0600
TZOFFSETTO:-0500
TZNAME:CDT
DTSTART:20250309T080000
END:DAYLIGHT
BEGIN:STANDARD
TZOFFSETFROM:-0500
TZOFFSETTO:-0600
TZNAME:CST
DTSTART:20251102T070000
END:STANDARD
BEGIN:DAYLIGHT
TZOFFSETFROM:-0600
TZOFFSETTO:-0500
TZNAME:CDT
DTSTART:20260308T080000
END:DAYLIGHT
BEGIN:STANDARD
TZOFFSETFROM:-0500
TZOFFSETTO:-0600
TZNAME:CST
DTSTART:20261101T070000
END:STANDARD
END:VTIMEZONE
BEGIN:VEVENT
DTSTART;TZID=America/Chicago:20250728T180000
DTEND;TZID=America/Chicago:20250728T190000
DTSTAMP:20260421T072036
CREATED:20250616T203751Z
LAST-MODIFIED:20250616T203751Z
UID:27509-1753725600-1753729200@www.cardunaldogtraining.com
SUMMARY:Foundation Class Agility
DESCRIPTION:
URL:https://www.cardunaldogtraining.com/event/foundation-class-agility-3/2025-07-28/
LOCATION:CarDunAl Dog Training Club\, 10783 Wolf Dr.\, Huntley\, IL\, 60142\, United States
CATEGORIES:Agility
END:VEVENT
BEGIN:VEVENT
DTSTART;TZID=America/Chicago:20250721T180000
DTEND;TZID=America/Chicago:20250721T190000
DTSTAMP:20260421T072036
CREATED:20250616T203751Z
LAST-MODIFIED:20250616T203751Z
UID:27508-1753120800-1753124400@www.cardunaldogtraining.com
SUMMARY:Foundation Class Agility
DESCRIPTION:
URL:https://www.cardunaldogtraining.com/event/foundation-class-agility-3/2025-07-21/
LOCATION:CarDunAl Dog Training Club\, 10783 Wolf Dr.\, Huntley\, IL\, 60142\, United States
CATEGORIES:Agility
END:VEVENT
BEGIN:VEVENT
DTSTART;TZID=America/Chicago:20250714T180000
DTEND;TZID=America/Chicago:20250714T190000
DTSTAMP:20260421T072036
CREATED:20250616T203751Z
LAST-MODIFIED:20250616T203751Z
UID:27507-1752516000-1752519600@www.cardunaldogtraining.com
SUMMARY:Foundation Class Agility
DESCRIPTION:
URL:https://www.cardunaldogtraining.com/event/foundation-class-agility-3/2025-07-14/
LOCATION:CarDunAl Dog Training Club\, 10783 Wolf Dr.\, Huntley\, IL\, 60142\, United States
CATEGORIES:Agility
END:VEVENT
BEGIN:VEVENT
DTSTART;TZID=America/Chicago:20250707T180000
DTEND;TZID=America/Chicago:20250707T190000
DTSTAMP:20260421T072036
CREATED:20250616T203751Z
LAST-MODIFIED:20250616T203751Z
UID:27506-1751911200-1751914800@www.cardunaldogtraining.com
SUMMARY:Foundation Class Agility
DESCRIPTION:
URL:https://www.cardunaldogtraining.com/event/foundation-class-agility-3/2025-07-07/
LOCATION:CarDunAl Dog Training Club\, 10783 Wolf Dr.\, Huntley\, IL\, 60142\, United States
CATEGORIES:Agility
END:VEVENT
BEGIN:VEVENT
DTSTART;TZID=America/Chicago:20250630T180000
DTEND;TZID=America/Chicago:20250630T190000
DTSTAMP:20260421T072036
CREATED:20250616T203751Z
LAST-MODIFIED:20250616T203751Z
UID:27505-1751306400-1751310000@www.cardunaldogtraining.com
SUMMARY:Foundation Class Agility
DESCRIPTION:
URL:https://www.cardunaldogtraining.com/event/foundation-class-agility-3/2025-06-30/
LOCATION:CarDunAl Dog Training Club\, 10783 Wolf Dr.\, Huntley\, IL\, 60142\, United States
CATEGORIES:Agility
END:VEVENT
BEGIN:VEVENT
DTSTART;TZID=America/Chicago:20250623T180000
DTEND;TZID=America/Chicago:20250623T190000
DTSTAMP:20260421T072036
CREATED:20250616T203751Z
LAST-MODIFIED:20250616T203751Z
UID:27504-1750701600-1750705200@www.cardunaldogtraining.com
SUMMARY:Foundation Class Agility
DESCRIPTION:
URL:https://www.cardunaldogtraining.com/event/foundation-class-agility-3/2025-06-23/
LOCATION:CarDunAl Dog Training Club\, 10783 Wolf Dr.\, Huntley\, IL\, 60142\, United States
CATEGORIES:Agility
END:VEVENT
BEGIN:VEVENT
DTSTART;TZID=America/Chicago:20250616T180000
DTEND;TZID=America/Chicago:20250616T190000
DTSTAMP:20260421T072036
CREATED:20250616T203751Z
LAST-MODIFIED:20250616T203751Z
UID:27503-1750096800-1750100400@www.cardunaldogtraining.com
SUMMARY:Foundation Class Agility
DESCRIPTION:
URL:https://www.cardunaldogtraining.com/event/foundation-class-agility-3/2025-06-16/
LOCATION:CarDunAl Dog Training Club\, 10783 Wolf Dr.\, Huntley\, IL\, 60142\, United States
CATEGORIES:Agility
END:VEVENT
END:VCALENDAR