BEGIN:VCALENDAR
VERSION:2.0
PRODID:-//Car-Dun-Al Dog Obedience Training Club - ECPv6.15.17.1//NONSGML v1.0//EN
CALSCALE:GREGORIAN
METHOD:PUBLISH
X-WR-CALNAME:Car-Dun-Al Dog Obedience Training Club
X-ORIGINAL-URL:https://www.cardunaldogtraining.com
X-WR-CALDESC:Events for Car-Dun-Al Dog Obedience Training Club
REFRESH-INTERVAL;VALUE=DURATION:PT1H
X-Robots-Tag:noindex
X-PUBLISHED-TTL:PT1H
BEGIN:VTIMEZONE
TZID:America/Chicago
BEGIN:DAYLIGHT
TZOFFSETFROM:-0600
TZOFFSETTO:-0500
TZNAME:CDT
DTSTART:20250309T080000
END:DAYLIGHT
BEGIN:STANDARD
TZOFFSETFROM:-0500
TZOFFSETTO:-0600
TZNAME:CST
DTSTART:20251102T070000
END:STANDARD
BEGIN:DAYLIGHT
TZOFFSETFROM:-0600
TZOFFSETTO:-0500
TZNAME:CDT
DTSTART:20260308T080000
END:DAYLIGHT
BEGIN:STANDARD
TZOFFSETFROM:-0500
TZOFFSETTO:-0600
TZNAME:CST
DTSTART:20261101T070000
END:STANDARD
BEGIN:DAYLIGHT
TZOFFSETFROM:-0600
TZOFFSETTO:-0500
TZNAME:CDT
DTSTART:20270314T080000
END:DAYLIGHT
BEGIN:STANDARD
TZOFFSETFROM:-0500
TZOFFSETTO:-0600
TZNAME:CST
DTSTART:20271107T070000
END:STANDARD
END:VTIMEZONE
BEGIN:VEVENT
DTSTART;TZID=America/Chicago:20260427T170000
DTEND;TZID=America/Chicago:20260427T190000
DTSTAMP:20260423T082421
CREATED:20260423T015247Z
LAST-MODIFIED:20260423T015247Z
UID:29965-1777309200-1777316400@www.cardunaldogtraining.com
SUMMARY:Foundation Class Agility
DESCRIPTION:
URL:https://www.cardunaldogtraining.com/event/foundation-class-agility-6/2026-04-27/
LOCATION:CarDunAl Dog Training Club\, 10783 Wolf Dr.\, Huntley\, IL\, 60142\, United States
CATEGORIES:Agility
END:VEVENT
BEGIN:VEVENT
DTSTART;TZID=America/Chicago:20260504T170000
DTEND;TZID=America/Chicago:20260504T190000
DTSTAMP:20260423T082421
CREATED:20260423T015247Z
LAST-MODIFIED:20260423T015247Z
UID:29966-1777914000-1777921200@www.cardunaldogtraining.com
SUMMARY:Foundation Class Agility
DESCRIPTION:
URL:https://www.cardunaldogtraining.com/event/foundation-class-agility-6/2026-05-04/
LOCATION:CarDunAl Dog Training Club\, 10783 Wolf Dr.\, Huntley\, IL\, 60142\, United States
CATEGORIES:Agility
END:VEVENT
BEGIN:VEVENT
DTSTART;TZID=America/Chicago:20260511T170000
DTEND;TZID=America/Chicago:20260511T190000
DTSTAMP:20260423T082421
CREATED:20260423T015247Z
LAST-MODIFIED:20260423T015247Z
UID:29967-1778518800-1778526000@www.cardunaldogtraining.com
SUMMARY:Foundation Class Agility
DESCRIPTION:
URL:https://www.cardunaldogtraining.com/event/foundation-class-agility-6/2026-05-11/
LOCATION:CarDunAl Dog Training Club\, 10783 Wolf Dr.\, Huntley\, IL\, 60142\, United States
CATEGORIES:Agility
END:VEVENT
BEGIN:VEVENT
DTSTART;TZID=America/Chicago:20260518T170000
DTEND;TZID=America/Chicago:20260518T190000
DTSTAMP:20260423T082421
CREATED:20260423T015247Z
LAST-MODIFIED:20260423T015247Z
UID:29968-1779123600-1779130800@www.cardunaldogtraining.com
SUMMARY:Foundation Class Agility
DESCRIPTION:
URL:https://www.cardunaldogtraining.com/event/foundation-class-agility-6/2026-05-18/
LOCATION:CarDunAl Dog Training Club\, 10783 Wolf Dr.\, Huntley\, IL\, 60142\, United States
CATEGORIES:Agility
END:VEVENT
BEGIN:VEVENT
DTSTART;TZID=America/Chicago:20260525T170000
DTEND;TZID=America/Chicago:20260525T190000
DTSTAMP:20260423T082421
CREATED:20260423T015247Z
LAST-MODIFIED:20260423T015247Z
UID:29969-1779728400-1779735600@www.cardunaldogtraining.com
SUMMARY:Foundation Class Agility
DESCRIPTION:
URL:https://www.cardunaldogtraining.com/event/foundation-class-agility-6/2026-05-25/
LOCATION:CarDunAl Dog Training Club\, 10783 Wolf Dr.\, Huntley\, IL\, 60142\, United States
CATEGORIES:Agility
END:VEVENT
BEGIN:VEVENT
DTSTART;TZID=America/Chicago:20260601T170000
DTEND;TZID=America/Chicago:20260601T190000
DTSTAMP:20260423T082421
CREATED:20260423T015247Z
LAST-MODIFIED:20260423T015247Z
UID:29970-1780333200-1780340400@www.cardunaldogtraining.com
SUMMARY:Foundation Class Agility
DESCRIPTION:
URL:https://www.cardunaldogtraining.com/event/foundation-class-agility-6/2026-06-01/
LOCATION:CarDunAl Dog Training Club\, 10783 Wolf Dr.\, Huntley\, IL\, 60142\, United States
CATEGORIES:Agility
END:VEVENT
END:VCALENDAR