BEGIN:VCALENDAR
VERSION:2.0
PRODID:-//Car-Dun-Al Dog Obedience Training Club - ECPv6.15.17.1//NONSGML v1.0//EN
CALSCALE:GREGORIAN
METHOD:PUBLISH
X-WR-CALNAME:Car-Dun-Al Dog Obedience Training Club
X-ORIGINAL-URL:https://www.cardunaldogtraining.com
X-WR-CALDESC:Events for Car-Dun-Al Dog Obedience Training Club
REFRESH-INTERVAL;VALUE=DURATION:PT1H
X-Robots-Tag:noindex
X-PUBLISHED-TTL:PT1H
BEGIN:VTIMEZONE
TZID:America/Chicago
BEGIN:DAYLIGHT
TZOFFSETFROM:-0600
TZOFFSETTO:-0500
TZNAME:CDT
DTSTART:20250309T080000
END:DAYLIGHT
BEGIN:STANDARD
TZOFFSETFROM:-0500
TZOFFSETTO:-0600
TZNAME:CST
DTSTART:20251102T070000
END:STANDARD
BEGIN:DAYLIGHT
TZOFFSETFROM:-0600
TZOFFSETTO:-0500
TZNAME:CDT
DTSTART:20260308T080000
END:DAYLIGHT
BEGIN:STANDARD
TZOFFSETFROM:-0500
TZOFFSETTO:-0600
TZNAME:CST
DTSTART:20261101T070000
END:STANDARD
BEGIN:DAYLIGHT
TZOFFSETFROM:-0600
TZOFFSETTO:-0500
TZNAME:CDT
DTSTART:20270314T080000
END:DAYLIGHT
BEGIN:STANDARD
TZOFFSETFROM:-0500
TZOFFSETTO:-0600
TZNAME:CST
DTSTART:20271107T070000
END:STANDARD
END:VTIMEZONE
BEGIN:VEVENT
DTSTART;TZID=America/Chicago:20260422T180000
DTEND;TZID=America/Chicago:20260422T184500
DTSTAMP:20260423T070138
CREATED:20251231T012028Z
LAST-MODIFIED:20251231T012028Z
UID:29239-1776880800-1776883500@www.cardunaldogtraining.com
SUMMARY:Novice Conformation Handling Class Drop-In Training
DESCRIPTION:
URL:https://www.cardunaldogtraining.com/event/novice-conformation-handling-class-drop-in-training/2026-04-22/
LOCATION:CarDunAl Dog Training Club\, 10783 Wolf Dr.\, Huntley\, IL\, 60142\, United States
END:VEVENT
BEGIN:VEVENT
DTSTART;TZID=America/Chicago:20260415T180000
DTEND;TZID=America/Chicago:20260415T184500
DTSTAMP:20260423T070138
CREATED:20251231T012028Z
LAST-MODIFIED:20251231T012028Z
UID:29238-1776276000-1776278700@www.cardunaldogtraining.com
SUMMARY:Novice Conformation Handling Class Drop-In Training
DESCRIPTION:
URL:https://www.cardunaldogtraining.com/event/novice-conformation-handling-class-drop-in-training/2026-04-15/
LOCATION:CarDunAl Dog Training Club\, 10783 Wolf Dr.\, Huntley\, IL\, 60142\, United States
END:VEVENT
BEGIN:VEVENT
DTSTART;TZID=America/Chicago:20260408T180000
DTEND;TZID=America/Chicago:20260408T184500
DTSTAMP:20260423T070138
CREATED:20251231T012028Z
LAST-MODIFIED:20251231T012028Z
UID:29237-1775671200-1775673900@www.cardunaldogtraining.com
SUMMARY:Novice Conformation Handling Class Drop-In Training
DESCRIPTION:
URL:https://www.cardunaldogtraining.com/event/novice-conformation-handling-class-drop-in-training/2026-04-08/
LOCATION:CarDunAl Dog Training Club\, 10783 Wolf Dr.\, Huntley\, IL\, 60142\, United States
END:VEVENT
BEGIN:VEVENT
DTSTART;TZID=America/Chicago:20260401T180000
DTEND;TZID=America/Chicago:20260401T184500
DTSTAMP:20260423T070138
CREATED:20251231T012028Z
LAST-MODIFIED:20251231T012028Z
UID:29236-1775066400-1775069100@www.cardunaldogtraining.com
SUMMARY:Novice Conformation Handling Class Drop-In Training
DESCRIPTION:
URL:https://www.cardunaldogtraining.com/event/novice-conformation-handling-class-drop-in-training/2026-04-01/
LOCATION:CarDunAl Dog Training Club\, 10783 Wolf Dr.\, Huntley\, IL\, 60142\, United States
END:VEVENT
BEGIN:VEVENT
DTSTART;TZID=America/Chicago:20260325T180000
DTEND;TZID=America/Chicago:20260325T184500
DTSTAMP:20260423T070138
CREATED:20251231T012028Z
LAST-MODIFIED:20251231T012028Z
UID:29235-1774461600-1774464300@www.cardunaldogtraining.com
SUMMARY:Novice Conformation Handling Class Drop-In Training
DESCRIPTION:
URL:https://www.cardunaldogtraining.com/event/novice-conformation-handling-class-drop-in-training/2026-03-25/
LOCATION:CarDunAl Dog Training Club\, 10783 Wolf Dr.\, Huntley\, IL\, 60142\, United States
END:VEVENT
BEGIN:VEVENT
DTSTART;TZID=America/Chicago:20260318T180000
DTEND;TZID=America/Chicago:20260318T184500
DTSTAMP:20260423T070138
CREATED:20251231T012028Z
LAST-MODIFIED:20251231T012028Z
UID:29233-1773856800-1773859500@www.cardunaldogtraining.com
SUMMARY:Novice Conformation Handling Class Drop-In Training
DESCRIPTION:
URL:https://www.cardunaldogtraining.com/event/novice-conformation-handling-class-drop-in-training/2026-03-18/
LOCATION:CarDunAl Dog Training Club\, 10783 Wolf Dr.\, Huntley\, IL\, 60142\, United States
END:VEVENT
BEGIN:VEVENT
DTSTART;TZID=America/Chicago:20260311T180000
DTEND;TZID=America/Chicago:20260311T184500
DTSTAMP:20260423T070138
CREATED:20251231T012028Z
LAST-MODIFIED:20251231T012028Z
UID:29232-1773252000-1773254700@www.cardunaldogtraining.com
SUMMARY:Novice Conformation Handling Class Drop-In Training
DESCRIPTION:
URL:https://www.cardunaldogtraining.com/event/novice-conformation-handling-class-drop-in-training/2026-03-11/
LOCATION:CarDunAl Dog Training Club\, 10783 Wolf Dr.\, Huntley\, IL\, 60142\, United States
END:VEVENT
BEGIN:VEVENT
DTSTART;TZID=America/Chicago:20260304T180000
DTEND;TZID=America/Chicago:20260304T184500
DTSTAMP:20260423T070138
CREATED:20251231T012028Z
LAST-MODIFIED:20251231T012028Z
UID:29231-1772647200-1772649900@www.cardunaldogtraining.com
SUMMARY:Novice Conformation Handling Class Drop-In Training
DESCRIPTION:
URL:https://www.cardunaldogtraining.com/event/novice-conformation-handling-class-drop-in-training/2026-03-04/
LOCATION:CarDunAl Dog Training Club\, 10783 Wolf Dr.\, Huntley\, IL\, 60142\, United States
END:VEVENT
BEGIN:VEVENT
DTSTART;TZID=America/Chicago:20260225T180000
DTEND;TZID=America/Chicago:20260225T184500
DTSTAMP:20260423T070138
CREATED:20251231T012028Z
LAST-MODIFIED:20251231T012028Z
UID:29230-1772042400-1772045100@www.cardunaldogtraining.com
SUMMARY:Novice Conformation Handling Class Drop-In Training
DESCRIPTION:
URL:https://www.cardunaldogtraining.com/event/novice-conformation-handling-class-drop-in-training/2026-02-25/
LOCATION:CarDunAl Dog Training Club\, 10783 Wolf Dr.\, Huntley\, IL\, 60142\, United States
END:VEVENT
BEGIN:VEVENT
DTSTART;TZID=America/Chicago:20260218T180000
DTEND;TZID=America/Chicago:20260218T184500
DTSTAMP:20260423T070138
CREATED:20251231T012028Z
LAST-MODIFIED:20251231T012028Z
UID:29229-1771437600-1771440300@www.cardunaldogtraining.com
SUMMARY:Novice Conformation Handling Class Drop-In Training
DESCRIPTION:
URL:https://www.cardunaldogtraining.com/event/novice-conformation-handling-class-drop-in-training/2026-02-18/
LOCATION:CarDunAl Dog Training Club\, 10783 Wolf Dr.\, Huntley\, IL\, 60142\, United States
END:VEVENT
BEGIN:VEVENT
DTSTART;TZID=America/Chicago:20260211T180000
DTEND;TZID=America/Chicago:20260211T184500
DTSTAMP:20260423T070138
CREATED:20251231T012028Z
LAST-MODIFIED:20251231T012028Z
UID:29228-1770832800-1770835500@www.cardunaldogtraining.com
SUMMARY:Novice Conformation Handling Class Drop-In Training
DESCRIPTION:
URL:https://www.cardunaldogtraining.com/event/novice-conformation-handling-class-drop-in-training/2026-02-11/
LOCATION:CarDunAl Dog Training Club\, 10783 Wolf Dr.\, Huntley\, IL\, 60142\, United States
END:VEVENT
BEGIN:VEVENT
DTSTART;TZID=America/Chicago:20260204T180000
DTEND;TZID=America/Chicago:20260204T184500
DTSTAMP:20260423T070138
CREATED:20251231T012028Z
LAST-MODIFIED:20251231T012028Z
UID:29227-1770228000-1770230700@www.cardunaldogtraining.com
SUMMARY:Novice Conformation Handling Class Drop-In Training
DESCRIPTION:
URL:https://www.cardunaldogtraining.com/event/novice-conformation-handling-class-drop-in-training/2026-02-04/
LOCATION:CarDunAl Dog Training Club\, 10783 Wolf Dr.\, Huntley\, IL\, 60142\, United States
END:VEVENT
BEGIN:VEVENT
DTSTART;TZID=America/Chicago:20260128T180000
DTEND;TZID=America/Chicago:20260128T184500
DTSTAMP:20260423T070138
CREATED:20251231T012028Z
LAST-MODIFIED:20251231T012028Z
UID:29226-1769623200-1769625900@www.cardunaldogtraining.com
SUMMARY:Novice Conformation Handling Class Drop-In Training
DESCRIPTION:
URL:https://www.cardunaldogtraining.com/event/novice-conformation-handling-class-drop-in-training/2026-01-28/
LOCATION:CarDunAl Dog Training Club\, 10783 Wolf Dr.\, Huntley\, IL\, 60142\, United States
END:VEVENT
BEGIN:VEVENT
DTSTART;TZID=America/Chicago:20260121T180000
DTEND;TZID=America/Chicago:20260121T184500
DTSTAMP:20260423T070138
CREATED:20251231T012028Z
LAST-MODIFIED:20251231T012028Z
UID:29225-1769018400-1769021100@www.cardunaldogtraining.com
SUMMARY:Novice Conformation Handling Class Drop-In Training
DESCRIPTION:
URL:https://www.cardunaldogtraining.com/event/novice-conformation-handling-class-drop-in-training/2026-01-21/
LOCATION:CarDunAl Dog Training Club\, 10783 Wolf Dr.\, Huntley\, IL\, 60142\, United States
END:VEVENT
BEGIN:VEVENT
DTSTART;TZID=America/Chicago:20260114T180000
DTEND;TZID=America/Chicago:20260114T184500
DTSTAMP:20260423T070138
CREATED:20251231T012028Z
LAST-MODIFIED:20251231T012028Z
UID:29224-1768413600-1768416300@www.cardunaldogtraining.com
SUMMARY:Novice Conformation Handling Class Drop-In Training
DESCRIPTION:
URL:https://www.cardunaldogtraining.com/event/novice-conformation-handling-class-drop-in-training/2026-01-14/
LOCATION:CarDunAl Dog Training Club\, 10783 Wolf Dr.\, Huntley\, IL\, 60142\, United States
END:VEVENT
BEGIN:VEVENT
DTSTART;TZID=America/Chicago:20260107T180000
DTEND;TZID=America/Chicago:20260107T184500
DTSTAMP:20260423T070138
CREATED:20251231T012028Z
LAST-MODIFIED:20251231T012028Z
UID:29223-1767808800-1767811500@www.cardunaldogtraining.com
SUMMARY:Novice Conformation Handling Class Drop-In Training
DESCRIPTION:
URL:https://www.cardunaldogtraining.com/event/novice-conformation-handling-class-drop-in-training/2026-01-07/
LOCATION:CarDunAl Dog Training Club\, 10783 Wolf Dr.\, Huntley\, IL\, 60142\, United States
END:VEVENT
END:VCALENDAR