BEGIN:VCALENDAR
VERSION:2.0
PRODID:-//Car-Dun-Al Dog Obedience Training Club - ECPv6.15.17.1//NONSGML v1.0//EN
CALSCALE:GREGORIAN
METHOD:PUBLISH
X-WR-CALNAME:Car-Dun-Al Dog Obedience Training Club
X-ORIGINAL-URL:https://www.cardunaldogtraining.com
X-WR-CALDESC:Events for Car-Dun-Al Dog Obedience Training Club
REFRESH-INTERVAL;VALUE=DURATION:PT1H
X-Robots-Tag:noindex
X-PUBLISHED-TTL:PT1H
BEGIN:VTIMEZONE
TZID:America/Chicago
BEGIN:DAYLIGHT
TZOFFSETFROM:-0600
TZOFFSETTO:-0500
TZNAME:CDT
DTSTART:20230312T080000
END:DAYLIGHT
BEGIN:STANDARD
TZOFFSETFROM:-0500
TZOFFSETTO:-0600
TZNAME:CST
DTSTART:20231105T070000
END:STANDARD
BEGIN:DAYLIGHT
TZOFFSETFROM:-0600
TZOFFSETTO:-0500
TZNAME:CDT
DTSTART:20240310T080000
END:DAYLIGHT
BEGIN:STANDARD
TZOFFSETFROM:-0500
TZOFFSETTO:-0600
TZNAME:CST
DTSTART:20241103T070000
END:STANDARD
BEGIN:DAYLIGHT
TZOFFSETFROM:-0600
TZOFFSETTO:-0500
TZNAME:CDT
DTSTART:20250309T080000
END:DAYLIGHT
BEGIN:STANDARD
TZOFFSETFROM:-0500
TZOFFSETTO:-0600
TZNAME:CST
DTSTART:20251102T070000
END:STANDARD
END:VTIMEZONE
BEGIN:VEVENT
DTSTART;TZID=America/Chicago:20240828T090000
DTEND;TZID=America/Chicago:20240828T100000
DTSTAMP:20260421T014415
CREATED:20240524T005018Z
LAST-MODIFIED:20240524T005018Z
UID:23197-1724835600-1724839200@www.cardunaldogtraining.com
SUMMARY:Open Utility Obedience No Instruction
DESCRIPTION:
URL:https://www.cardunaldogtraining.com/event/open-utility-obedience-no-instruction-4/2024-08-28/
LOCATION:CarDunAl Dog Training Club\, 10783 Wolf Dr.\, Huntley\, IL\, 60142\, United States
CATEGORIES:Advanced
END:VEVENT
BEGIN:VEVENT
DTSTART;TZID=America/Chicago:20240821T090000
DTEND;TZID=America/Chicago:20240821T100000
DTSTAMP:20260421T014415
CREATED:20240524T005018Z
LAST-MODIFIED:20240701T174937Z
UID:22390-1724230800-1724234400@www.cardunaldogtraining.com
SUMMARY:Open Utility Obedience No Instruction
DESCRIPTION:
URL:https://www.cardunaldogtraining.com/event/open-utility-obedience-no-instruction-4/2024-08-21/
LOCATION:CarDunAl Dog Training Club\, 10783 Wolf Dr.\, Huntley\, IL\, 60142\, United States
CATEGORIES:Advanced
END:VEVENT
BEGIN:VEVENT
DTSTART;TZID=America/Chicago:20240814T090000
DTEND;TZID=America/Chicago:20240814T100000
DTSTAMP:20260421T014415
CREATED:20240524T005018Z
LAST-MODIFIED:20240701T174937Z
UID:22389-1723626000-1723629600@www.cardunaldogtraining.com
SUMMARY:Open Utility Obedience No Instruction
DESCRIPTION:
URL:https://www.cardunaldogtraining.com/event/open-utility-obedience-no-instruction-4/2024-08-14/
LOCATION:CarDunAl Dog Training Club\, 10783 Wolf Dr.\, Huntley\, IL\, 60142\, United States
CATEGORIES:Advanced
END:VEVENT
BEGIN:VEVENT
DTSTART;TZID=America/Chicago:20240807T090000
DTEND;TZID=America/Chicago:20240807T100000
DTSTAMP:20260421T014415
CREATED:20240524T005018Z
LAST-MODIFIED:20240701T174937Z
UID:22388-1723021200-1723024800@www.cardunaldogtraining.com
SUMMARY:Open Utility Obedience No Instruction
DESCRIPTION:
URL:https://www.cardunaldogtraining.com/event/open-utility-obedience-no-instruction-4/2024-08-07/
LOCATION:CarDunAl Dog Training Club\, 10783 Wolf Dr.\, Huntley\, IL\, 60142\, United States
CATEGORIES:Advanced
END:VEVENT
BEGIN:VEVENT
DTSTART;TZID=America/Chicago:20240731T090000
DTEND;TZID=America/Chicago:20240731T100000
DTSTAMP:20260421T014415
CREATED:20240524T005018Z
LAST-MODIFIED:20240701T174937Z
UID:22387-1722416400-1722420000@www.cardunaldogtraining.com
SUMMARY:Open Utility Obedience No Instruction
DESCRIPTION:
URL:https://www.cardunaldogtraining.com/event/open-utility-obedience-no-instruction-4/2024-07-31/
LOCATION:CarDunAl Dog Training Club\, 10783 Wolf Dr.\, Huntley\, IL\, 60142\, United States
CATEGORIES:Advanced
END:VEVENT
BEGIN:VEVENT
DTSTART;TZID=America/Chicago:20240724T090000
DTEND;TZID=America/Chicago:20240724T100000
DTSTAMP:20260421T014415
CREATED:20240524T005018Z
LAST-MODIFIED:20240701T174937Z
UID:22386-1721811600-1721815200@www.cardunaldogtraining.com
SUMMARY:Open Utility Obedience No Instruction
DESCRIPTION:
URL:https://www.cardunaldogtraining.com/event/open-utility-obedience-no-instruction-4/2024-07-24/
LOCATION:CarDunAl Dog Training Club\, 10783 Wolf Dr.\, Huntley\, IL\, 60142\, United States
CATEGORIES:Advanced
END:VEVENT
BEGIN:VEVENT
DTSTART;TZID=America/Chicago:20240717T090000
DTEND;TZID=America/Chicago:20240717T100000
DTSTAMP:20260421T014415
CREATED:20240524T005018Z
LAST-MODIFIED:20240701T174937Z
UID:22385-1721206800-1721210400@www.cardunaldogtraining.com
SUMMARY:Open Utility Obedience No Instruction
DESCRIPTION:
URL:https://www.cardunaldogtraining.com/event/open-utility-obedience-no-instruction-4/2024-07-17/
LOCATION:CarDunAl Dog Training Club\, 10783 Wolf Dr.\, Huntley\, IL\, 60142\, United States
CATEGORIES:Advanced
END:VEVENT
BEGIN:VEVENT
DTSTART;TZID=America/Chicago:20240710T090000
DTEND;TZID=America/Chicago:20240710T100000
DTSTAMP:20260421T014415
CREATED:20240524T005018Z
LAST-MODIFIED:20240701T174937Z
UID:22384-1720602000-1720605600@www.cardunaldogtraining.com
SUMMARY:Open Utility Obedience No Instruction
DESCRIPTION:
URL:https://www.cardunaldogtraining.com/event/open-utility-obedience-no-instruction-4/2024-07-10/
LOCATION:CarDunAl Dog Training Club\, 10783 Wolf Dr.\, Huntley\, IL\, 60142\, United States
CATEGORIES:Advanced
END:VEVENT
BEGIN:VEVENT
DTSTART;TZID=America/Chicago:20240626T090000
DTEND;TZID=America/Chicago:20240626T100000
DTSTAMP:20260421T014415
CREATED:20240524T005018Z
LAST-MODIFIED:20240701T174936Z
UID:22382-1719392400-1719396000@www.cardunaldogtraining.com
SUMMARY:Open Utility Obedience No Instruction
DESCRIPTION:
URL:https://www.cardunaldogtraining.com/event/open-utility-obedience-no-instruction-4/2024-06-26/
LOCATION:CarDunAl Dog Training Club\, 10783 Wolf Dr.\, Huntley\, IL\, 60142\, United States
CATEGORIES:Advanced
END:VEVENT
BEGIN:VEVENT
DTSTART;TZID=America/Chicago:20240619T090000
DTEND;TZID=America/Chicago:20240619T100000
DTSTAMP:20260421T014415
CREATED:20240524T005018Z
LAST-MODIFIED:20240701T174936Z
UID:22381-1718787600-1718791200@www.cardunaldogtraining.com
SUMMARY:Open Utility Obedience No Instruction
DESCRIPTION:
URL:https://www.cardunaldogtraining.com/event/open-utility-obedience-no-instruction-4/2024-06-19/
LOCATION:CarDunAl Dog Training Club\, 10783 Wolf Dr.\, Huntley\, IL\, 60142\, United States
CATEGORIES:Advanced
END:VEVENT
END:VCALENDAR