BEGIN:VCALENDAR
VERSION:2.0
PRODID:-//Car-Dun-Al Dog Obedience Training Club - ECPv6.15.17.1//NONSGML v1.0//EN
CALSCALE:GREGORIAN
METHOD:PUBLISH
X-WR-CALNAME:Car-Dun-Al Dog Obedience Training Club
X-ORIGINAL-URL:https://www.cardunaldogtraining.com
X-WR-CALDESC:Events for Car-Dun-Al Dog Obedience Training Club
REFRESH-INTERVAL;VALUE=DURATION:PT1H
X-Robots-Tag:noindex
X-PUBLISHED-TTL:PT1H
BEGIN:VTIMEZONE
TZID:America/Chicago
BEGIN:DAYLIGHT
TZOFFSETFROM:-0600
TZOFFSETTO:-0500
TZNAME:CDT
DTSTART:20230312T080000
END:DAYLIGHT
BEGIN:STANDARD
TZOFFSETFROM:-0500
TZOFFSETTO:-0600
TZNAME:CST
DTSTART:20231105T070000
END:STANDARD
BEGIN:DAYLIGHT
TZOFFSETFROM:-0600
TZOFFSETTO:-0500
TZNAME:CDT
DTSTART:20240310T080000
END:DAYLIGHT
BEGIN:STANDARD
TZOFFSETFROM:-0500
TZOFFSETTO:-0600
TZNAME:CST
DTSTART:20241103T070000
END:STANDARD
BEGIN:DAYLIGHT
TZOFFSETFROM:-0600
TZOFFSETTO:-0500
TZNAME:CDT
DTSTART:20250309T080000
END:DAYLIGHT
BEGIN:STANDARD
TZOFFSETFROM:-0500
TZOFFSETTO:-0600
TZNAME:CST
DTSTART:20251102T070000
END:STANDARD
END:VTIMEZONE
BEGIN:VEVENT
DTSTART;TZID=America/Chicago:20241121T120000
DTEND;TZID=America/Chicago:20241121T130000
DTSTAMP:20260425T153847
CREATED:20240904T010914Z
LAST-MODIFIED:20240909T013315Z
UID:23761-1732190400-1732194000@www.cardunaldogtraining.com
SUMMARY:Puppy Class Obedience
DESCRIPTION:
URL:https://www.cardunaldogtraining.com/event/puppy-class-obedience-9/2024-11-21/
LOCATION:CarDunAl Dog Training Club\, 10783 Wolf Dr.\, Huntley\, IL\, 60142\, United States
CATEGORIES:AKC Star Puppy / Pre-Beginners Class
END:VEVENT
BEGIN:VEVENT
DTSTART;TZID=America/Chicago:20241114T120000
DTEND;TZID=America/Chicago:20241114T130000
DTSTAMP:20260425T153847
CREATED:20240904T010914Z
LAST-MODIFIED:20240909T013315Z
UID:23760-1731585600-1731589200@www.cardunaldogtraining.com
SUMMARY:Puppy Class Obedience
DESCRIPTION:
URL:https://www.cardunaldogtraining.com/event/puppy-class-obedience-9/2024-11-14/
LOCATION:CarDunAl Dog Training Club\, 10783 Wolf Dr.\, Huntley\, IL\, 60142\, United States
CATEGORIES:AKC Star Puppy / Pre-Beginners Class
END:VEVENT
BEGIN:VEVENT
DTSTART;TZID=America/Chicago:20241107T120000
DTEND;TZID=America/Chicago:20241107T130000
DTSTAMP:20260425T153847
CREATED:20240904T010914Z
LAST-MODIFIED:20240909T013315Z
UID:23759-1730980800-1730984400@www.cardunaldogtraining.com
SUMMARY:Puppy Class Obedience
DESCRIPTION:
URL:https://www.cardunaldogtraining.com/event/puppy-class-obedience-9/2024-11-07/
LOCATION:CarDunAl Dog Training Club\, 10783 Wolf Dr.\, Huntley\, IL\, 60142\, United States
CATEGORIES:AKC Star Puppy / Pre-Beginners Class
END:VEVENT
BEGIN:VEVENT
DTSTART;TZID=America/Chicago:20241031T120000
DTEND;TZID=America/Chicago:20241031T130000
DTSTAMP:20260425T153847
CREATED:20240904T010914Z
LAST-MODIFIED:20240909T013315Z
UID:23758-1730376000-1730379600@www.cardunaldogtraining.com
SUMMARY:Puppy Class Obedience
DESCRIPTION:
URL:https://www.cardunaldogtraining.com/event/puppy-class-obedience-9/2024-10-31/
LOCATION:CarDunAl Dog Training Club\, 10783 Wolf Dr.\, Huntley\, IL\, 60142\, United States
CATEGORIES:AKC Star Puppy / Pre-Beginners Class
END:VEVENT
BEGIN:VEVENT
DTSTART;TZID=America/Chicago:20241024T120000
DTEND;TZID=America/Chicago:20241024T130000
DTSTAMP:20260425T153847
CREATED:20240904T010914Z
LAST-MODIFIED:20240909T013315Z
UID:23757-1729771200-1729774800@www.cardunaldogtraining.com
SUMMARY:Puppy Class Obedience
DESCRIPTION:
URL:https://www.cardunaldogtraining.com/event/puppy-class-obedience-9/2024-10-24/
LOCATION:CarDunAl Dog Training Club\, 10783 Wolf Dr.\, Huntley\, IL\, 60142\, United States
CATEGORIES:AKC Star Puppy / Pre-Beginners Class
END:VEVENT
BEGIN:VEVENT
DTSTART;TZID=America/Chicago:20241017T120000
DTEND;TZID=America/Chicago:20241017T130000
DTSTAMP:20260425T153847
CREATED:20240904T010914Z
LAST-MODIFIED:20240909T013315Z
UID:23756-1729166400-1729170000@www.cardunaldogtraining.com
SUMMARY:Puppy Class Obedience
DESCRIPTION:
URL:https://www.cardunaldogtraining.com/event/puppy-class-obedience-9/2024-10-17/
LOCATION:CarDunAl Dog Training Club\, 10783 Wolf Dr.\, Huntley\, IL\, 60142\, United States
CATEGORIES:AKC Star Puppy / Pre-Beginners Class
END:VEVENT
BEGIN:VEVENT
DTSTART;TZID=America/Chicago:20241010T120000
DTEND;TZID=America/Chicago:20241010T130000
DTSTAMP:20260425T153847
CREATED:20240904T010914Z
LAST-MODIFIED:20240909T013315Z
UID:23755-1728561600-1728565200@www.cardunaldogtraining.com
SUMMARY:Puppy Class Obedience
DESCRIPTION:
URL:https://www.cardunaldogtraining.com/event/puppy-class-obedience-9/2024-10-10/
LOCATION:CarDunAl Dog Training Club\, 10783 Wolf Dr.\, Huntley\, IL\, 60142\, United States
CATEGORIES:AKC Star Puppy / Pre-Beginners Class
END:VEVENT
BEGIN:VEVENT
DTSTART;TZID=America/Chicago:20241003T120000
DTEND;TZID=America/Chicago:20241003T130000
DTSTAMP:20260425T153847
CREATED:20240904T010914Z
LAST-MODIFIED:20240909T013315Z
UID:23754-1727956800-1727960400@www.cardunaldogtraining.com
SUMMARY:Puppy Class Obedience
DESCRIPTION:
URL:https://www.cardunaldogtraining.com/event/puppy-class-obedience-9/2024-10-03/
LOCATION:CarDunAl Dog Training Club\, 10783 Wolf Dr.\, Huntley\, IL\, 60142\, United States
CATEGORIES:AKC Star Puppy / Pre-Beginners Class
END:VEVENT
BEGIN:VEVENT
DTSTART;TZID=America/Chicago:20240926T120000
DTEND;TZID=America/Chicago:20240926T130000
DTSTAMP:20260425T153847
CREATED:20240904T010914Z
LAST-MODIFIED:20240909T013315Z
UID:23753-1727352000-1727355600@www.cardunaldogtraining.com
SUMMARY:Puppy Class Obedience
DESCRIPTION:
URL:https://www.cardunaldogtraining.com/event/puppy-class-obedience-9/2024-09-26/
LOCATION:CarDunAl Dog Training Club\, 10783 Wolf Dr.\, Huntley\, IL\, 60142\, United States
CATEGORIES:AKC Star Puppy / Pre-Beginners Class
END:VEVENT
BEGIN:VEVENT
DTSTART;TZID=America/Chicago:20240919T120000
DTEND;TZID=America/Chicago:20240919T130000
DTSTAMP:20260425T153847
CREATED:20240904T010914Z
LAST-MODIFIED:20240909T013315Z
UID:23752-1726747200-1726750800@www.cardunaldogtraining.com
SUMMARY:Puppy Class Obedience
DESCRIPTION:
URL:https://www.cardunaldogtraining.com/event/puppy-class-obedience-9/2024-09-19/
LOCATION:CarDunAl Dog Training Club\, 10783 Wolf Dr.\, Huntley\, IL\, 60142\, United States
CATEGORIES:AKC Star Puppy / Pre-Beginners Class
END:VEVENT
END:VCALENDAR