BEGIN:VCALENDAR
VERSION:2.0
PRODID:-//Car-Dun-Al Dog Obedience Training Club - ECPv6.15.17.1//NONSGML v1.0//EN
CALSCALE:GREGORIAN
METHOD:PUBLISH
X-WR-CALNAME:Car-Dun-Al Dog Obedience Training Club
X-ORIGINAL-URL:https://www.cardunaldogtraining.com
X-WR-CALDESC:Events for Car-Dun-Al Dog Obedience Training Club
REFRESH-INTERVAL;VALUE=DURATION:PT1H
X-Robots-Tag:noindex
X-PUBLISHED-TTL:PT1H
BEGIN:VTIMEZONE
TZID:America/Chicago
BEGIN:DAYLIGHT
TZOFFSETFROM:-0600
TZOFFSETTO:-0500
TZNAME:CDT
DTSTART:20230312T080000
END:DAYLIGHT
BEGIN:STANDARD
TZOFFSETFROM:-0500
TZOFFSETTO:-0600
TZNAME:CST
DTSTART:20231105T070000
END:STANDARD
BEGIN:DAYLIGHT
TZOFFSETFROM:-0600
TZOFFSETTO:-0500
TZNAME:CDT
DTSTART:20240310T080000
END:DAYLIGHT
BEGIN:STANDARD
TZOFFSETFROM:-0500
TZOFFSETTO:-0600
TZNAME:CST
DTSTART:20241103T070000
END:STANDARD
BEGIN:DAYLIGHT
TZOFFSETFROM:-0600
TZOFFSETTO:-0500
TZNAME:CDT
DTSTART:20250309T080000
END:DAYLIGHT
BEGIN:STANDARD
TZOFFSETFROM:-0500
TZOFFSETTO:-0600
TZNAME:CST
DTSTART:20251102T070000
END:STANDARD
END:VTIMEZONE
BEGIN:VEVENT
DTSTART;TZID=America/Chicago:20241119T123000
DTEND;TZID=America/Chicago:20241119T133000
DTSTAMP:20260424T022921
CREATED:20240909T021034Z
LAST-MODIFIED:20240909T022008Z
UID:24148-1732019400-1732023000@www.cardunaldogtraining.com
SUMMARY:Scent Work Level 1 (New Students)
DESCRIPTION:
URL:https://www.cardunaldogtraining.com/event/scent-work-level-1-5/2024-11-19/
LOCATION:CarDunAl Dog Training Club\, 10783 Wolf Dr.\, Huntley\, IL\, 60142\, United States
CATEGORIES:Scent Work
END:VEVENT
BEGIN:VEVENT
DTSTART;TZID=America/Chicago:20241112T123000
DTEND;TZID=America/Chicago:20241112T133000
DTSTAMP:20260424T022921
CREATED:20240909T021034Z
LAST-MODIFIED:20240909T022008Z
UID:24147-1731414600-1731418200@www.cardunaldogtraining.com
SUMMARY:Scent Work Level 1 (New Students)
DESCRIPTION:
URL:https://www.cardunaldogtraining.com/event/scent-work-level-1-5/2024-11-12/
LOCATION:CarDunAl Dog Training Club\, 10783 Wolf Dr.\, Huntley\, IL\, 60142\, United States
CATEGORIES:Scent Work
END:VEVENT
BEGIN:VEVENT
DTSTART;TZID=America/Chicago:20241105T123000
DTEND;TZID=America/Chicago:20241105T133000
DTSTAMP:20260424T022921
CREATED:20240909T021034Z
LAST-MODIFIED:20240909T022008Z
UID:24146-1730809800-1730813400@www.cardunaldogtraining.com
SUMMARY:Scent Work Level 1 (New Students)
DESCRIPTION:
URL:https://www.cardunaldogtraining.com/event/scent-work-level-1-5/2024-11-05/
LOCATION:CarDunAl Dog Training Club\, 10783 Wolf Dr.\, Huntley\, IL\, 60142\, United States
CATEGORIES:Scent Work
END:VEVENT
BEGIN:VEVENT
DTSTART;TZID=America/Chicago:20241029T123000
DTEND;TZID=America/Chicago:20241029T133000
DTSTAMP:20260424T022921
CREATED:20240909T021034Z
LAST-MODIFIED:20240909T022008Z
UID:24145-1730205000-1730208600@www.cardunaldogtraining.com
SUMMARY:Scent Work Level 1 (New Students)
DESCRIPTION:
URL:https://www.cardunaldogtraining.com/event/scent-work-level-1-5/2024-10-29/
LOCATION:CarDunAl Dog Training Club\, 10783 Wolf Dr.\, Huntley\, IL\, 60142\, United States
CATEGORIES:Scent Work
END:VEVENT
BEGIN:VEVENT
DTSTART;TZID=America/Chicago:20241022T123000
DTEND;TZID=America/Chicago:20241022T133000
DTSTAMP:20260424T022921
CREATED:20240909T021034Z
LAST-MODIFIED:20240909T022008Z
UID:24144-1729600200-1729603800@www.cardunaldogtraining.com
SUMMARY:Scent Work Level 1 (New Students)
DESCRIPTION:
URL:https://www.cardunaldogtraining.com/event/scent-work-level-1-5/2024-10-22/
LOCATION:CarDunAl Dog Training Club\, 10783 Wolf Dr.\, Huntley\, IL\, 60142\, United States
CATEGORIES:Scent Work
END:VEVENT
BEGIN:VEVENT
DTSTART;TZID=America/Chicago:20241015T123000
DTEND;TZID=America/Chicago:20241015T133000
DTSTAMP:20260424T022921
CREATED:20240909T021034Z
LAST-MODIFIED:20240909T022008Z
UID:24143-1728995400-1728999000@www.cardunaldogtraining.com
SUMMARY:Scent Work Level 1 (New Students)
DESCRIPTION:
URL:https://www.cardunaldogtraining.com/event/scent-work-level-1-5/2024-10-15/
LOCATION:CarDunAl Dog Training Club\, 10783 Wolf Dr.\, Huntley\, IL\, 60142\, United States
CATEGORIES:Scent Work
END:VEVENT
BEGIN:VEVENT
DTSTART;TZID=America/Chicago:20241008T123000
DTEND;TZID=America/Chicago:20241008T133000
DTSTAMP:20260424T022921
CREATED:20240909T021034Z
LAST-MODIFIED:20240909T022008Z
UID:24142-1728390600-1728394200@www.cardunaldogtraining.com
SUMMARY:Scent Work Level 1 (New Students)
DESCRIPTION:
URL:https://www.cardunaldogtraining.com/event/scent-work-level-1-5/2024-10-08/
LOCATION:CarDunAl Dog Training Club\, 10783 Wolf Dr.\, Huntley\, IL\, 60142\, United States
CATEGORIES:Scent Work
END:VEVENT
BEGIN:VEVENT
DTSTART;TZID=America/Chicago:20241001T123000
DTEND;TZID=America/Chicago:20241001T133000
DTSTAMP:20260424T022921
CREATED:20240909T021034Z
LAST-MODIFIED:20240909T022007Z
UID:24141-1727785800-1727789400@www.cardunaldogtraining.com
SUMMARY:Scent Work Level 1 (New Students)
DESCRIPTION:
URL:https://www.cardunaldogtraining.com/event/scent-work-level-1-5/2024-10-01/
LOCATION:CarDunAl Dog Training Club\, 10783 Wolf Dr.\, Huntley\, IL\, 60142\, United States
CATEGORIES:Scent Work
END:VEVENT
BEGIN:VEVENT
DTSTART;TZID=America/Chicago:20240924T123000
DTEND;TZID=America/Chicago:20240924T133000
DTSTAMP:20260424T022921
CREATED:20240909T021034Z
LAST-MODIFIED:20240909T022007Z
UID:24140-1727181000-1727184600@www.cardunaldogtraining.com
SUMMARY:Scent Work Level 1 (New Students)
DESCRIPTION:
URL:https://www.cardunaldogtraining.com/event/scent-work-level-1-5/2024-09-24/
LOCATION:CarDunAl Dog Training Club\, 10783 Wolf Dr.\, Huntley\, IL\, 60142\, United States
CATEGORIES:Scent Work
END:VEVENT
BEGIN:VEVENT
DTSTART;TZID=America/Chicago:20240917T123000
DTEND;TZID=America/Chicago:20240917T133000
DTSTAMP:20260424T022921
CREATED:20240909T021034Z
LAST-MODIFIED:20240909T022007Z
UID:24139-1726576200-1726579800@www.cardunaldogtraining.com
SUMMARY:Scent Work Level 1 (New Students)
DESCRIPTION:
URL:https://www.cardunaldogtraining.com/event/scent-work-level-1-5/2024-09-17/
LOCATION:CarDunAl Dog Training Club\, 10783 Wolf Dr.\, Huntley\, IL\, 60142\, United States
CATEGORIES:Scent Work
END:VEVENT
END:VCALENDAR