BEGIN:VCALENDAR
VERSION:2.0
PRODID:-//Car-Dun-Al Dog Obedience Training Club - ECPv6.15.17.1//NONSGML v1.0//EN
CALSCALE:GREGORIAN
METHOD:PUBLISH
X-WR-CALNAME:Car-Dun-Al Dog Obedience Training Club
X-ORIGINAL-URL:https://www.cardunaldogtraining.com
X-WR-CALDESC:Events for Car-Dun-Al Dog Obedience Training Club
REFRESH-INTERVAL;VALUE=DURATION:PT1H
X-Robots-Tag:noindex
X-PUBLISHED-TTL:PT1H
BEGIN:VTIMEZONE
TZID:America/Chicago
BEGIN:DAYLIGHT
TZOFFSETFROM:-0600
TZOFFSETTO:-0500
TZNAME:CDT
DTSTART:20250309T080000
END:DAYLIGHT
BEGIN:STANDARD
TZOFFSETFROM:-0500
TZOFFSETTO:-0600
TZNAME:CST
DTSTART:20251102T070000
END:STANDARD
BEGIN:DAYLIGHT
TZOFFSETFROM:-0600
TZOFFSETTO:-0500
TZNAME:CDT
DTSTART:20260308T080000
END:DAYLIGHT
BEGIN:STANDARD
TZOFFSETFROM:-0500
TZOFFSETTO:-0600
TZNAME:CST
DTSTART:20261101T070000
END:STANDARD
BEGIN:DAYLIGHT
TZOFFSETFROM:-0600
TZOFFSETTO:-0500
TZNAME:CDT
DTSTART:20270314T080000
END:DAYLIGHT
BEGIN:STANDARD
TZOFFSETFROM:-0500
TZOFFSETTO:-0600
TZNAME:CST
DTSTART:20271107T070000
END:STANDARD
END:VTIMEZONE
BEGIN:VEVENT
DTSTART;TZID=America/Chicago:20260428T083000
DTEND;TZID=America/Chicago:20260428T100000
DTSTAMP:20260423T082520
CREATED:20260423T021102Z
LAST-MODIFIED:20260423T021102Z
UID:30058-1777365000-1777370400@www.cardunaldogtraining.com
SUMMARY:Scent Work Level 3
DESCRIPTION:
URL:https://www.cardunaldogtraining.com/event/scent-work-level-3-19/2026-04-28/
LOCATION:CarDunAl Dog Training Club\, 10783 Wolf Dr.\, Huntley\, IL\, 60142\, United States
CATEGORIES:Scent Work
END:VEVENT
BEGIN:VEVENT
DTSTART;TZID=America/Chicago:20260505T083000
DTEND;TZID=America/Chicago:20260505T100000
DTSTAMP:20260423T082520
CREATED:20260423T021102Z
LAST-MODIFIED:20260423T021102Z
UID:30059-1777969800-1777975200@www.cardunaldogtraining.com
SUMMARY:Scent Work Level 3
DESCRIPTION:
URL:https://www.cardunaldogtraining.com/event/scent-work-level-3-19/2026-05-05/
LOCATION:CarDunAl Dog Training Club\, 10783 Wolf Dr.\, Huntley\, IL\, 60142\, United States
CATEGORIES:Scent Work
END:VEVENT
BEGIN:VEVENT
DTSTART;TZID=America/Chicago:20260512T083000
DTEND;TZID=America/Chicago:20260512T100000
DTSTAMP:20260423T082520
CREATED:20260423T021102Z
LAST-MODIFIED:20260423T021102Z
UID:30060-1778574600-1778580000@www.cardunaldogtraining.com
SUMMARY:Scent Work Level 3
DESCRIPTION:
URL:https://www.cardunaldogtraining.com/event/scent-work-level-3-19/2026-05-12/
LOCATION:CarDunAl Dog Training Club\, 10783 Wolf Dr.\, Huntley\, IL\, 60142\, United States
CATEGORIES:Scent Work
END:VEVENT
BEGIN:VEVENT
DTSTART;TZID=America/Chicago:20260519T083000
DTEND;TZID=America/Chicago:20260519T100000
DTSTAMP:20260423T082520
CREATED:20260423T021102Z
LAST-MODIFIED:20260423T021102Z
UID:30061-1779179400-1779184800@www.cardunaldogtraining.com
SUMMARY:Scent Work Level 3
DESCRIPTION:
URL:https://www.cardunaldogtraining.com/event/scent-work-level-3-19/2026-05-19/
LOCATION:CarDunAl Dog Training Club\, 10783 Wolf Dr.\, Huntley\, IL\, 60142\, United States
CATEGORIES:Scent Work
END:VEVENT
BEGIN:VEVENT
DTSTART;TZID=America/Chicago:20260526T083000
DTEND;TZID=America/Chicago:20260526T100000
DTSTAMP:20260423T082520
CREATED:20260423T021102Z
LAST-MODIFIED:20260423T021102Z
UID:30062-1779784200-1779789600@www.cardunaldogtraining.com
SUMMARY:Scent Work Level 3
DESCRIPTION:
URL:https://www.cardunaldogtraining.com/event/scent-work-level-3-19/2026-05-26/
LOCATION:CarDunAl Dog Training Club\, 10783 Wolf Dr.\, Huntley\, IL\, 60142\, United States
CATEGORIES:Scent Work
END:VEVENT
END:VCALENDAR