BEGIN:VCALENDAR
VERSION:2.0
PRODID:-//Car-Dun-Al Dog Obedience Training Club - ECPv6.15.17.1//NONSGML v1.0//EN
CALSCALE:GREGORIAN
METHOD:PUBLISH
X-WR-CALNAME:Car-Dun-Al Dog Obedience Training Club
X-ORIGINAL-URL:https://www.cardunaldogtraining.com
X-WR-CALDESC:Events for Car-Dun-Al Dog Obedience Training Club
REFRESH-INTERVAL;VALUE=DURATION:PT1H
X-Robots-Tag:noindex
X-PUBLISHED-TTL:PT1H
BEGIN:VTIMEZONE
TZID:America/Chicago
BEGIN:DAYLIGHT
TZOFFSETFROM:-0600
TZOFFSETTO:-0500
TZNAME:CDT
DTSTART:20200308T080000
END:DAYLIGHT
BEGIN:STANDARD
TZOFFSETFROM:-0500
TZOFFSETTO:-0600
TZNAME:CST
DTSTART:20201101T070000
END:STANDARD
BEGIN:DAYLIGHT
TZOFFSETFROM:-0600
TZOFFSETTO:-0500
TZNAME:CDT
DTSTART:20210314T080000
END:DAYLIGHT
BEGIN:STANDARD
TZOFFSETFROM:-0500
TZOFFSETTO:-0600
TZNAME:CST
DTSTART:20211107T070000
END:STANDARD
BEGIN:DAYLIGHT
TZOFFSETFROM:-0600
TZOFFSETTO:-0500
TZNAME:CDT
DTSTART:20220313T080000
END:DAYLIGHT
BEGIN:STANDARD
TZOFFSETFROM:-0500
TZOFFSETTO:-0600
TZNAME:CST
DTSTART:20221106T070000
END:STANDARD
END:VTIMEZONE
BEGIN:VEVENT
DTSTART;TZID=America/Chicago:20210227T070000
DTEND;TZID=America/Chicago:20210227T170000
DTSTAMP:20260420T030257
CREATED:20210226T191820Z
LAST-MODIFIED:20210226T192006Z
UID:9325-1614409200-1614445200@www.cardunaldogtraining.com
SUMMARY:Shoreline GSD Club
DESCRIPTION:Location: Trial to be held at Car-Dun-Al ODTC\,  Huntley\, IL \n 
URL:https://www.cardunaldogtraining.com/event/shoreline-gsd-club/2021-02-27/
LOCATION:CarDunAl Dog Training Club\, 10783 Wolf Dr.\, Huntley\, IL\, 60142\, United States
CATEGORIES:Conformation
END:VEVENT
END:VCALENDAR