BEGIN:VCALENDAR
VERSION:2.0
PRODID:-//Car-Dun-Al Dog Obedience Training Club - ECPv6.15.17.1//NONSGML v1.0//EN
CALSCALE:GREGORIAN
METHOD:PUBLISH
X-WR-CALNAME:Car-Dun-Al Dog Obedience Training Club
X-ORIGINAL-URL:https://www.cardunaldogtraining.com
X-WR-CALDESC:Events for Car-Dun-Al Dog Obedience Training Club
REFRESH-INTERVAL;VALUE=DURATION:PT1H
X-Robots-Tag:noindex
X-PUBLISHED-TTL:PT1H
BEGIN:VTIMEZONE
TZID:America/Chicago
BEGIN:DAYLIGHT
TZOFFSETFROM:-0600
TZOFFSETTO:-0500
TZNAME:CDT
DTSTART:20230312T080000
END:DAYLIGHT
BEGIN:STANDARD
TZOFFSETFROM:-0500
TZOFFSETTO:-0600
TZNAME:CST
DTSTART:20231105T070000
END:STANDARD
BEGIN:DAYLIGHT
TZOFFSETFROM:-0600
TZOFFSETTO:-0500
TZNAME:CDT
DTSTART:20240310T080000
END:DAYLIGHT
BEGIN:STANDARD
TZOFFSETFROM:-0500
TZOFFSETTO:-0600
TZNAME:CST
DTSTART:20241103T070000
END:STANDARD
BEGIN:DAYLIGHT
TZOFFSETFROM:-0600
TZOFFSETTO:-0500
TZNAME:CDT
DTSTART:20250309T080000
END:DAYLIGHT
BEGIN:STANDARD
TZOFFSETFROM:-0500
TZOFFSETTO:-0600
TZNAME:CST
DTSTART:20251102T070000
END:STANDARD
BEGIN:DAYLIGHT
TZOFFSETFROM:-0600
TZOFFSETTO:-0500
TZNAME:CDT
DTSTART:20260308T080000
END:DAYLIGHT
BEGIN:STANDARD
TZOFFSETFROM:-0500
TZOFFSETTO:-0600
TZNAME:CST
DTSTART:20261101T070000
END:STANDARD
BEGIN:DAYLIGHT
TZOFFSETFROM:-0600
TZOFFSETTO:-0500
TZNAME:CDT
DTSTART:20270314T080000
END:DAYLIGHT
BEGIN:STANDARD
TZOFFSETFROM:-0500
TZOFFSETTO:-0600
TZNAME:CST
DTSTART:20271107T070000
END:STANDARD
END:VTIMEZONE
BEGIN:VEVENT
DTSTART;VALUE=DATE:20260418
DTEND;VALUE=DATE:20260419
DTSTAMP:20260420T120052
CREATED:20260119T223047Z
LAST-MODIFIED:20260119T223226Z
UID:29460-1776470400-1776556799@www.cardunaldogtraining.com
SUMMARY:Cardunal Agility Run Thru
DESCRIPTION:CARDUNAL’S \nSATURDAY \nAGILITY RUN THRU \nApril 18\, 2026 \nDoors open at 8:30 AM – First Run 9:00 AM \nRunning order:  Small (4 – 16)      2 Run limit. Tall (20 – 24)     2 Run limit. \nAll “Small” will run before starting “Tall”. \nTall dog walk will start at 10:30 AM or after the completion of Small. \nNo Entries accepted after 11:00 AM \nTwo nested courses – Masters and Novice (12 Weaves) \nHandlers are welcome to run a course or work on specific exercises within 2 minutes\, gate to gate\, time limit. \nNon-members Fees:  $5.00 for first entry\, $4.00 for second entry of same dog. \nMember Fees: $4.00 for first entry\, $3.00 for second entry of same dog. \nFace coverings are now optional in the building. Please continue to   \nSocial distance inside and outside the building. \nCrating will be available in the building in designated areas. \nInfo:  Kathy Calhoon 847-977-0388 email: BCDOC1978@gmail.com \nCar-Dun-Al Obedience Dog Training Club \n100783 Wolf Drive\, Huntley IL
URL:https://www.cardunaldogtraining.com/event/cardunal-agility-run-thru-14/
LOCATION:CarDunAl Dog Training Club\, 10783 Wolf Dr.\, Huntley\, IL\, 60142\, United States
CATEGORIES:Events
END:VEVENT
BEGIN:VEVENT
DTSTART;TZID=America/Chicago:20260128T120000
DTEND;TZID=America/Chicago:20260128T140000
DTSTAMP:20260420T120052
CREATED:20251231T005101Z
LAST-MODIFIED:20251231T021147Z
UID:29160-1769601600-1769608800@www.cardunaldogtraining.com
SUMMARY:Rally Extravaganza
DESCRIPTION:
URL:https://www.cardunaldogtraining.com/event/rally-extravaganzas/
LOCATION:CarDunAl Dog Training Club\, 10783 Wolf Dr.\, Huntley\, IL\, 60142\, United States
CATEGORIES:Events
END:VEVENT
BEGIN:VEVENT
DTSTART;VALUE=DATE:20260110
DTEND;VALUE=DATE:20260111
DTSTAMP:20260420T120052
CREATED:20251223T050716Z
LAST-MODIFIED:20251223T050716Z
UID:28707-1768003200-1768089599@www.cardunaldogtraining.com
SUMMARY:Cardunal Agility Run Thru
DESCRIPTION:CARDUNAL’S \nSATURDAY \nAGILITY RUN THRU \nJanuary 10\, 2026 \nDoors open at 8:30 AM – First Run 9:00 AM \nRunning order:  Tall (24 – 20)   2 Run limit. Small (16 – 4)   2 Run limit. \nAll “Tall” will run before starting “Small”. \nSmall dog walk will start at 10:30 AM or after the completion of Tall. \nNo Entries accepted after 11:00 AM \nTwo nested courses – Masters and Novice (12 Weaves) \nHandlers are welcome to run a course or work on specific exercises within 2 minutes\, gate to gate\, time limit. \nNon-members Fees:  $5.00 for first entry\, $4.00 for second entry of same dog. \nMember Fees: $4.00 for first entry\, $3.00 for second entry of same dog. \nFace coverings are now optional in the building. Please continue to   \nSocial distance inside and outside the building. \nCrating will be available in the building in designated areas. \nInfo:  Kathy Calhoon 847-977-0388 email: BCDOC1978@gmail.com \nCar-Dun-Al Obedience Dog Training Club \n100783 Wolf Drive\, Huntley IL
URL:https://www.cardunaldogtraining.com/event/cardunal-agility-run-thru-13/
LOCATION:CarDunAl Dog Training Club\, 10783 Wolf Dr.\, Huntley\, IL\, 60142\, United States
CATEGORIES:Events
END:VEVENT
BEGIN:VEVENT
DTSTART;TZID=America/Chicago:20251213T083000
DTEND;TZID=America/Chicago:20251213T150000
DTSTAMP:20260420T120052
CREATED:20251109T235329Z
LAST-MODIFIED:20251109T235329Z
UID:28399-1765614600-1765638000@www.cardunaldogtraining.com
SUMMARY:Cardunal Agility Run Thru
DESCRIPTION:CARDUNAL’S \nSATURDAY \nAGILITY RUN THRU \nDecember 13\, 2025 \nDoors open at 8:30 AM – First Run 9:00 AM \nRunning order:  Small (4 – 16)      2 Run limit. Tall (20 – 24)     2 Run limit. \nAll “Small” will run before starting “Tall”. \nTall dog walk will start at 10:30 AM or after the completion of Small. \nNo Entries accepted after 11:00 AM \nTwo nested courses – Masters and Novice (12 Weaves) \nHandlers are welcome to run a course or work on specific exercises within 2 minutes\, gate to gate\, time limit. \nNon-members Fees:  $5.00 for first entry\, $4.00 for second entry of same dog. \nMember Fees: $4.00 for first entry\, $3.00 for second entry of same dog. \nFace coverings are now optional in the building. Please continue to   \nSocial distance inside and outside the building. \nCrating will be available in the building in designated areas. \nInfo:  Kathy Calhoon 847-977-0388 email: BCDOC1978@gmail.com \nCar-Dun-Al Obedience Dog Training Club \n100783 Wolf Drive\, Huntley IL
URL:https://www.cardunaldogtraining.com/event/cardunal-agility-run-thru-12/
LOCATION:CarDunAl Dog Training Club\, 10783 Wolf Dr.\, Huntley\, IL\, 60142\, United States
CATEGORIES:Events
END:VEVENT
BEGIN:VEVENT
DTSTART;VALUE=DATE:20251025
DTEND;VALUE=DATE:20251026
DTSTAMP:20260420T120052
CREATED:20250829T182828Z
LAST-MODIFIED:20250907T001046Z
UID:27746-1761350400-1761436799@www.cardunaldogtraining.com
SUMMARY:Cardunal Agility Run Thru
DESCRIPTION:CARDUNAL’S \nSATURDAY \nAGILITY RUN THRU \nOctober 25\, 2025 \nDoors open at 8:30 AM – First Run 9:00 AM \nRunning order:  Tall (24 – 20)   2 Run limit. Small (16 – 4)   2 Run limit. \nAll “Tall” will run before starting “Small”. \nSmall dog walk will start at 10:30 AM or after the completion of Tall. \nNo Entries accepted after 11:00 AM \nTwo nested courses – Masters and Novice (12 Weaves) \nHandlers are welcome to run a course or work on specific exercises within 2 minutes\, gate to gate\, time limit. \nNon-members Fees:  $5.00 for first entry\, $4.00 for second entry of same dog. \nMember Fees: $4.00 for first entry\, $3.00 for second entry of same dog. \nFace coverings are now optional in the building. Please continue to   \nSocial distance inside and outside the building. \nCrating will be available in the building in designated areas. \nInfo:  Kathy Calhoon 847-977-0388 email: BCDOC1978@gmail.com \nCar-Dun-Al Obedience Dog Training Club \n100783 Wolf Drive\, Huntley IL
URL:https://www.cardunaldogtraining.com/event/cardunal-agility-run-thru-11/
LOCATION:CarDunAl Dog Training Club\, 10783 Wolf Dr.\, Huntley\, IL\, 60142\, United States
CATEGORIES:Events
END:VEVENT
BEGIN:VEVENT
DTSTART;VALUE=DATE:20250905
DTEND;VALUE=DATE:20250906
DTSTAMP:20260420T120052
CREATED:20241102T015525Z
LAST-MODIFIED:20241102T015525Z
UID:24762-1757030400-1757030400@www.cardunaldogtraining.com
SUMMARY:Mat Cleaning
DESCRIPTION:
URL:https://www.cardunaldogtraining.com/event/mat-cleaning-13/
LOCATION:CarDunAl Dog Training Club\, 10783 Wolf Dr.\, Huntley\, IL\, 60142\, United States
CATEGORIES:Events
END:VEVENT
BEGIN:VEVENT
DTSTART;TZID=America/Chicago:20250820T120000
DTEND;TZID=America/Chicago:20250820T140000
DTSTAMP:20260420T120052
CREATED:20241221T013426Z
LAST-MODIFIED:20241221T013426Z
UID:25314-1755691200-1755698400@www.cardunaldogtraining.com
SUMMARY:Rally Extravaganza
DESCRIPTION:
URL:https://www.cardunaldogtraining.com/event/rally-extravaganza-5/
LOCATION:CarDunAl Dog Training Club\, 10783 Wolf Dr.\, Huntley\, IL\, 60142\, United States
CATEGORIES:Events
END:VEVENT
BEGIN:VEVENT
DTSTART;TZID=America/Chicago:20250813T120000
DTEND;TZID=America/Chicago:20250813T140000
DTSTAMP:20260420T120052
CREATED:20241221T013254Z
LAST-MODIFIED:20241221T013254Z
UID:25312-1755086400-1755093600@www.cardunaldogtraining.com
SUMMARY:Rally Extravaganza
DESCRIPTION:
URL:https://www.cardunaldogtraining.com/event/rally-extravaganza-4/
LOCATION:CarDunAl Dog Training Club\, 10783 Wolf Dr.\, Huntley\, IL\, 60142\, United States
CATEGORIES:Events
END:VEVENT
BEGIN:VEVENT
DTSTART;VALUE=DATE:20250622
DTEND;VALUE=DATE:20250623
DTSTAMP:20260420T120052
CREATED:20250122T024947Z
LAST-MODIFIED:20250122T024947Z
UID:26054-1750550400-1750636799@www.cardunaldogtraining.com
SUMMARY:CGCA – Canine Good Citizen Test Advanced
DESCRIPTION:
URL:https://www.cardunaldogtraining.com/event/cgca-canine-good-citizen-test-advanced-2/
LOCATION:CarDunAl Dog Training Club\, 10783 Wolf Dr.\, Huntley\, IL\, 60142\, United States
CATEGORIES:Events
END:VEVENT
BEGIN:VEVENT
DTSTART;VALUE=DATE:20250622
DTEND;VALUE=DATE:20250623
DTSTAMP:20260420T120052
CREATED:20250122T024845Z
LAST-MODIFIED:20250122T024845Z
UID:26052-1750550400-1750636799@www.cardunaldogtraining.com
SUMMARY:CGC – Canine Good Citizen test
DESCRIPTION:
URL:https://www.cardunaldogtraining.com/event/cgc-canine-good-citizen-test-3/
LOCATION:CarDunAl Dog Training Club\, 10783 Wolf Dr.\, Huntley\, IL\, 60142\, United States
CATEGORIES:Events
END:VEVENT
BEGIN:VEVENT
DTSTART;VALUE=DATE:20250622
DTEND;VALUE=DATE:20250623
DTSTAMP:20260420T120052
CREATED:20250122T024741Z
LAST-MODIFIED:20250122T024741Z
UID:26050-1750550400-1750636799@www.cardunaldogtraining.com
SUMMARY:AKC Temperament Test
DESCRIPTION:
URL:https://www.cardunaldogtraining.com/event/akc-temperament-test-2/
LOCATION:CarDunAl Dog Training Club\, 10783 Wolf Dr.\, Huntley\, IL\, 60142\, United States
CATEGORIES:Events
END:VEVENT
BEGIN:VEVENT
DTSTART;VALUE=DATE:20250621
DTEND;VALUE=DATE:20250622
DTSTAMP:20260420T120052
CREATED:20250519T011655Z
LAST-MODIFIED:20250519T011655Z
UID:27104-1750464000-1750550399@www.cardunaldogtraining.com
SUMMARY:Cardunal Agility Run Thru
DESCRIPTION:CARDUNAL’S \nSATURDAY \nAGILITY RUN THRU \nJune 21\, 2025 \nDoors open at 8:30 AM – First Run 9:00 AM \nRunning order:  Small (4 – 16)      2 Run limit. Tall (20 – 24)     2 Run limit. \nAll “Small” will run before starting “Tall”. \nTall dog walk will start at 10:45 AM or after the completion of Small. \nNo Entries accepted after 11:00 AM \nTwo nested courses – Masters and Novice (12 Weaves) \nHandlers are welcome to run a course or work on specific exercises within 2 minutes\, gate to gate\, time limit. \nNon-members Fees:  $5.00 for first entry\, $4.00 for second entry of same dog. \nMember Fees: $4.00 for first entry\, $3.00 for second entry of same dog. \nFace coverings are now optional in the building. Please continue to   \nSocial distance inside and outside the building. \nCrating will be available in the building in designated areas. \nInfo:  Kathy Calhoon 847-977-0388 email: BCDOC1978@gmail.com \nCar-Dun-Al Obedience Dog Training Club \n100783 Wolf Drive\, Huntley IL
URL:https://www.cardunaldogtraining.com/event/cardunal-agility-run-thru-9/
LOCATION:CarDunAl Dog Training Club\, 10783 Wolf Dr.\, Huntley\, IL\, 60142\, United States
CATEGORIES:Events
END:VEVENT
BEGIN:VEVENT
DTSTART;VALUE=DATE:20250621
DTEND;VALUE=DATE:20250622
DTSTAMP:20260420T120052
CREATED:20250122T024533Z
LAST-MODIFIED:20250122T024533Z
UID:26048-1750464000-1750550399@www.cardunaldogtraining.com
SUMMARY:CGCU – Canine Good Citizen Urban test
DESCRIPTION:
URL:https://www.cardunaldogtraining.com/event/cgcu-canine-good-citizen-urban-test-2/
LOCATION:CarDunAl Dog Training Club\, 10783 Wolf Dr.\, Huntley\, IL\, 60142\, United States
CATEGORIES:Events
END:VEVENT
BEGIN:VEVENT
DTSTART;VALUE=DATE:20250606
DTEND;VALUE=DATE:20250607
DTSTAMP:20260420T120052
CREATED:20241102T004455Z
LAST-MODIFIED:20241102T004455Z
UID:24725-1749168000-1749254399@www.cardunaldogtraining.com
SUMMARY:Mat Cleaning
DESCRIPTION:
URL:https://www.cardunaldogtraining.com/event/mat-cleaning-12/
LOCATION:CarDunAl Dog Training Club\, 10783 Wolf Dr.\, Huntley\, IL\, 60142\, United States
CATEGORIES:Events
END:VEVENT
BEGIN:VEVENT
DTSTART;TZID=America/Chicago:20250412T090000
DTEND;TZID=America/Chicago:20250412T150000
DTSTAMP:20260420T120052
CREATED:20250319T023831Z
LAST-MODIFIED:20250319T023831Z
UID:26479-1744448400-1744470000@www.cardunaldogtraining.com
SUMMARY:Cardunal Agility Run Thru
DESCRIPTION:CARDUNAL’S \nSATURDAY \nAGILITY RUN THRU \nApril 12\, 2025 \nDoors open at 8:30 AM – First Run 9:00 AM \nRunning order:  Tall (24 – 20)   2 Run limit. Small (16 – 4)   2 Run limit. \nAll “Tall” will run before starting “Small”. \nSmall dog walk will start at 10:30 AM or after the completion of Tall. \nNo Entries accepted after 11:00 AM \nTwo nested courses – Masters and Novice (12 Weaves) \nHandlers are welcome to run a course or work on specific exercises within 2 minutes\, gate to gate\, time limit. \nNon-members Fees:  $5.00 for first entry\, $4.00 for second entry of same dog. \nMember Fees: $4.00 for first entry\, $3.00 for second entry of same dog. \nFace coverings are now optional in the building. Please continue to   \nSocial distance inside and outside the building. \nCrating will be available in the building in designated areas. \nInfo:  Kathy Calhoon 847-977-0388 email: BCDOC1978@gmail.com \nCar-Dun-Al Obedience Dog Training Club \n100783 Wolf Drive\, Huntley IL
URL:https://www.cardunaldogtraining.com/event/cardunal-agility-run-thru-10/
LOCATION:CarDunAl Dog Training Club\, 10783 Wolf Dr.\, Huntley\, IL\, 60142\, United States
CATEGORIES:Events
END:VEVENT
BEGIN:VEVENT
DTSTART;TZID=America/Chicago:20250222T090000
DTEND;TZID=America/Chicago:20250222T143000
DTSTAMP:20260420T120052
CREATED:20250116T171726Z
LAST-MODIFIED:20250203T220437Z
UID:26037-1740214800-1740234600@www.cardunaldogtraining.com
SUMMARY:Cardunal Agility Run Thru
DESCRIPTION:CARDUNAL’S \nSATURDAY \nAGILITY RUN THRU \nFebruary 22\, 2025 \nDoors open at 8:30 AM – First Run 9:00 AM \nRunning order:  Small (4 – 16)      2 Run limit. Tall (20 – 24)     2 Run limit. \nAll “Small” will run before starting “Tall”. \nTall dog walk will start at 10:45 AM or after the completion of Small. \nNo Entries accepted after 11:00 AM \nTwo nested courses – Masters and Novice (12 Weaves) \nHandlers are welcome to run a course or work on specific exercises within 2 minutes\, gate to gate\, time limit. \nNon-members Fees:  $5.00 for first entry\, $4.00 for second entry of same dog. \nMember Fees: $4.00 for first entry\, $3.00 for second entry of same dog. \nFace coverings are now optional in the building. Please continue to   \nSocial distance inside and outside the building. \nCrating will be available in the building in designated areas. \nInfo:  Kathy Calhoon 847-977-0388 email: BCDOC1978@gmail.com \nCar-Dun-Al Obedience Dog Training Club \n100783 Wolf Drive\, Huntley IL
URL:https://www.cardunaldogtraining.com/event/cardunal-agility-run-thru-8/
LOCATION:CarDunAl Dog Training Club\, 10783 Wolf Dr.\, Huntley\, IL\, 60142\, United States
CATEGORIES:Events
END:VEVENT
BEGIN:VEVENT
DTSTART;TZID=America/Chicago:20250208T180000
DTEND;TZID=America/Chicago:20250208T220000
DTSTAMP:20260420T120052
CREATED:20241027T213045Z
LAST-MODIFIED:20241027T214542Z
UID:24660-1739037600-1739052000@www.cardunaldogtraining.com
SUMMARY:Cardunal Awards Banquet
DESCRIPTION:
URL:https://www.cardunaldogtraining.com/event/cda-awards-banquet-2/
LOCATION:CarDunAl Dog Training Club\, 10783 Wolf Dr.\, Huntley\, IL\, 60142\, United States
CATEGORIES:Events
END:VEVENT
BEGIN:VEVENT
DTSTART;TZID=America/Chicago:20250129T120000
DTEND;TZID=America/Chicago:20250129T140000
DTSTAMP:20260420T120052
CREATED:20250130T122453Z
LAST-MODIFIED:20250130T122453Z
UID:26076-1738152000-1738159200@www.cardunaldogtraining.com
SUMMARY:Cardunal Rally Extravaganza
DESCRIPTION:
URL:https://www.cardunaldogtraining.com/event/cardunal-rally-extravaganza/
LOCATION:CarDunAl Dog Training Club\, 10783 Wolf Dr.\, Huntley\, IL\, 60142\, United States
CATEGORIES:Events
END:VEVENT
BEGIN:VEVENT
DTSTART;TZID=America/Chicago:20250118T090000
DTEND;TZID=America/Chicago:20250118T150000
DTSTAMP:20260420T120052
CREATED:20241231T014935Z
LAST-MODIFIED:20241231T015206Z
UID:25733-1737190800-1737212400@www.cardunaldogtraining.com
SUMMARY:Agility Run Thru
DESCRIPTION:CARDUNAL’S \nSATURDAY \nAGILITY RUN THRU \nJanuary 18\, 2025 \nDoors open at 8:30 AM – First Run 9:00 AM \nRunning order:  Tall (24 – 20)   2 Run limit. Small (16 – 4)   2 Run limit. \nAll “Tall” will run before starting “Small”. \nSmall dog walk will start at 10:30 AM or after the completion of Tall. \nNo Entries accepted after 11:00 AM \nTwo nested courses – Masters and Novice (12 Weaves) \nHandlers are welcome to run a course or work on specific exercises within 2 minutes\, gate to gate\, time limit. \nNon-members Fees:  $5.00 for first entry\, $4.00 for second entry of same dog. \nMember Fees: $4.00 for first entry\, $3.00 for second entry of same dog. \nFace coverings are now optional in the building. Please continue to   \nSocial distance inside and outside the building. \nCrating will be available in the building in designated areas. \nInfo:  Kathy Calhoon 847-977-0388 email: BCDOC1978@gmail.com \nCar-Dun-Al Obedience Dog Training Club \n100783 Wolf Drive\, Huntley IL
URL:https://www.cardunaldogtraining.com/event/agility-run-thru-13/
LOCATION:CarDunAl Dog Training Club\, 10783 Wolf Dr.\, Huntley\, IL\, 60142\, United States
CATEGORIES:Events
END:VEVENT
BEGIN:VEVENT
DTSTART;TZID=America/Chicago:20241106T120000
DTEND;TZID=America/Chicago:20241106T140000
DTSTAMP:20260420T120052
CREATED:20241102T001654Z
LAST-MODIFIED:20241102T001654Z
UID:24699-1730894400-1730901600@www.cardunaldogtraining.com
SUMMARY:Rally Extravaganza
DESCRIPTION:
URL:https://www.cardunaldogtraining.com/event/rally-extravaganza-3/
LOCATION:CarDunAl Dog Training Club\, 10783 Wolf Dr.\, Huntley\, IL\, 60142\, United States
CATEGORIES:Events
END:VEVENT
BEGIN:VEVENT
DTSTART;VALUE=DATE:20241026
DTEND;VALUE=DATE:20241027
DTSTAMP:20260420T120052
CREATED:20240614T161426Z
LAST-MODIFIED:20240911T003637Z
UID:22960-1729900800-1729987199@www.cardunaldogtraining.com
SUMMARY:Cardunal Agility Run Thru
DESCRIPTION:CARDUNAL’S \nSATURDAY \nAGILITY RUN THRU \nOctober 26\, 2024 \nDoors open at 8:30 AM – First Run 9:00 AM \nRunning order:  Small (4 – 16)      2 Run limit. Tall (20 – 24)     2 Run limit. \nAll “Small” will run before starting “Tall”. \nTall dog walk will start at 10:45 AM or after the completion of Small. \nNo Entries accepted after 11:00 AM \nTwo nested courses – Masters and Novice (12 Weaves) \nHandlers are welcome to run a course or work on specific exercises within 2 minutes\, gate to gate\, time limit. \nNon-members Fees:  $5.00 for first entry\, $4.00 for second entry of same dog. \nMember Fees: $4.00 for first entry\, $3.00 for second entry of same dog. \nFace coverings are now optional in the building. Please continue to   \nSocial distance inside and outside the building. \nCrating will be available in the building in designated areas. \nInfo:  Kathy Calhoon 847-977-0388 email: BCDOC1978@gmail.com \nCar-Dun-Al Obedience Dog Training Club \n100783 Wolf Drive\, Huntley IL
URL:https://www.cardunaldogtraining.com/event/cardunal-agility-run-thru-7/
LOCATION:CarDunAl Dog Training Club\, 10783 Wolf Dr.\, Huntley\, IL\, 60142\, United States
CATEGORIES:Events
END:VEVENT
BEGIN:VEVENT
DTSTART;VALUE=DATE:20241013
DTEND;VALUE=DATE:20241014
DTSTAMP:20260420T120052
CREATED:20231019T022321Z
LAST-MODIFIED:20231019T022321Z
UID:19385-1728777600-1728863999@www.cardunaldogtraining.com
SUMMARY:Husky Club of Chicago Specialty
DESCRIPTION:
URL:https://www.cardunaldogtraining.com/event/husky-club-of-chicago-specialty-2/
LOCATION:CarDunAl Dog Training Club\, 10783 Wolf Dr.\, Huntley\, IL\, 60142\, United States
CATEGORIES:Events
END:VEVENT
BEGIN:VEVENT
DTSTART;VALUE=DATE:20241012
DTEND;VALUE=DATE:20241013
DTSTAMP:20260420T120052
CREATED:20231019T022107Z
LAST-MODIFIED:20231019T022107Z
UID:19383-1728691200-1728777599@www.cardunaldogtraining.com
SUMMARY:Husky Club of Chicago Specialty
DESCRIPTION:
URL:https://www.cardunaldogtraining.com/event/husky-club-of-chicago-specialty/
LOCATION:CarDunAl Dog Training Club\, 10783 Wolf Dr.\, Huntley\, IL\, 60142\, United States
CATEGORIES:Events
END:VEVENT
BEGIN:VEVENT
DTSTART;TZID=America/Chicago:20240821T120000
DTEND;TZID=America/Chicago:20240821T140000
DTSTAMP:20260420T120052
CREATED:20240802T020712Z
LAST-MODIFIED:20250203T220117Z
UID:23288-1724241600-1724248800@www.cardunaldogtraining.com
SUMMARY:Rally Extravaganza
DESCRIPTION:
URL:https://www.cardunaldogtraining.com/event/rally-extravaganza-2/
LOCATION:CarDunAl Dog Training Club\, 10783 Wolf Dr.\, Huntley\, IL\, 60142\, United States
CATEGORIES:Events
END:VEVENT
BEGIN:VEVENT
DTSTART;TZID=America/Chicago:20240814T120000
DTEND;TZID=America/Chicago:20240814T140000
DTSTAMP:20260420T120052
CREATED:20240802T020636Z
LAST-MODIFIED:20240802T231357Z
UID:23286-1723636800-1723644000@www.cardunaldogtraining.com
SUMMARY:Rally Extravaganza
DESCRIPTION:
URL:https://www.cardunaldogtraining.com/event/rally-extravaganza/
LOCATION:CarDunAl Dog Training Club\, 10783 Wolf Dr.\, Huntley\, IL\, 60142\, United States
CATEGORIES:Events
END:VEVENT
BEGIN:VEVENT
DTSTART;VALUE=DATE:20240622
DTEND;VALUE=DATE:20240623
DTSTAMP:20260420T120052
CREATED:20240522T015554Z
LAST-MODIFIED:20240530T191759Z
UID:22200-1719014400-1719100799@www.cardunaldogtraining.com
SUMMARY:Agility Run Thru
DESCRIPTION:CARDUNAL’S \nSATURDAY \nAGILITY RUN THRU \nJune 22\, 2024 \nDoors open at 8:30 AM – First Run 9:00 AM \nRunning order:  Tall (24 – 20)     2 Run limit. \nAll “Tall” will run before starting “Small” \nSmall (16 – 4)      2 Run limit. \nSmall dog walk will start at 10:45 AM or after the completion of Tall. \nNo Entries accepted after 11:00 AM \nTwo nested courses – Masters and Novice (12 Weaves) \nHandlers are welcome to run a course or work on specific exercises within 2 minutes\, gate to gate\, time limit. \nNon-members Fees:  $5.00 for first entry\, $4.00 for second entry of same dog. \nMember Fees: $4.00 for first entry\, $3.00 for second entry of same dog. \nFace coverings are now optional in the building. Please continue to   \nSocial distance inside and outside the building. \nCrating will be available in the building in designated areas. \nInfo:  Kathy Calhoon 847-977-0388 email: BCDOC1978@gmail.com \nCar-Dun-Al Obedience Dog Training Club \n100783 Wolf Drive\, Huntley IL
URL:https://www.cardunaldogtraining.com/event/agility-run-thru-12/
LOCATION:CarDunAl Dog Training Club\, 10783 Wolf Dr.\, Huntley\, IL\, 60142\, United States
CATEGORIES:Events
END:VEVENT
BEGIN:VEVENT
DTSTART;TZID=America/Chicago:20240413T083000
DTEND;TZID=America/Chicago:20240413T140000
DTSTAMP:20260420T120052
CREATED:20240307T030956Z
LAST-MODIFIED:20240324T175855Z
UID:21806-1712997000-1713016800@www.cardunaldogtraining.com
SUMMARY:Agility Run Thru
DESCRIPTION:CARDUNAL’S \nSATURDAY \nAGILITY RUN THRU \nApril 13\, 2024 \nDoors open at 8:30 AM – First Run 9:00 AM \nRunning order:  Tall (24 – 20)     2 Run limit. \nAll “Tall” will run before starting “Small” \nSmall (16 – 4)      2 Run limit. \nSmall dog walk will start at 10:45 AM or after the completion of Tall. \nNo Entries accepted after 11:00 AM \nTwo nested courses – Masters and Novice (12 Weaves) \nHandlers are welcome to run a course or work on specific exercises within 2 minutes\, gate to gate\, time limit. \nNon-members Fees:  $5.00 for first entry\, $4.00 for second entry of same dog. \nMember Fees: $4.00 for first entry\, $3.00 for second entry of same dog. \nFace coverings are now optional in the building. Please continue to   \nSocial distance inside and outside the building. \nCrating will be available in the building in designated areas. \nInfo:  Kathy Calhoon 847-977-0388 email: BCDOC1978@gmail.com \nCar-Dun-Al Obedience Dog Training Club \n100783 Wolf Drive\, Huntley IL
URL:https://www.cardunaldogtraining.com/event/agility-run-thru-11/2024-04-13/
LOCATION:CarDunAl Dog Training Club\, 10783 Wolf Dr.\, Huntley\, IL\, 60142\, United States
CATEGORIES:Events
END:VEVENT
BEGIN:VEVENT
DTSTART;VALUE=DATE:20240308
DTEND;VALUE=DATE:20240309
DTSTAMP:20260420T120052
CREATED:20231017T011748Z
LAST-MODIFIED:20231017T011804Z
UID:19247-1709856000-1709942399@www.cardunaldogtraining.com
SUMMARY:Belgian Tervuren Specialty
DESCRIPTION:
URL:https://www.cardunaldogtraining.com/event/8-th-belgian-tervuren-specialty/
LOCATION:CarDunAl Dog Training Club\, 10783 Wolf Dr.\, Huntley\, IL\, 60142\, United States
CATEGORIES:Events
END:VEVENT
BEGIN:VEVENT
DTSTART;VALUE=DATE:20240224
DTEND;VALUE=DATE:20240225
DTSTAMP:20260420T120052
CREATED:20240122T194035Z
LAST-MODIFIED:20240122T194112Z
UID:20738-1708732800-1708819199@www.cardunaldogtraining.com
SUMMARY:Cardunal Agility Run Thru
DESCRIPTION:CARDUNAL’S \nSATURDAY \nAGILITY RUN THRU \nFebruary 24\, 2024 \nDoors open at 8:30 AM – First Run 9:00 AM \nRunning order:  Small (4 – 16)      2 Run limit. \nAll “Small” will run before starting “Tall”. \nTall (20 – 24)     2 Run limit. \nTall dog walk will start at 10:30 AM or after the completion of Small. \nNo Entries accepted after 11:00 AM \nTwo nested courses – Masters and Novice (12 Weaves) \nHandlers are welcome to run a course or work on specific exercises within 2 minutes\, gate to gate\, time limit. \nNon-members Fees:  $5.00 for first entry\, $4.00 for second entry of same dog. \nMember Fees: $4.00 for first entry\, $3.00 for second entry of same dog. \nFace coverings are now optional in the building. Please continue to   \nSocial distance inside and outside the building. \nCrating will be available in the building in designated areas. \nInfo:  Kathy Calhoon 847-977-0388 email: BCDOC1978@gmail.com \nCar-Dun-Al Obedience Dog Training Club \n100783 Wolf Drive\, Huntley IL
URL:https://www.cardunaldogtraining.com/event/cardunal-agility-run-thru-6/
LOCATION:CarDunAl Dog Training Club\, 10783 Wolf Dr.\, Huntley\, IL\, 60142\, United States
CATEGORIES:Events
END:VEVENT
BEGIN:VEVENT
DTSTART;VALUE=DATE:20240120
DTEND;VALUE=DATE:20240121
DTSTAMP:20260420T120052
CREATED:20231214T224144Z
LAST-MODIFIED:20231214T224144Z
UID:20522-1705708800-1705795199@www.cardunaldogtraining.com
SUMMARY:Agility Run Thru
DESCRIPTION:CARDUNAL’S \nSATURDAY \nAGILITY RUN THRU \nJanuary 20\, 2024 \nDoors open at 8:30 AM – First Run 9:00 AM \nRunning order:  Tall (24 – 20)     2 Run limit. \nAll “Tall” will run before starting “Small”. \nSmall (16 – 4)      2 Run limit. \nSmall dog walk will start at 10:30 AM or after the completion of Tall. \nNo Entries accepted after 11:00 AM \nTwo nested courses – Masters and Novice (12 Weaves) \nHandlers are welcome to run a course or work on specific exercises within 2 minutes\, gate to gate\, time limit. \nNon-members Fees:  $5.00 for first entry\, $4.00 for second entry of same dog. \nMember Fees: $4.00 for first entry\, $3.00 for second entry of same dog. \nFace coverings are now optional in the building. Please continue to   \nSocial distance inside and outside the building. \nCrating will be available in the building in designated areas. \nInfo:  Kathy Calhoon 847-977-0388 email: BCDOC1978@gmail.com \nCar-Dun-Al Obedience Dog Training Club \n100783 Wolf Drive\, Huntley IL
URL:https://www.cardunaldogtraining.com/event/agility-run-thru-10/
LOCATION:CarDunAl Dog Training Club\, 10783 Wolf Dr.\, Huntley\, IL\, 60142\, United States
CATEGORIES:Events
END:VEVENT
END:VCALENDAR