BEGIN:VCALENDAR
VERSION:2.0
PRODID:-//Car-Dun-Al Dog Obedience Training Club - ECPv6.15.17.1//NONSGML v1.0//EN
CALSCALE:GREGORIAN
METHOD:PUBLISH
X-WR-CALNAME:Car-Dun-Al Dog Obedience Training Club
X-ORIGINAL-URL:https://www.cardunaldogtraining.com
X-WR-CALDESC:Events for Car-Dun-Al Dog Obedience Training Club
REFRESH-INTERVAL;VALUE=DURATION:PT1H
X-Robots-Tag:noindex
X-PUBLISHED-TTL:PT1H
BEGIN:VTIMEZONE
TZID:America/Chicago
BEGIN:DAYLIGHT
TZOFFSETFROM:-0600
TZOFFSETTO:-0500
TZNAME:CDT
DTSTART:20250309T080000
END:DAYLIGHT
BEGIN:STANDARD
TZOFFSETFROM:-0500
TZOFFSETTO:-0600
TZNAME:CST
DTSTART:20251102T070000
END:STANDARD
BEGIN:DAYLIGHT
TZOFFSETFROM:-0600
TZOFFSETTO:-0500
TZNAME:CDT
DTSTART:20260308T080000
END:DAYLIGHT
BEGIN:STANDARD
TZOFFSETFROM:-0500
TZOFFSETTO:-0600
TZNAME:CST
DTSTART:20261101T070000
END:STANDARD
BEGIN:DAYLIGHT
TZOFFSETFROM:-0600
TZOFFSETTO:-0500
TZNAME:CDT
DTSTART:20270314T080000
END:DAYLIGHT
BEGIN:STANDARD
TZOFFSETFROM:-0500
TZOFFSETTO:-0600
TZNAME:CST
DTSTART:20271107T070000
END:STANDARD
END:VTIMEZONE
BEGIN:VEVENT
DTSTART;TZID=America/Chicago:20260520T120000
DTEND;TZID=America/Chicago:20260520T140000
DTSTAMP:20260420T120332
CREATED:20251231T005340Z
LAST-MODIFIED:20251231T005340Z
UID:29166-1779278400-1779285600@www.cardunaldogtraining.com
SUMMARY:Cone Crazy Rally Finale
DESCRIPTION:
URL:https://www.cardunaldogtraining.com/event/cone-crazy-rally-finale/
LOCATION:CarDunAl Dog Training Club\, 10783 Wolf Dr.\, Huntley\, IL\, 60142\, United States
CATEGORIES:Events
END:VEVENT
BEGIN:VEVENT
DTSTART;VALUE=DATE:20260613
DTEND;VALUE=DATE:20260614
DTSTAMP:20260420T120332
CREATED:20260417T015411Z
LAST-MODIFIED:20260417T015411Z
UID:29636-1781308800-1781395199@www.cardunaldogtraining.com
SUMMARY:CGCU – Canine Good Citizen Urban test
DESCRIPTION:
URL:https://www.cardunaldogtraining.com/event/cgcu-canine-good-citizen-urban-test-3/
LOCATION:CarDunAl Dog Training Club\, 10783 Wolf Dr.\, Huntley\, IL\, 60142\, United States
CATEGORIES:Events
END:VEVENT
BEGIN:VEVENT
DTSTART;VALUE=DATE:20260614
DTEND;VALUE=DATE:20260615
DTSTAMP:20260420T120332
CREATED:20260417T015306Z
LAST-MODIFIED:20260417T015306Z
UID:29634-1781395200-1781481599@www.cardunaldogtraining.com
SUMMARY:AKC Temperament Test
DESCRIPTION:
URL:https://www.cardunaldogtraining.com/event/akc-temperament-test-3/
LOCATION:CarDunAl Dog Training Club\, 10783 Wolf Dr.\, Huntley\, IL\, 60142\, United States
CATEGORIES:Events
END:VEVENT
BEGIN:VEVENT
DTSTART;VALUE=DATE:20260614
DTEND;VALUE=DATE:20260615
DTSTAMP:20260420T120332
CREATED:20260417T015522Z
LAST-MODIFIED:20260417T015522Z
UID:29638-1781395200-1781481599@www.cardunaldogtraining.com
SUMMARY:CGC – Canine Good Citizen test
DESCRIPTION:
URL:https://www.cardunaldogtraining.com/event/cgc-canine-good-citizen-test-4/
LOCATION:CarDunAl Dog Training Club\, 10783 Wolf Dr.\, Huntley\, IL\, 60142\, United States
CATEGORIES:Events
END:VEVENT
BEGIN:VEVENT
DTSTART;VALUE=DATE:20260614
DTEND;VALUE=DATE:20260615
DTSTAMP:20260420T120332
CREATED:20260417T015611Z
LAST-MODIFIED:20260417T015611Z
UID:29640-1781395200-1781481599@www.cardunaldogtraining.com
SUMMARY:CGCA – Canine Good Citizen Test Advanced
DESCRIPTION:
URL:https://www.cardunaldogtraining.com/event/cgca-canine-good-citizen-test-advanced-3/
LOCATION:CarDunAl Dog Training Club\, 10783 Wolf Dr.\, Huntley\, IL\, 60142\, United States
CATEGORIES:Events
END:VEVENT
BEGIN:VEVENT
DTSTART;VALUE=DATE:20260620
DTEND;VALUE=DATE:20260621
DTSTAMP:20260420T120332
CREATED:20260119T223349Z
LAST-MODIFIED:20260119T223919Z
UID:29464-1781913600-1781999999@www.cardunaldogtraining.com
SUMMARY:Cardunal Agility Run Thru
DESCRIPTION:CARDUNAL’S \nSATURDAY \nAGILITY RUN THRU \nJune 20\, 2026 \nDoors open at 8:30 AM – First Run 9:00 AM \nRunning order:  Tall (24 – 20)   2 Run limit. Small (16 – 4)   2 Run limit. \nAll “Tall” will run before starting “Small”. \nSmall dog walk will start at 10:30 AM or after the completion of Tall. \nNo Entries accepted after 11:00 AM \nTwo nested courses – Masters and Novice (12 Weaves) \nHandlers are welcome to run a course or work on specific exercises within 2 minutes\, gate to gate\, time limit. \nNon-members Fees:  $5.00 for first entry\, $4.00 for second entry of same dog. \nMember Fees: $4.00 for first entry\, $3.00 for second entry of same dog. \nFace coverings are now optional in the building. Please continue to   \nSocial distance inside and outside the building. \nCrating will be available in the building in designated areas. \nInfo:  Kathy Calhoon 847-977-0388 email: BCDOC1978@gmail.com \nCar-Dun-Al Obedience Dog Training Club \n100783 Wolf Drive\, Huntley IL
URL:https://www.cardunaldogtraining.com/event/cardunal-agility-run-thru-15/
LOCATION:CarDunAl Dog Training Club\, 10783 Wolf Dr.\, Huntley\, IL\, 60142\, United States
CATEGORIES:Events
END:VEVENT
BEGIN:VEVENT
DTSTART;TZID=America/Chicago:20260819T120000
DTEND;TZID=America/Chicago:20260819T140000
DTSTAMP:20260420T120332
CREATED:20251231T005149Z
LAST-MODIFIED:20251231T021227Z
UID:29162-1787140800-1787148000@www.cardunaldogtraining.com
SUMMARY:Rally Extravaganza
DESCRIPTION:
URL:https://www.cardunaldogtraining.com/event/rally-extravaganzas-2/
LOCATION:CarDunAl Dog Training Club\, 10783 Wolf Dr.\, Huntley\, IL\, 60142\, United States
CATEGORIES:Events
END:VEVENT
BEGIN:VEVENT
DTSTART;VALUE=DATE:20260829
DTEND;VALUE=DATE:20260830
DTSTAMP:20260420T120332
CREATED:20260119T224154Z
LAST-MODIFIED:20260119T224154Z
UID:29468-1787961600-1788047999@www.cardunaldogtraining.com
SUMMARY:Cardunal Agility Run Thru
DESCRIPTION:CARDUNAL’S \nSATURDAY \nAGILITY RUN THRU \nAugust 29\, 2026 \nDoors open at 8:30 AM – First Run 9:00 AM \nRunning order:  Small (4 – 16)      2 Run limit. Tall (20 – 24)     2 Run limit. \nAll “Small” will run before starting “Tall”. \nTall dog walk will start at 10:30 AM or after the completion of Small. \nNo Entries accepted after 11:00 AM \nTwo nested courses – Masters and Novice (12 Weaves) \nHandlers are welcome to run a course or work on specific exercises within 2 minutes\, gate to gate\, time limit. \nNon-members Fees:  $5.00 for first entry\, $4.00 for second entry of same dog. \nMember Fees: $4.00 for first entry\, $3.00 for second entry of same dog. \nFace coverings are now optional in the building. Please continue to   \nSocial distance inside and outside the building. \nCrating will be available in the building in designated areas. \nInfo:  Kathy Calhoon 847-977-0388 email: BCDOC1978@gmail.com \nCar-Dun-Al Obedience Dog Training Club \n100783 Wolf Drive\, Huntley IL
URL:https://www.cardunaldogtraining.com/event/cardunal-agility-run-thru-16/
LOCATION:CarDunAl Dog Training Club\, 10783 Wolf Dr.\, Huntley\, IL\, 60142\, United States
CATEGORIES:Events
END:VEVENT
BEGIN:VEVENT
DTSTART;VALUE=DATE:20260905
DTEND;VALUE=DATE:20260906
DTSTAMP:20260420T120332
CREATED:20251220T020305Z
LAST-MODIFIED:20251220T020305Z
UID:28618-1788566400-1788652799@www.cardunaldogtraining.com
SUMMARY:CarDunAl Fast CAT
DESCRIPTION:
URL:https://www.cardunaldogtraining.com/event/cardunal-fast-cat-4/2026-09-05/
LOCATION:CarDunAl Dog Training Club\, 10783 Wolf Dr.\, Huntley\, IL\, 60142\, United States
CATEGORIES:Events
END:VEVENT
BEGIN:VEVENT
DTSTART;VALUE=DATE:20260906
DTEND;VALUE=DATE:20260907
DTSTAMP:20260420T120332
CREATED:20251220T020305Z
LAST-MODIFIED:20251220T020305Z
UID:28619-1788652800-1788739199@www.cardunaldogtraining.com
SUMMARY:CarDunAl Fast CAT
DESCRIPTION:
URL:https://www.cardunaldogtraining.com/event/cardunal-fast-cat-4/2026-09-06/
LOCATION:CarDunAl Dog Training Club\, 10783 Wolf Dr.\, Huntley\, IL\, 60142\, United States
CATEGORIES:Events
END:VEVENT
BEGIN:VEVENT
DTSTART;VALUE=DATE:20260926
DTEND;VALUE=DATE:20260927
DTSTAMP:20260420T120332
CREATED:20260119T224432Z
LAST-MODIFIED:20260119T224432Z
UID:29470-1790380800-1790467199@www.cardunaldogtraining.com
SUMMARY:ACT (Agility Course Test) Test
DESCRIPTION:
URL:https://www.cardunaldogtraining.com/event/act-agility-course-test-test/
LOCATION:CarDunAl Dog Training Club\, 10783 Wolf Dr.\, Huntley\, IL\, 60142\, United States
CATEGORIES:Events
END:VEVENT
BEGIN:VEVENT
DTSTART;VALUE=DATE:20261003
DTEND;VALUE=DATE:20261004
DTSTAMP:20260420T120332
CREATED:20251220T022108Z
LAST-MODIFIED:20251220T022108Z
UID:28630-1790985600-1791071999@www.cardunaldogtraining.com
SUMMARY:Keeshond Specialty
DESCRIPTION:
URL:https://www.cardunaldogtraining.com/event/keeshond-specialty-5/2026-10-03/
LOCATION:CarDunAl Dog Training Club\, 10783 Wolf Dr.\, Huntley\, IL\, 60142\, United States
CATEGORIES:Events
END:VEVENT
BEGIN:VEVENT
DTSTART;VALUE=DATE:20261004
DTEND;VALUE=DATE:20261005
DTSTAMP:20260420T120332
CREATED:20251220T022108Z
LAST-MODIFIED:20251220T022108Z
UID:28631-1791072000-1791158399@www.cardunaldogtraining.com
SUMMARY:Keeshond Specialty
DESCRIPTION:
URL:https://www.cardunaldogtraining.com/event/keeshond-specialty-5/2026-10-04/
LOCATION:CarDunAl Dog Training Club\, 10783 Wolf Dr.\, Huntley\, IL\, 60142\, United States
CATEGORIES:Events
END:VEVENT
BEGIN:VEVENT
DTSTART;VALUE=DATE:20261010
DTEND;VALUE=DATE:20261011
DTSTAMP:20260420T120332
CREATED:20251220T022923Z
LAST-MODIFIED:20251220T022923Z
UID:28637-1791590400-1791676799@www.cardunaldogtraining.com
SUMMARY:Husky Specialty
DESCRIPTION:
URL:https://www.cardunaldogtraining.com/event/husky-specialty-3/2026-10-10/
LOCATION:CarDunAl Dog Training Club\, 10783 Wolf Dr.\, Huntley\, IL\, 60142\, United States
CATEGORIES:Events
END:VEVENT
BEGIN:VEVENT
DTSTART;VALUE=DATE:20261011
DTEND;VALUE=DATE:20261012
DTSTAMP:20260420T120332
CREATED:20251220T022923Z
LAST-MODIFIED:20251220T022923Z
UID:28638-1791676800-1791763199@www.cardunaldogtraining.com
SUMMARY:Husky Specialty
DESCRIPTION:
URL:https://www.cardunaldogtraining.com/event/husky-specialty-3/2026-10-11/
LOCATION:CarDunAl Dog Training Club\, 10783 Wolf Dr.\, Huntley\, IL\, 60142\, United States
CATEGORIES:Events
END:VEVENT
BEGIN:VEVENT
DTSTART;TZID=America/Chicago:20261104T120000
DTEND;TZID=America/Chicago:20261104T140000
DTSTAMP:20260420T120332
CREATED:20251231T005239Z
LAST-MODIFIED:20251231T021257Z
UID:29164-1793793600-1793800800@www.cardunaldogtraining.com
SUMMARY:Rally Extravaganza
DESCRIPTION:
URL:https://www.cardunaldogtraining.com/event/rally-extravaganzas-3/
LOCATION:CarDunAl Dog Training Club\, 10783 Wolf Dr.\, Huntley\, IL\, 60142\, United States
CATEGORIES:Events
END:VEVENT
END:VCALENDAR