BEGIN:VCALENDAR
VERSION:2.0
PRODID:-//Car-Dun-Al Dog Obedience Training Club - ECPv6.15.17.1//NONSGML v1.0//EN
CALSCALE:GREGORIAN
METHOD:PUBLISH
X-ORIGINAL-URL:https://www.cardunaldogtraining.com
X-WR-CALDESC:Events for Car-Dun-Al Dog Obedience Training Club
REFRESH-INTERVAL;VALUE=DURATION:PT1H
X-Robots-Tag:noindex
X-PUBLISHED-TTL:PT1H
BEGIN:VTIMEZONE
TZID:America/Chicago
BEGIN:DAYLIGHT
TZOFFSETFROM:-0600
TZOFFSETTO:-0500
TZNAME:CDT
DTSTART:20220313T080000
END:DAYLIGHT
BEGIN:STANDARD
TZOFFSETFROM:-0500
TZOFFSETTO:-0600
TZNAME:CST
DTSTART:20221106T070000
END:STANDARD
BEGIN:DAYLIGHT
TZOFFSETFROM:-0600
TZOFFSETTO:-0500
TZNAME:CDT
DTSTART:20230312T080000
END:DAYLIGHT
BEGIN:STANDARD
TZOFFSETFROM:-0500
TZOFFSETTO:-0600
TZNAME:CST
DTSTART:20231105T070000
END:STANDARD
BEGIN:DAYLIGHT
TZOFFSETFROM:-0600
TZOFFSETTO:-0500
TZNAME:CDT
DTSTART:20240310T080000
END:DAYLIGHT
BEGIN:STANDARD
TZOFFSETFROM:-0500
TZOFFSETTO:-0600
TZNAME:CST
DTSTART:20241103T070000
END:STANDARD
BEGIN:DAYLIGHT
TZOFFSETFROM:-0600
TZOFFSETTO:-0500
TZNAME:CDT
DTSTART:20250309T080000
END:DAYLIGHT
BEGIN:STANDARD
TZOFFSETFROM:-0500
TZOFFSETTO:-0600
TZNAME:CST
DTSTART:20251102T070000
END:STANDARD
BEGIN:DAYLIGHT
TZOFFSETFROM:-0600
TZOFFSETTO:-0500
TZNAME:CDT
DTSTART:20260308T080000
END:DAYLIGHT
BEGIN:STANDARD
TZOFFSETFROM:-0500
TZOFFSETTO:-0600
TZNAME:CST
DTSTART:20261101T070000
END:STANDARD
BEGIN:DAYLIGHT
TZOFFSETFROM:-0600
TZOFFSETTO:-0500
TZNAME:CDT
DTSTART:20270314T080000
END:DAYLIGHT
BEGIN:STANDARD
TZOFFSETFROM:-0500
TZOFFSETTO:-0600
TZNAME:CST
DTSTART:20271107T070000
END:STANDARD
END:VTIMEZONE
BEGIN:VEVENT
DTSTART;TZID=America/Chicago:20260409T190000
DTEND;TZID=America/Chicago:20260409T210000
DTSTAMP:20260420T152019
CREATED:20251220T011111Z
LAST-MODIFIED:20251220T011111Z
UID:28572-1775761200-1775768400@www.cardunaldogtraining.com
SUMMARY:General Membership Meeting
DESCRIPTION:
URL:https://www.cardunaldogtraining.com/event/general-membership-meeting-14/
LOCATION:CarDunAl Dog Training Club\, 10783 Wolf Dr.\, Huntley\, IL\, 60142\, United States
CATEGORIES:Meeting
END:VEVENT
BEGIN:VEVENT
DTSTART;TZID=America/Chicago:20260406T190000
DTEND;TZID=America/Chicago:20260406T210000
DTSTAMP:20260420T152019
CREATED:20251220T011328Z
LAST-MODIFIED:20251220T011328Z
UID:28576-1775502000-1775509200@www.cardunaldogtraining.com
SUMMARY:Board Meeting
DESCRIPTION:
URL:https://www.cardunaldogtraining.com/event/board-meeting-14/
LOCATION:CarDunAl Dog Training Club\, 10783 Wolf Dr.\, Huntley\, IL\, 60142\, United States
CATEGORIES:Meeting
END:VEVENT
BEGIN:VEVENT
DTSTART;TZID=America/Chicago:20260212T190000
DTEND;TZID=America/Chicago:20260212T210000
DTSTAMP:20260420T152019
CREATED:20251220T010926Z
LAST-MODIFIED:20251220T011029Z
UID:28570-1770922800-1770930000@www.cardunaldogtraining.com
SUMMARY:General Membership Meeting
DESCRIPTION:
URL:https://www.cardunaldogtraining.com/event/general-membership-meeting-13/
LOCATION:CarDunAl Dog Training Club\, 10783 Wolf Dr.\, Huntley\, IL\, 60142\, United States
CATEGORIES:Meeting
END:VEVENT
BEGIN:VEVENT
DTSTART;TZID=America/Chicago:20260209T190000
DTEND;TZID=America/Chicago:20260209T210000
DTSTAMP:20260420T152019
CREATED:20251220T011231Z
LAST-MODIFIED:20251220T011231Z
UID:28574-1770663600-1770670800@www.cardunaldogtraining.com
SUMMARY:Board Meeting
DESCRIPTION:
URL:https://www.cardunaldogtraining.com/event/board-meeting-13/
LOCATION:CarDunAl Dog Training Club\, 10783 Wolf Dr.\, Huntley\, IL\, 60142\, United States
CATEGORIES:Meeting
END:VEVENT
BEGIN:VEVENT
DTSTART;TZID=America/Chicago:20250814T190000
DTEND;TZID=America/Chicago:20250814T210000
DTSTAMP:20260420T152019
CREATED:20241102T013916Z
LAST-MODIFIED:20241102T013916Z
UID:24753-1755198000-1755205200@www.cardunaldogtraining.com
SUMMARY:General Membership Meeting
DESCRIPTION:
URL:https://www.cardunaldogtraining.com/event/general-membership-meeting-11/
LOCATION:CarDunAl Dog Training Club\, 10783 Wolf Dr.\, Huntley\, IL\, 60142\, United States
CATEGORIES:Meeting
END:VEVENT
BEGIN:VEVENT
DTSTART;TZID=America/Chicago:20250811T190000
DTEND;TZID=America/Chicago:20250811T210000
DTSTAMP:20260420T152019
CREATED:20241102T013627Z
LAST-MODIFIED:20241102T013627Z
UID:24751-1754938800-1754946000@www.cardunaldogtraining.com
SUMMARY:Board Meeting
DESCRIPTION:
URL:https://www.cardunaldogtraining.com/event/board-meeting-10/
LOCATION:CarDunAl Dog Training Club\, 10783 Wolf Dr.\, Huntley\, IL\, 60142\, United States
CATEGORIES:Meeting
END:VEVENT
BEGIN:VEVENT
DTSTART;TZID=America/Chicago:20250612T190000
DTEND;TZID=America/Chicago:20250612T210000
DTSTAMP:20260420T152019
CREATED:20241102T004842Z
LAST-MODIFIED:20241102T004842Z
UID:24729-1749754800-1749762000@www.cardunaldogtraining.com
SUMMARY:General Membership Meeting
DESCRIPTION:
URL:https://www.cardunaldogtraining.com/event/general-membership-meeting-10/
LOCATION:CarDunAl Dog Training Club\, 10783 Wolf Dr.\, Huntley\, IL\, 60142\, United States
CATEGORIES:Meeting
END:VEVENT
BEGIN:VEVENT
DTSTART;TZID=America/Chicago:20250609T190000
DTEND;TZID=America/Chicago:20250609T210000
DTSTAMP:20260420T152019
CREATED:20241102T004609Z
LAST-MODIFIED:20241102T004609Z
UID:24727-1749495600-1749502800@www.cardunaldogtraining.com
SUMMARY:Board Meeting
DESCRIPTION:
URL:https://www.cardunaldogtraining.com/event/board-meeting-9/
LOCATION:CarDunAl Dog Training Club\, 10783 Wolf Dr.\, Huntley\, IL\, 60142\, United States
CATEGORIES:Meeting
END:VEVENT
BEGIN:VEVENT
DTSTART;TZID=America/Chicago:20250410T190000
DTEND;TZID=America/Chicago:20250410T210000
DTSTAMP:20260420T152019
CREATED:20241102T003057Z
LAST-MODIFIED:20241102T003057Z
UID:24709-1744311600-1744318800@www.cardunaldogtraining.com
SUMMARY:General Membership Meeting
DESCRIPTION:
URL:https://www.cardunaldogtraining.com/event/general-membership-meeting-9/
LOCATION:CarDunAl Dog Training Club\, 10783 Wolf Dr.\, Huntley\, IL\, 60142\, United States
CATEGORIES:Meeting
END:VEVENT
BEGIN:VEVENT
DTSTART;TZID=America/Chicago:20250407T190000
DTEND;TZID=America/Chicago:20250407T210000
DTSTAMP:20260420T152019
CREATED:20241102T002853Z
LAST-MODIFIED:20241102T002853Z
UID:24707-1744052400-1744059600@www.cardunaldogtraining.com
SUMMARY:Board Meeting
DESCRIPTION:
URL:https://www.cardunaldogtraining.com/event/board-meeting-8/
LOCATION:CarDunAl Dog Training Club\, 10783 Wolf Dr.\, Huntley\, IL\, 60142\, United States
CATEGORIES:Meeting
END:VEVENT
BEGIN:VEVENT
DTSTART;TZID=America/Chicago:20250213T190000
DTEND;TZID=America/Chicago:20250213T210000
DTSTAMP:20260420T152019
CREATED:20241027T213450Z
LAST-MODIFIED:20241027T213450Z
UID:24664-1739473200-1739480400@www.cardunaldogtraining.com
SUMMARY:General Membership Meeting
DESCRIPTION:
URL:https://www.cardunaldogtraining.com/event/general-membership-meeting-8/
LOCATION:CarDunAl Dog Training Club\, 10783 Wolf Dr.\, Huntley\, IL\, 60142\, United States
CATEGORIES:Meeting
END:VEVENT
BEGIN:VEVENT
DTSTART;TZID=America/Chicago:20250210T190000
DTEND;TZID=America/Chicago:20250210T210000
DTSTAMP:20260420T152019
CREATED:20241027T213303Z
LAST-MODIFIED:20241027T213303Z
UID:24662-1739214000-1739221200@www.cardunaldogtraining.com
SUMMARY:Board Meeting
DESCRIPTION:
URL:https://www.cardunaldogtraining.com/event/board-meeting-7/
LOCATION:CarDunAl Dog Training Club\, 10783 Wolf Dr.\, Huntley\, IL\, 60142\, United States
CATEGORIES:Meeting
END:VEVENT
BEGIN:VEVENT
DTSTART;TZID=America/Chicago:20241212T190000
DTEND;TZID=America/Chicago:20241212T210000
DTSTAMP:20260420T152019
CREATED:20231019T024735Z
LAST-MODIFIED:20231019T024735Z
UID:19412-1734030000-1734037200@www.cardunaldogtraining.com
SUMMARY:General Membership meeting
DESCRIPTION:
URL:https://www.cardunaldogtraining.com/event/general-membership-meeting-7/
LOCATION:CarDunAl Dog Training Club\, 10783 Wolf Dr.\, Huntley\, IL\, 60142\, United States
CATEGORIES:Meeting
END:VEVENT
BEGIN:VEVENT
DTSTART;TZID=America/Chicago:20241209T190000
DTEND;TZID=America/Chicago:20241209T210000
DTSTAMP:20260420T152019
CREATED:20231019T024638Z
LAST-MODIFIED:20231019T024638Z
UID:19410-1733770800-1733778000@www.cardunaldogtraining.com
SUMMARY:Board Meeting
DESCRIPTION:
URL:https://www.cardunaldogtraining.com/event/board-meeting-6/
LOCATION:CarDunAl Dog Training Club\, 10783 Wolf Dr.\, Huntley\, IL\, 60142\, United States
CATEGORIES:Meeting
END:VEVENT
BEGIN:VEVENT
DTSTART;TZID=America/Chicago:20241010T190000
DTEND;TZID=America/Chicago:20241010T210000
DTSTAMP:20260420T152019
CREATED:20231019T021804Z
LAST-MODIFIED:20231019T021804Z
UID:19381-1728586800-1728594000@www.cardunaldogtraining.com
SUMMARY:General Membership Meeting
DESCRIPTION:
URL:https://www.cardunaldogtraining.com/event/general-membership-meeting-6/
LOCATION:CarDunAl Dog Training Club\, 10783 Wolf Dr.\, Huntley\, IL\, 60142\, United States
CATEGORIES:Meeting
END:VEVENT
BEGIN:VEVENT
DTSTART;TZID=America/Chicago:20241007T190000
DTEND;TZID=America/Chicago:20241007T210000
DTSTAMP:20260420T152019
CREATED:20231019T021556Z
LAST-MODIFIED:20231019T021556Z
UID:19379-1728327600-1728334800@www.cardunaldogtraining.com
SUMMARY:Board Meeting
DESCRIPTION:
URL:https://www.cardunaldogtraining.com/event/board-meeting-5/
LOCATION:CarDunAl Dog Training Club\, 10783 Wolf Dr.\, Huntley\, IL\, 60142\, United States
CATEGORIES:Meeting
END:VEVENT
BEGIN:VEVENT
DTSTART;TZID=America/Chicago:20240808T190000
DTEND;TZID=America/Chicago:20240808T210000
DTSTAMP:20260420T152019
CREATED:20231019T014348Z
LAST-MODIFIED:20231019T014348Z
UID:19339-1723143600-1723150800@www.cardunaldogtraining.com
SUMMARY:General Membership meeting
DESCRIPTION:
URL:https://www.cardunaldogtraining.com/event/general-membership-meeting-5/
LOCATION:CarDunAl Dog Training Club\, 10783 Wolf Dr.\, Huntley\, IL\, 60142\, United States
CATEGORIES:Meeting
END:VEVENT
BEGIN:VEVENT
DTSTART;TZID=America/Chicago:20240805T190000
DTEND;TZID=America/Chicago:20240805T210000
DTSTAMP:20260420T152019
CREATED:20231019T014238Z
LAST-MODIFIED:20231019T014238Z
UID:19337-1722884400-1722891600@www.cardunaldogtraining.com
SUMMARY:Board Meeting
DESCRIPTION:
URL:https://www.cardunaldogtraining.com/event/board-meeting-4/
LOCATION:CarDunAl Dog Training Club\, 10783 Wolf Dr.\, Huntley\, IL\, 60142\, United States
CATEGORIES:Meeting
END:VEVENT
BEGIN:VEVENT
DTSTART;TZID=America/Chicago:20240613T190000
DTEND;TZID=America/Chicago:20240613T210000
DTSTAMP:20260420T152019
CREATED:20231018T011633Z
LAST-MODIFIED:20231018T011633Z
UID:19299-1718305200-1718312400@www.cardunaldogtraining.com
SUMMARY:General Membership Meeting
DESCRIPTION:
URL:https://www.cardunaldogtraining.com/event/general-membership-meeting-4/
LOCATION:CarDunAl Dog Training Club\, 10783 Wolf Dr.\, Huntley\, IL\, 60142\, United States
CATEGORIES:Meeting
END:VEVENT
BEGIN:VEVENT
DTSTART;TZID=America/Chicago:20240610T190000
DTEND;TZID=America/Chicago:20240610T210000
DTSTAMP:20260420T152019
CREATED:20231018T011428Z
LAST-MODIFIED:20231018T011521Z
UID:19296-1718046000-1718053200@www.cardunaldogtraining.com
SUMMARY:Board Meeting
DESCRIPTION:
URL:https://www.cardunaldogtraining.com/event/10-th-board-meeting/
LOCATION:CarDunAl Dog Training Club\, 10783 Wolf Dr.\, Huntley\, IL\, 60142\, United States
CATEGORIES:Meeting
END:VEVENT
BEGIN:VEVENT
DTSTART;TZID=America/Chicago:20240411T190000
DTEND;TZID=America/Chicago:20240411T210000
DTSTAMP:20260420T152019
CREATED:20231018T005932Z
LAST-MODIFIED:20231018T005932Z
UID:19278-1712862000-1712869200@www.cardunaldogtraining.com
SUMMARY:General Membership Meeting
DESCRIPTION:
URL:https://www.cardunaldogtraining.com/event/general-membership-meeting-3/
LOCATION:CarDunAl Dog Training Club\, 10783 Wolf Dr.\, Huntley\, IL\, 60142\, United States
CATEGORIES:Meeting
END:VEVENT
BEGIN:VEVENT
DTSTART;TZID=America/Chicago:20240408T190000
DTEND;TZID=America/Chicago:20240408T210000
DTSTAMP:20260420T152019
CREATED:20231018T005826Z
LAST-MODIFIED:20231018T005826Z
UID:19276-1712602800-1712610000@www.cardunaldogtraining.com
SUMMARY:Board Meeting
DESCRIPTION:
URL:https://www.cardunaldogtraining.com/event/board-meeting-3/
LOCATION:CarDunAl Dog Training Club\, 10783 Wolf Dr.\, Huntley\, IL\, 60142\, United States
CATEGORIES:Meeting
END:VEVENT
BEGIN:VEVENT
DTSTART;TZID=America/Chicago:20240210T183000
DTEND;TZID=America/Chicago:20240210T210000
DTSTAMP:20260420T152019
CREATED:20231017T004953Z
LAST-MODIFIED:20240207T222230Z
UID:19241-1707589800-1707598800@www.cardunaldogtraining.com
SUMMARY:CDA Awards Banquets
DESCRIPTION:
URL:https://www.cardunaldogtraining.com/event/cda-awards-banquets/
LOCATION:CarDunAl Dog Training Club\, 10783 Wolf Dr.\, Huntley\, IL\, 60142\, United States
CATEGORIES:Meeting
END:VEVENT
BEGIN:VEVENT
DTSTART;TZID=America/Chicago:20240208T190000
DTEND;TZID=America/Chicago:20240208T210000
DTSTAMP:20260420T152019
CREATED:20231017T004609Z
LAST-MODIFIED:20231017T004630Z
UID:19238-1707418800-1707426000@www.cardunaldogtraining.com
SUMMARY:General Membership Meeting
DESCRIPTION:
URL:https://www.cardunaldogtraining.com/event/8-th-general-membership-meeting/
LOCATION:CarDunAl Dog Training Club\, 10783 Wolf Dr.\, Huntley\, IL\, 60142\, United States
CATEGORIES:Meeting
END:VEVENT
BEGIN:VEVENT
DTSTART;TZID=America/Chicago:20240205T190000
DTEND;TZID=America/Chicago:20240205T210000
DTSTAMP:20260420T152019
CREATED:20231017T004407Z
LAST-MODIFIED:20231017T004407Z
UID:19236-1707159600-1707166800@www.cardunaldogtraining.com
SUMMARY:Board Meeting
DESCRIPTION:
URL:https://www.cardunaldogtraining.com/event/board-meeting-2/
LOCATION:CarDunAl Dog Training Club\, 10783 Wolf Dr.\, Huntley\, IL\, 60142\, United States
CATEGORIES:Meeting
END:VEVENT
BEGIN:VEVENT
DTSTART;TZID=America/Chicago:20231012T190000
DTEND;TZID=America/Chicago:20231012T210000
DTSTAMP:20260420T152019
CREATED:20221020T002446Z
LAST-MODIFIED:20230818T010927Z
UID:15448-1697137200-1697144400@www.cardunaldogtraining.com
SUMMARY:Car Dun Al General Meeting
DESCRIPTION:
URL:https://www.cardunaldogtraining.com/event/car-dun-al-general-meeting-5/
LOCATION:CarDunAl Dog Training Club\, 10783 Wolf Dr.\, Huntley\, IL\, 60142\, United States
CATEGORIES:Meeting
END:VEVENT
BEGIN:VEVENT
DTSTART;TZID=America/Chicago:20231009T190000
DTEND;TZID=America/Chicago:20231009T210000
DTSTAMP:20260420T152019
CREATED:20221020T002352Z
LAST-MODIFIED:20221020T002352Z
UID:15446-1696878000-1696885200@www.cardunaldogtraining.com
SUMMARY:Car Dun Al Board Meeting
DESCRIPTION:
URL:https://www.cardunaldogtraining.com/event/car-dun-al-board-meeting-5/
LOCATION:CarDunAl Dog Training Club\, 10783 Wolf Dr.\, Huntley\, IL\, 60142\, United States
CATEGORIES:Meeting
END:VEVENT
BEGIN:VEVENT
DTSTART;TZID=America/Chicago:20230810T193000
DTEND;TZID=America/Chicago:20230810T210000
DTSTAMP:20260420T152019
CREATED:20221019T235143Z
LAST-MODIFIED:20221019T235143Z
UID:15417-1691695800-1691701200@www.cardunaldogtraining.com
SUMMARY:Car Dun Al General Meeting
DESCRIPTION:
URL:https://www.cardunaldogtraining.com/event/car-dun-al-general-meeting-4/
LOCATION:CarDunAl Dog Training Club\, 10783 Wolf Dr.\, Huntley\, IL\, 60142\, United States
CATEGORIES:Meeting
END:VEVENT
BEGIN:VEVENT
DTSTART;TZID=America/Chicago:20230807T190000
DTEND;TZID=America/Chicago:20230807T210000
DTSTAMP:20260420T152019
CREATED:20221019T235049Z
LAST-MODIFIED:20221019T235049Z
UID:15415-1691434800-1691442000@www.cardunaldogtraining.com
SUMMARY:Car Dun Al Board Meeting
DESCRIPTION:
URL:https://www.cardunaldogtraining.com/event/car-dun-al-board-meeting-4/
LOCATION:CarDunAl Dog Training Club\, 10783 Wolf Dr.\, Huntley\, IL\, 60142\, United States
CATEGORIES:Meeting
END:VEVENT
BEGIN:VEVENT
DTSTART;TZID=America/Chicago:20230608T193000
DTEND;TZID=America/Chicago:20230608T210000
DTSTAMP:20260420T152019
CREATED:20221019T234446Z
LAST-MODIFIED:20221019T234446Z
UID:15405-1686252600-1686258000@www.cardunaldogtraining.com
SUMMARY:Car Dun Al General Meeting
DESCRIPTION:
URL:https://www.cardunaldogtraining.com/event/car-dun-al-general-meeting-3/
LOCATION:CarDunAl Dog Training Club\, 10783 Wolf Dr.\, Huntley\, IL\, 60142\, United States
CATEGORIES:Meeting
END:VEVENT
END:VCALENDAR