BEGIN:VCALENDAR
VERSION:2.0
PRODID:-//Car-Dun-Al Dog Obedience Training Club - ECPv6.15.17.1//NONSGML v1.0//EN
CALSCALE:GREGORIAN
METHOD:PUBLISH
X-WR-CALNAME:Car-Dun-Al Dog Obedience Training Club
X-ORIGINAL-URL:https://www.cardunaldogtraining.com
X-WR-CALDESC:Events for Car-Dun-Al Dog Obedience Training Club
REFRESH-INTERVAL;VALUE=DURATION:PT1H
X-Robots-Tag:noindex
X-PUBLISHED-TTL:PT1H
BEGIN:VTIMEZONE
TZID:America/Chicago
BEGIN:DAYLIGHT
TZOFFSETFROM:-0600
TZOFFSETTO:-0500
TZNAME:CDT
DTSTART:20230312T080000
END:DAYLIGHT
BEGIN:STANDARD
TZOFFSETFROM:-0500
TZOFFSETTO:-0600
TZNAME:CST
DTSTART:20231105T070000
END:STANDARD
BEGIN:DAYLIGHT
TZOFFSETFROM:-0600
TZOFFSETTO:-0500
TZNAME:CDT
DTSTART:20240310T080000
END:DAYLIGHT
BEGIN:STANDARD
TZOFFSETFROM:-0500
TZOFFSETTO:-0600
TZNAME:CST
DTSTART:20241103T070000
END:STANDARD
BEGIN:DAYLIGHT
TZOFFSETFROM:-0600
TZOFFSETTO:-0500
TZNAME:CDT
DTSTART:20250309T080000
END:DAYLIGHT
BEGIN:STANDARD
TZOFFSETFROM:-0500
TZOFFSETTO:-0600
TZNAME:CST
DTSTART:20251102T070000
END:STANDARD
END:VTIMEZONE
BEGIN:VEVENT
DTSTART;VALUE=DATE:20240907
DTEND;VALUE=DATE:20240908
DTSTAMP:20260422T104027
CREATED:20231019T015811Z
LAST-MODIFIED:20231019T015838Z
UID:19357-1725667200-1725753599@www.cardunaldogtraining.com
SUMMARY:Cardunal Fast CAT
DESCRIPTION:
URL:https://www.cardunaldogtraining.com/event/cardunal-fast-cat/
LOCATION:CarDunAl Dog Training Club\, 10783 Wolf Dr.\, Huntley\, IL\, 60142\, United States
CATEGORIES:Trials
END:VEVENT
BEGIN:VEVENT
DTSTART;VALUE=DATE:20240908
DTEND;VALUE=DATE:20240909
DTSTAMP:20260422T104027
CREATED:20231019T015939Z
LAST-MODIFIED:20231019T015939Z
UID:19360-1725753600-1725839999@www.cardunaldogtraining.com
SUMMARY:Cardunal Fast CAT
DESCRIPTION:
URL:https://www.cardunaldogtraining.com/event/cardunal-fast-cat-2/
LOCATION:CarDunAl Dog Training Club\, 10783 Wolf Dr.\, Huntley\, IL\, 60142\, United States
CATEGORIES:Trials
END:VEVENT
BEGIN:VEVENT
DTSTART;VALUE=DATE:20240913
DTEND;VALUE=DATE:20240914
DTSTAMP:20260422T104027
CREATED:20231019T020154Z
LAST-MODIFIED:20231019T020212Z
UID:19362-1726185600-1726271999@www.cardunaldogtraining.com
SUMMARY:Fox Valley Dog Training Club Agility Trial
DESCRIPTION:
URL:https://www.cardunaldogtraining.com/event/13-th-fox-valley-dog-training-club-agility-trial/
LOCATION:CarDunAl Dog Training Club\, 10783 Wolf Dr.\, Huntley\, IL\, 60142\, United States
CATEGORIES:Trials
END:VEVENT
BEGIN:VEVENT
DTSTART;VALUE=DATE:20240914
DTEND;VALUE=DATE:20240915
DTSTAMP:20260422T104027
CREATED:20231019T020306Z
LAST-MODIFIED:20231019T020306Z
UID:19365-1726272000-1726358399@www.cardunaldogtraining.com
SUMMARY:Fox Valley Dog Training Club Agility Trial
DESCRIPTION:
URL:https://www.cardunaldogtraining.com/event/fox-valley-dog-training-club-agility-trial-4/
LOCATION:CarDunAl Dog Training Club\, 10783 Wolf Dr.\, Huntley\, IL\, 60142\, United States
CATEGORIES:Trials
END:VEVENT
BEGIN:VEVENT
DTSTART;VALUE=DATE:20240915
DTEND;VALUE=DATE:20240916
DTSTAMP:20260422T104027
CREATED:20231019T020404Z
LAST-MODIFIED:20231019T020404Z
UID:19367-1726358400-1726444799@www.cardunaldogtraining.com
SUMMARY:Fox Valley Dog Training Club Agility Trial
DESCRIPTION:
URL:https://www.cardunaldogtraining.com/event/fox-valley-dog-training-club-agility-trial-5/
LOCATION:CarDunAl Dog Training Club\, 10783 Wolf Dr.\, Huntley\, IL\, 60142\, United States
CATEGORIES:Trials
END:VEVENT
BEGIN:VEVENT
DTSTART;VALUE=DATE:20240920
DTEND;VALUE=DATE:20240921
DTSTAMP:20260422T104027
CREATED:20231023T183238Z
LAST-MODIFIED:20231023T183238Z
UID:19500-1726790400-1726876799@www.cardunaldogtraining.com
SUMMARY:Keeshond Fanciers Club Agility Trial
DESCRIPTION:
URL:https://www.cardunaldogtraining.com/event/keeshond-fanciers-club-agility-trial/
LOCATION:CarDunAl Dog Training Club\, 10783 Wolf Dr.\, Huntley\, IL\, 60142\, United States
CATEGORIES:Trials
END:VEVENT
BEGIN:VEVENT
DTSTART;VALUE=DATE:20240921
DTEND;VALUE=DATE:20240922
DTSTAMP:20260422T104027
CREATED:20231019T020818Z
LAST-MODIFIED:20231019T020818Z
UID:19371-1726876800-1726963199@www.cardunaldogtraining.com
SUMMARY:Agility Ability Agility Trial
DESCRIPTION:
URL:https://www.cardunaldogtraining.com/event/agility-ability-agility-trial-6/
LOCATION:CarDunAl Dog Training Club\, 10783 Wolf Dr.\, Huntley\, IL\, 60142\, United States
CATEGORIES:Trials
END:VEVENT
BEGIN:VEVENT
DTSTART;VALUE=DATE:20240922
DTEND;VALUE=DATE:20240923
DTSTAMP:20260422T104027
CREATED:20231019T020943Z
LAST-MODIFIED:20231019T020943Z
UID:19373-1726963200-1727049599@www.cardunaldogtraining.com
SUMMARY:Agility Ability Agility Trial
DESCRIPTION:
URL:https://www.cardunaldogtraining.com/event/agility-ability-agility-trial-7/
LOCATION:CarDunAl Dog Training Club\, 10783 Wolf Dr.\, Huntley\, IL\, 60142\, United States
CATEGORIES:Trials
END:VEVENT
END:VCALENDAR