BEGIN:VCALENDAR
VERSION:2.0
PRODID:-//Car-Dun-Al Dog Obedience Training Club - ECPv6.15.17.1//NONSGML v1.0//EN
CALSCALE:GREGORIAN
METHOD:PUBLISH
X-WR-CALNAME:Car-Dun-Al Dog Obedience Training Club
X-ORIGINAL-URL:https://www.cardunaldogtraining.com
X-WR-CALDESC:Events for Car-Dun-Al Dog Obedience Training Club
REFRESH-INTERVAL;VALUE=DURATION:PT1H
X-Robots-Tag:noindex
X-PUBLISHED-TTL:PT1H
BEGIN:VTIMEZONE
TZID:America/Chicago
BEGIN:DAYLIGHT
TZOFFSETFROM:-0600
TZOFFSETTO:-0500
TZNAME:CDT
DTSTART:20240310T080000
END:DAYLIGHT
BEGIN:STANDARD
TZOFFSETFROM:-0500
TZOFFSETTO:-0600
TZNAME:CST
DTSTART:20241103T070000
END:STANDARD
BEGIN:DAYLIGHT
TZOFFSETFROM:-0600
TZOFFSETTO:-0500
TZNAME:CDT
DTSTART:20250309T080000
END:DAYLIGHT
BEGIN:STANDARD
TZOFFSETFROM:-0500
TZOFFSETTO:-0600
TZNAME:CST
DTSTART:20251102T070000
END:STANDARD
BEGIN:DAYLIGHT
TZOFFSETFROM:-0600
TZOFFSETTO:-0500
TZNAME:CDT
DTSTART:20260308T080000
END:DAYLIGHT
BEGIN:STANDARD
TZOFFSETFROM:-0500
TZOFFSETTO:-0600
TZNAME:CST
DTSTART:20261101T070000
END:STANDARD
END:VTIMEZONE
BEGIN:VEVENT
DTSTART;VALUE=DATE:20250906
DTEND;VALUE=DATE:20250907
DTSTAMP:20260421T131045
CREATED:20241102T015920Z
LAST-MODIFIED:20241102T015948Z
UID:24764-1757116800-1757203199@www.cardunaldogtraining.com
SUMMARY:Cardunal Fast CAT
DESCRIPTION:
URL:https://www.cardunaldogtraining.com/event/cardunal-fast-cat-3/2025-09-06/
LOCATION:CarDunAl Dog Training Club\, 10783 Wolf Dr.\, Huntley\, IL\, 60142\, United States
CATEGORIES:Trials
END:VEVENT
BEGIN:VEVENT
DTSTART;VALUE=DATE:20250907
DTEND;VALUE=DATE:20250908
DTSTAMP:20260421T131045
CREATED:20241102T015920Z
LAST-MODIFIED:20241102T015948Z
UID:24765-1757203200-1757289599@www.cardunaldogtraining.com
SUMMARY:Cardunal Fast CAT
DESCRIPTION:
URL:https://www.cardunaldogtraining.com/event/cardunal-fast-cat-3/2025-09-07/
LOCATION:CarDunAl Dog Training Club\, 10783 Wolf Dr.\, Huntley\, IL\, 60142\, United States
CATEGORIES:Trials
END:VEVENT
BEGIN:VEVENT
DTSTART;VALUE=DATE:20250912
DTEND;VALUE=DATE:20250913
DTSTAMP:20260421T131045
CREATED:20241102T020641Z
LAST-MODIFIED:20241102T020723Z
UID:24768-1757635200-1757721599@www.cardunaldogtraining.com
SUMMARY:FVDTC Agility Trial
DESCRIPTION:
URL:https://www.cardunaldogtraining.com/event/fvdtc-agility-trial-9/2025-09-12/
LOCATION:CarDunAl Dog Training Club\, 10783 Wolf Dr.\, Huntley\, IL\, 60142\, United States
CATEGORIES:Trials
END:VEVENT
BEGIN:VEVENT
DTSTART;VALUE=DATE:20250913
DTEND;VALUE=DATE:20250914
DTSTAMP:20260421T131045
CREATED:20241102T020641Z
LAST-MODIFIED:20241102T020723Z
UID:24769-1757721600-1757807999@www.cardunaldogtraining.com
SUMMARY:FVDTC Agility Trial
DESCRIPTION:
URL:https://www.cardunaldogtraining.com/event/fvdtc-agility-trial-9/2025-09-13/
LOCATION:CarDunAl Dog Training Club\, 10783 Wolf Dr.\, Huntley\, IL\, 60142\, United States
CATEGORIES:Trials
END:VEVENT
BEGIN:VEVENT
DTSTART;VALUE=DATE:20250914
DTEND;VALUE=DATE:20250915
DTSTAMP:20260421T131045
CREATED:20241102T020641Z
LAST-MODIFIED:20241102T020723Z
UID:24770-1757808000-1757894399@www.cardunaldogtraining.com
SUMMARY:FVDTC Agility Trial
DESCRIPTION:
URL:https://www.cardunaldogtraining.com/event/fvdtc-agility-trial-9/2025-09-14/
LOCATION:CarDunAl Dog Training Club\, 10783 Wolf Dr.\, Huntley\, IL\, 60142\, United States
CATEGORIES:Trials
END:VEVENT
BEGIN:VEVENT
DTSTART;VALUE=DATE:20250919
DTEND;VALUE=DATE:20250920
DTSTAMP:20260421T131045
CREATED:20241102T021250Z
LAST-MODIFIED:20241102T021250Z
UID:24774-1758240000-1758326399@www.cardunaldogtraining.com
SUMMARY:Keeshond Agility Trial
DESCRIPTION:
URL:https://www.cardunaldogtraining.com/event/keeshond-agility-trial-3/
LOCATION:CarDunAl Dog Training Club\, 10783 Wolf Dr.\, Huntley\, IL\, 60142\, United States
CATEGORIES:Trials
END:VEVENT
BEGIN:VEVENT
DTSTART;VALUE=DATE:20250920
DTEND;VALUE=DATE:20250921
DTSTAMP:20260421T131045
CREATED:20241102T021352Z
LAST-MODIFIED:20241102T021352Z
UID:24776-1758326400-1758412799@www.cardunaldogtraining.com
SUMMARY:Agility Ability Agility Trial
DESCRIPTION:
URL:https://www.cardunaldogtraining.com/event/agility-ability-agility-trial-8/2025-09-20/
LOCATION:CarDunAl Dog Training Club\, 10783 Wolf Dr.\, Huntley\, IL\, 60142\, United States
CATEGORIES:Trials
END:VEVENT
BEGIN:VEVENT
DTSTART;VALUE=DATE:20250921
DTEND;VALUE=DATE:20250922
DTSTAMP:20260421T131045
CREATED:20241102T021352Z
LAST-MODIFIED:20241102T021352Z
UID:24777-1758412800-1758499199@www.cardunaldogtraining.com
SUMMARY:Agility Ability Agility Trial
DESCRIPTION:
URL:https://www.cardunaldogtraining.com/event/agility-ability-agility-trial-8/2025-09-21/
LOCATION:CarDunAl Dog Training Club\, 10783 Wolf Dr.\, Huntley\, IL\, 60142\, United States
CATEGORIES:Trials
END:VEVENT
END:VCALENDAR