BEGIN:VCALENDAR
VERSION:2.0
PRODID:-//Car-Dun-Al Dog Obedience Training Club - ECPv6.15.17.1//NONSGML v1.0//EN
CALSCALE:GREGORIAN
METHOD:PUBLISH
X-WR-CALNAME:Car-Dun-Al Dog Obedience Training Club
X-ORIGINAL-URL:https://www.cardunaldogtraining.com
X-WR-CALDESC:Events for Car-Dun-Al Dog Obedience Training Club
REFRESH-INTERVAL;VALUE=DURATION:PT1H
X-Robots-Tag:noindex
X-PUBLISHED-TTL:PT1H
BEGIN:VTIMEZONE
TZID:America/Chicago
BEGIN:DAYLIGHT
TZOFFSETFROM:-0600
TZOFFSETTO:-0500
TZNAME:CDT
DTSTART:20250309T080000
END:DAYLIGHT
BEGIN:STANDARD
TZOFFSETFROM:-0500
TZOFFSETTO:-0600
TZNAME:CST
DTSTART:20251102T070000
END:STANDARD
BEGIN:DAYLIGHT
TZOFFSETFROM:-0600
TZOFFSETTO:-0500
TZNAME:CDT
DTSTART:20260308T080000
END:DAYLIGHT
BEGIN:STANDARD
TZOFFSETFROM:-0500
TZOFFSETTO:-0600
TZNAME:CST
DTSTART:20261101T070000
END:STANDARD
BEGIN:DAYLIGHT
TZOFFSETFROM:-0600
TZOFFSETTO:-0500
TZNAME:CDT
DTSTART:20270314T080000
END:DAYLIGHT
BEGIN:STANDARD
TZOFFSETFROM:-0500
TZOFFSETTO:-0600
TZNAME:CST
DTSTART:20271107T070000
END:STANDARD
END:VTIMEZONE
BEGIN:VEVENT
DTSTART;VALUE=DATE:20260102
DTEND;VALUE=DATE:20260103
DTSTAMP:20260421T071747
CREATED:20251120T013150Z
LAST-MODIFIED:20251120T013150Z
UID:28452-1767312000-1767398399@www.cardunaldogtraining.com
SUMMARY:Greater DeKalb Agility
DESCRIPTION:
URL:https://www.cardunaldogtraining.com/event/greater-dekalb-agility-9/
LOCATION:CarDunAl Dog Training Club\, 10783 Wolf Dr.\, Huntley\, IL\, 60142\, United States
CATEGORIES:Trials
END:VEVENT
BEGIN:VEVENT
DTSTART;VALUE=DATE:20260103
DTEND;VALUE=DATE:20260104
DTSTAMP:20260421T071747
CREATED:20251120T013254Z
LAST-MODIFIED:20251120T013254Z
UID:28454-1767398400-1767484799@www.cardunaldogtraining.com
SUMMARY:CarDunAl Agility
DESCRIPTION:
URL:https://www.cardunaldogtraining.com/event/cardunal-agility/
LOCATION:CarDunAl Dog Training Club\, 10783 Wolf Dr.\, Huntley\, IL\, 60142\, United States
CATEGORIES:Trials
END:VEVENT
BEGIN:VEVENT
DTSTART;VALUE=DATE:20260104
DTEND;VALUE=DATE:20260105
DTSTAMP:20260421T071747
CREATED:20251120T013337Z
LAST-MODIFIED:20251120T013337Z
UID:28456-1767484800-1767571199@www.cardunaldogtraining.com
SUMMARY:CarDunAl Agility
DESCRIPTION:
URL:https://www.cardunaldogtraining.com/event/cardunal-agility-2/
LOCATION:CarDunAl Dog Training Club\, 10783 Wolf Dr.\, Huntley\, IL\, 60142\, United States
CATEGORIES:Trials
END:VEVENT
BEGIN:VEVENT
DTSTART;VALUE=DATE:20260123
DTEND;VALUE=DATE:20260124
DTSTAMP:20260421T071747
CREATED:20251120T013427Z
LAST-MODIFIED:20251120T013427Z
UID:28458-1769126400-1769212799@www.cardunaldogtraining.com
SUMMARY:LaSalle Brittany Club Agility
DESCRIPTION:
URL:https://www.cardunaldogtraining.com/event/lasalle-brittany-club-agility-2/
LOCATION:CarDunAl Dog Training Club\, 10783 Wolf Dr.\, Huntley\, IL\, 60142\, United States
CATEGORIES:Trials
END:VEVENT
BEGIN:VEVENT
DTSTART;VALUE=DATE:20260124
DTEND;VALUE=DATE:20260125
DTSTAMP:20260421T071747
CREATED:20251120T013519Z
LAST-MODIFIED:20251120T013519Z
UID:28460-1769212800-1769299199@www.cardunaldogtraining.com
SUMMARY:Glenbard Agility Trial
DESCRIPTION:
URL:https://www.cardunaldogtraining.com/event/glenbard-agility-trial-3/
LOCATION:CarDunAl Dog Training Club\, 10783 Wolf Dr.\, Huntley\, IL\, 60142\, United States
CATEGORIES:Trials
END:VEVENT
BEGIN:VEVENT
DTSTART;VALUE=DATE:20260125
DTEND;VALUE=DATE:20260126
DTSTAMP:20260421T071747
CREATED:20251120T013554Z
LAST-MODIFIED:20251120T013554Z
UID:28462-1769299200-1769385599@www.cardunaldogtraining.com
SUMMARY:Glenbard Agility Trial
DESCRIPTION:
URL:https://www.cardunaldogtraining.com/event/glenbard-agility-trial-4/
LOCATION:CarDunAl Dog Training Club\, 10783 Wolf Dr.\, Huntley\, IL\, 60142\, United States
CATEGORIES:Trials
END:VEVENT
BEGIN:VEVENT
DTSTART;VALUE=DATE:20260131
DTEND;VALUE=DATE:20260201
DTSTAMP:20260421T071747
CREATED:20251120T013644Z
LAST-MODIFIED:20251120T013714Z
UID:28464-1769817600-1769903999@www.cardunaldogtraining.com
SUMMARY:CardunAl Obedience/Rally Trial
DESCRIPTION:
URL:https://www.cardunaldogtraining.com/event/car-dun-al-obedience-rally-trial-2/
LOCATION:CarDunAl Dog Training Club\, 10783 Wolf Dr.\, Huntley\, IL\, 60142\, United States
CATEGORIES:Trials
END:VEVENT
END:VCALENDAR