BEGIN:VCALENDAR
VERSION:2.0
PRODID:-//Car-Dun-Al Dog Obedience Training Club - ECPv6.15.17.1//NONSGML v1.0//EN
CALSCALE:GREGORIAN
METHOD:PUBLISH
X-ORIGINAL-URL:https://www.cardunaldogtraining.com
X-WR-CALDESC:Events for Car-Dun-Al Dog Obedience Training Club
REFRESH-INTERVAL;VALUE=DURATION:PT1H
X-Robots-Tag:noindex
X-PUBLISHED-TTL:PT1H
BEGIN:VTIMEZONE
TZID:America/Chicago
BEGIN:DAYLIGHT
TZOFFSETFROM:-0600
TZOFFSETTO:-0500
TZNAME:CDT
DTSTART:20250309T080000
END:DAYLIGHT
BEGIN:STANDARD
TZOFFSETFROM:-0500
TZOFFSETTO:-0600
TZNAME:CST
DTSTART:20251102T070000
END:STANDARD
BEGIN:DAYLIGHT
TZOFFSETFROM:-0600
TZOFFSETTO:-0500
TZNAME:CDT
DTSTART:20260308T080000
END:DAYLIGHT
BEGIN:STANDARD
TZOFFSETFROM:-0500
TZOFFSETTO:-0600
TZNAME:CST
DTSTART:20261101T070000
END:STANDARD
BEGIN:DAYLIGHT
TZOFFSETFROM:-0600
TZOFFSETTO:-0500
TZNAME:CDT
DTSTART:20270314T080000
END:DAYLIGHT
BEGIN:STANDARD
TZOFFSETFROM:-0500
TZOFFSETTO:-0600
TZNAME:CST
DTSTART:20271107T070000
END:STANDARD
END:VTIMEZONE
BEGIN:VEVENT
DTSTART;VALUE=DATE:20260301
DTEND;VALUE=DATE:20260302
DTSTAMP:20260421T044206
CREATED:20251120T014145Z
LAST-MODIFIED:20251120T014145Z
UID:28475-1772323200-1772409599@www.cardunaldogtraining.com
SUMMARY:Chicagoland Sheltie Club Obedience/Rally
DESCRIPTION:
URL:https://www.cardunaldogtraining.com/event/chicagoland-sheltie-club-obedience-rally-2/
LOCATION:CarDunAl Dog Training Club\, 10783 Wolf Dr.\, Huntley\, IL\, 60142\, United States
CATEGORIES:Trials
END:VEVENT
BEGIN:VEVENT
DTSTART;VALUE=DATE:20260301
DTEND;VALUE=DATE:20260302
DTSTAMP:20260421T044206
CREATED:20251120T014316Z
LAST-MODIFIED:20251120T014316Z
UID:28479-1772323200-1772409599@www.cardunaldogtraining.com
SUMMARY:Cardunal Scent work Trial
DESCRIPTION:
URL:https://www.cardunaldogtraining.com/event/cardunal-scent-work-trial-9/
LOCATION:CarDunAl Dog Training Club\, 10783 Wolf Dr.\, Huntley\, IL\, 60142\, United States
CATEGORIES:Scent Work,Trials
END:VEVENT
BEGIN:VEVENT
DTSTART;VALUE=DATE:20260306
DTEND;VALUE=DATE:20260307
DTSTAMP:20260421T044206
CREATED:20251120T020704Z
LAST-MODIFIED:20251120T021220Z
UID:28481-1772755200-1772841599@www.cardunaldogtraining.com
SUMMARY:Great Lakes Belgian Tervuren Club Specialty
DESCRIPTION:
URL:https://www.cardunaldogtraining.com/event/great-lakes-belgian-tervuren-club-specialty/
LOCATION:CarDunAl Dog Training Club\, 10783 Wolf Dr.\, Huntley\, IL\, 60142\, United States
CATEGORIES:Trials
END:VEVENT
BEGIN:VEVENT
DTSTART;VALUE=DATE:20260307
DTEND;VALUE=DATE:20260308
DTSTAMP:20260421T044206
CREATED:20251120T020806Z
LAST-MODIFIED:20251120T020806Z
UID:28483-1772841600-1772927999@www.cardunaldogtraining.com
SUMMARY:Great Lakes Belgian Tervuren Club Specialty
DESCRIPTION:
URL:https://www.cardunaldogtraining.com/event/great-lakes-belgian-tervuren-club-specialty-2/
LOCATION:CarDunAl Dog Training Club\, 10783 Wolf Dr.\, Huntley\, IL\, 60142\, United States
CATEGORIES:Trials
END:VEVENT
BEGIN:VEVENT
DTSTART;VALUE=DATE:20260308
DTEND;VALUE=DATE:20260309
DTSTAMP:20260421T044206
CREATED:20251120T020841Z
LAST-MODIFIED:20251120T020841Z
UID:28485-1772928000-1773014399@www.cardunaldogtraining.com
SUMMARY:Great Lakes Belgian Tervuren Club Specialty
DESCRIPTION:
URL:https://www.cardunaldogtraining.com/event/great-lakes-belgian-tervuren-club-specialty-3/
LOCATION:CarDunAl Dog Training Club\, 10783 Wolf Dr.\, Huntley\, IL\, 60142\, United States
CATEGORIES:Trials
END:VEVENT
BEGIN:VEVENT
DTSTART;VALUE=DATE:20260313
DTEND;VALUE=DATE:20260314
DTSTAMP:20260421T044206
CREATED:20251120T021018Z
LAST-MODIFIED:20251120T021018Z
UID:28487-1773360000-1773446399@www.cardunaldogtraining.com
SUMMARY:Bernese Mountain Dog Club of Northeastern Illinois Agility Trial
DESCRIPTION:
URL:https://www.cardunaldogtraining.com/event/bernese-mountain-dog-club-of-northeastern-illinois-agility-trial-2/
LOCATION:CarDunAl Dog Training Club\, 10783 Wolf Dr.\, Huntley\, IL\, 60142\, United States
CATEGORIES:Trials
END:VEVENT
BEGIN:VEVENT
DTSTART;VALUE=DATE:20260314
DTEND;VALUE=DATE:20260315
DTSTAMP:20260421T044206
CREATED:20251220T010123Z
LAST-MODIFIED:20251220T010123Z
UID:28563-1773446400-1773532799@www.cardunaldogtraining.com
SUMMARY:Cardunal Agility Trial
DESCRIPTION:
URL:https://www.cardunaldogtraining.com/event/cardunal-agility-trial-14/2026-03-14/
LOCATION:CarDunAl Dog Training Club\, 10783 Wolf Dr.\, Huntley\, IL\, 60142\, United States
CATEGORIES:Trials
END:VEVENT
BEGIN:VEVENT
DTSTART;VALUE=DATE:20260315
DTEND;VALUE=DATE:20260316
DTSTAMP:20260421T044206
CREATED:20251220T010123Z
LAST-MODIFIED:20251220T010123Z
UID:28564-1773532800-1773619199@www.cardunaldogtraining.com
SUMMARY:Cardunal Agility Trial
DESCRIPTION:
URL:https://www.cardunaldogtraining.com/event/cardunal-agility-trial-14/2026-03-15/
LOCATION:CarDunAl Dog Training Club\, 10783 Wolf Dr.\, Huntley\, IL\, 60142\, United States
CATEGORIES:Trials
END:VEVENT
BEGIN:VEVENT
DTSTART;VALUE=DATE:20260327
DTEND;VALUE=DATE:20260328
DTSTAMP:20260421T044206
CREATED:20251220T010336Z
LAST-MODIFIED:20251220T010336Z
UID:28566-1774569600-1774655999@www.cardunaldogtraining.com
SUMMARY:FVDTC Agility Trial
DESCRIPTION:
URL:https://www.cardunaldogtraining.com/event/fvdtc-agility-trial-10/2026-03-27/
LOCATION:CarDunAl Dog Training Club\, 10783 Wolf Dr.\, Huntley\, IL\, 60142\, United States
CATEGORIES:Trials
END:VEVENT
BEGIN:VEVENT
DTSTART;VALUE=DATE:20260328
DTEND;VALUE=DATE:20260329
DTSTAMP:20260421T044206
CREATED:20251220T010336Z
LAST-MODIFIED:20251220T010336Z
UID:28567-1774656000-1774742399@www.cardunaldogtraining.com
SUMMARY:FVDTC Agility Trial
DESCRIPTION:
URL:https://www.cardunaldogtraining.com/event/fvdtc-agility-trial-10/2026-03-28/
LOCATION:CarDunAl Dog Training Club\, 10783 Wolf Dr.\, Huntley\, IL\, 60142\, United States
CATEGORIES:Trials
END:VEVENT
BEGIN:VEVENT
DTSTART;VALUE=DATE:20260329
DTEND;VALUE=DATE:20260330
DTSTAMP:20260421T044206
CREATED:20251220T010336Z
LAST-MODIFIED:20251220T010336Z
UID:28568-1774742400-1774828799@www.cardunaldogtraining.com
SUMMARY:FVDTC Agility Trial
DESCRIPTION:
URL:https://www.cardunaldogtraining.com/event/fvdtc-agility-trial-10/2026-03-29/
LOCATION:CarDunAl Dog Training Club\, 10783 Wolf Dr.\, Huntley\, IL\, 60142\, United States
CATEGORIES:Trials
END:VEVENT
END:VCALENDAR