BEGIN:VCALENDAR
VERSION:2.0
PRODID:-//Car-Dun-Al Dog Obedience Training Club - ECPv6.15.17.1//NONSGML v1.0//EN
CALSCALE:GREGORIAN
METHOD:PUBLISH
X-WR-CALNAME:Car-Dun-Al Dog Obedience Training Club
X-ORIGINAL-URL:https://www.cardunaldogtraining.com
X-WR-CALDESC:Events for Car-Dun-Al Dog Obedience Training Club
REFRESH-INTERVAL;VALUE=DURATION:PT1H
X-Robots-Tag:noindex
X-PUBLISHED-TTL:PT1H
BEGIN:VTIMEZONE
TZID:America/Chicago
BEGIN:DAYLIGHT
TZOFFSETFROM:-0600
TZOFFSETTO:-0500
TZNAME:CDT
DTSTART:20220313T080000
END:DAYLIGHT
BEGIN:STANDARD
TZOFFSETFROM:-0500
TZOFFSETTO:-0600
TZNAME:CST
DTSTART:20221106T070000
END:STANDARD
BEGIN:DAYLIGHT
TZOFFSETFROM:-0600
TZOFFSETTO:-0500
TZNAME:CDT
DTSTART:20230312T080000
END:DAYLIGHT
BEGIN:STANDARD
TZOFFSETFROM:-0500
TZOFFSETTO:-0600
TZNAME:CST
DTSTART:20231105T070000
END:STANDARD
BEGIN:DAYLIGHT
TZOFFSETFROM:-0600
TZOFFSETTO:-0500
TZNAME:CDT
DTSTART:20240310T080000
END:DAYLIGHT
BEGIN:STANDARD
TZOFFSETFROM:-0500
TZOFFSETTO:-0600
TZNAME:CST
DTSTART:20241103T070000
END:STANDARD
BEGIN:DAYLIGHT
TZOFFSETFROM:-0600
TZOFFSETTO:-0500
TZNAME:CDT
DTSTART:20250309T080000
END:DAYLIGHT
BEGIN:STANDARD
TZOFFSETFROM:-0500
TZOFFSETTO:-0600
TZNAME:CST
DTSTART:20251102T070000
END:STANDARD
END:VTIMEZONE
BEGIN:VEVENT
DTSTART;VALUE=DATE:20240622
DTEND;VALUE=DATE:20240623
DTSTAMP:20260421T173606
CREATED:20240109T172002Z
LAST-MODIFIED:20240109T172002Z
UID:20676-1719014400-1719100799@www.cardunaldogtraining.com
SUMMARY:CGCU – Canine Good Citizen Urban test
DESCRIPTION: contact info \nCarol Preble \nlodgepole@foxvalley.net
URL:https://www.cardunaldogtraining.com/event/cgcu-canine-good-citizen-urban-test/
LOCATION:CarDunAl Dog Training Club\, 10783 Wolf Dr.\, Huntley\, IL\, 60142\, United States
CATEGORIES:Trials
END:VEVENT
BEGIN:VEVENT
DTSTART;VALUE=DATE:20240519
DTEND;VALUE=DATE:20240520
DTSTAMP:20260421T173606
CREATED:20231018T011200Z
LAST-MODIFIED:20231018T011200Z
UID:19294-1716076800-1716163199@www.cardunaldogtraining.com
SUMMARY:Agility Ability Club Agility Trial
DESCRIPTION:Agility Ability Club Agility Trial
URL:https://www.cardunaldogtraining.com/event/agility-ability-club-agility-trial-2/
LOCATION:CarDunAl Dog Training Club\, 10783 Wolf Dr.\, Huntley\, IL\, 60142\, United States
CATEGORIES:Trials
END:VEVENT
BEGIN:VEVENT
DTSTART;VALUE=DATE:20240518
DTEND;VALUE=DATE:20240519
DTSTAMP:20260421T173606
CREATED:20231018T011053Z
LAST-MODIFIED:20231018T011053Z
UID:19290-1715990400-1716076799@www.cardunaldogtraining.com
SUMMARY:Agility Ability Club Agility Trial
DESCRIPTION:
URL:https://www.cardunaldogtraining.com/event/agility-ability-club-agility-trial/
LOCATION:CarDunAl Dog Training Club\, 10783 Wolf Dr.\, Huntley\, IL\, 60142\, United States
CATEGORIES:Trials
END:VEVENT
BEGIN:VEVENT
DTSTART;VALUE=DATE:20240517
DTEND;VALUE=DATE:20240518
DTSTAMP:20260421T173606
CREATED:20231023T181334Z
LAST-MODIFIED:20231023T181334Z
UID:19498-1715904000-1715990399@www.cardunaldogtraining.com
SUMMARY:Weimaraner Club of N. Ill. Agility Trial
DESCRIPTION:
URL:https://www.cardunaldogtraining.com/event/weimaraner-club-of-n-ill-agility-trial/
LOCATION:CarDunAl Dog Training Club\, 10783 Wolf Dr.\, Huntley\, IL\, 60142\, United States
CATEGORIES:Trials
END:VEVENT
BEGIN:VEVENT
DTSTART;VALUE=DATE:20240505
DTEND;VALUE=DATE:20240506
DTSTAMP:20260421T173606
CREATED:20231018T010610Z
LAST-MODIFIED:20231018T010610Z
UID:19286-1714867200-1714953599@www.cardunaldogtraining.com
SUMMARY:Greater DeKalb Agility
DESCRIPTION:
URL:https://www.cardunaldogtraining.com/event/greater-dekalb-agility-7/
LOCATION:CarDunAl Dog Training Club\, 10783 Wolf Dr.\, Huntley\, IL\, 60142\, United States
CATEGORIES:Trials
END:VEVENT
BEGIN:VEVENT
DTSTART;VALUE=DATE:20240504
DTEND;VALUE=DATE:20240505
DTSTAMP:20260421T173606
CREATED:20231018T010530Z
LAST-MODIFIED:20231018T010530Z
UID:19284-1714780800-1714867199@www.cardunaldogtraining.com
SUMMARY:Greater DeKalb Agility
DESCRIPTION:
URL:https://www.cardunaldogtraining.com/event/greater-dekalb-agility-6/
LOCATION:CarDunAl Dog Training Club\, 10783 Wolf Dr.\, Huntley\, IL\, 60142\, United States
CATEGORIES:Trials
END:VEVENT
BEGIN:VEVENT
DTSTART;VALUE=DATE:20240503
DTEND;VALUE=DATE:20240504
DTSTAMP:20260421T173606
CREATED:20231018T010453Z
LAST-MODIFIED:20231018T010453Z
UID:19281-1714694400-1714780799@www.cardunaldogtraining.com
SUMMARY:Greater DeKalb Agility
DESCRIPTION:
URL:https://www.cardunaldogtraining.com/event/greater-dekalb-agility-5/
LOCATION:CarDunAl Dog Training Club\, 10783 Wolf Dr.\, Huntley\, IL\, 60142\, United States
CATEGORIES:Trials
END:VEVENT
BEGIN:VEVENT
DTSTART;VALUE=DATE:20240428
DTEND;VALUE=DATE:20240429
DTSTAMP:20260421T173606
CREATED:20231018T005557Z
LAST-MODIFIED:20231018T005557Z
UID:19274-1714262400-1714348799@www.cardunaldogtraining.com
SUMMARY:Cardunal Agility Trial
DESCRIPTION:
URL:https://www.cardunaldogtraining.com/event/cardunal-agility-trial-6/
LOCATION:CarDunAl Dog Training Club\, 10783 Wolf Dr.\, Huntley\, IL\, 60142\, United States
CATEGORIES:Trials
END:VEVENT
BEGIN:VEVENT
DTSTART;VALUE=DATE:20240427
DTEND;VALUE=DATE:20240428
DTSTAMP:20260421T173606
CREATED:20231018T005500Z
LAST-MODIFIED:20231018T005500Z
UID:19272-1714176000-1714262399@www.cardunaldogtraining.com
SUMMARY:Cardunal Agility Trial
DESCRIPTION:
URL:https://www.cardunaldogtraining.com/event/cardunal-agility-trial-5/
LOCATION:CarDunAl Dog Training Club\, 10783 Wolf Dr.\, Huntley\, IL\, 60142\, United States
CATEGORIES:Trials
END:VEVENT
BEGIN:VEVENT
DTSTART;VALUE=DATE:20240331
DTEND;VALUE=DATE:20240401
DTSTAMP:20260421T173606
CREATED:20231018T004709Z
LAST-MODIFIED:20231018T004709Z
UID:19270-1711843200-1711929599@www.cardunaldogtraining.com
SUMMARY:Fox Valley Dog Training Club Agility Trial
DESCRIPTION:
URL:https://www.cardunaldogtraining.com/event/fox-valley-dog-training-club-agility-trial-3/
LOCATION:CarDunAl Dog Training Club\, 10783 Wolf Dr.\, Huntley\, IL\, 60142\, United States
CATEGORIES:Trials
END:VEVENT
BEGIN:VEVENT
DTSTART;VALUE=DATE:20240330
DTEND;VALUE=DATE:20240331
DTSTAMP:20260421T173606
CREATED:20231018T004614Z
LAST-MODIFIED:20231018T004614Z
UID:19267-1711756800-1711843199@www.cardunaldogtraining.com
SUMMARY:Fox Valley Dog Training Club Agility Trial
DESCRIPTION:
URL:https://www.cardunaldogtraining.com/event/fox-valley-dog-training-club-agility-trial-2/
LOCATION:CarDunAl Dog Training Club\, 10783 Wolf Dr.\, Huntley\, IL\, 60142\, United States
CATEGORIES:Trials
END:VEVENT
BEGIN:VEVENT
DTSTART;VALUE=DATE:20240329
DTEND;VALUE=DATE:20240330
DTSTAMP:20260421T173606
CREATED:20231018T004524Z
LAST-MODIFIED:20231018T004524Z
UID:19265-1711670400-1711756799@www.cardunaldogtraining.com
SUMMARY:Fox Valley Dog Training Club Agility Trial
DESCRIPTION:
URL:https://www.cardunaldogtraining.com/event/fox-valley-dog-training-club-agility-trial/
LOCATION:CarDunAl Dog Training Club\, 10783 Wolf Dr.\, Huntley\, IL\, 60142\, United States
CATEGORIES:Trials
END:VEVENT
BEGIN:VEVENT
DTSTART;VALUE=DATE:20240317
DTEND;VALUE=DATE:20240318
DTSTAMP:20260421T173606
CREATED:20231017T013518Z
LAST-MODIFIED:20231017T013518Z
UID:19260-1710633600-1710719999@www.cardunaldogtraining.com
SUMMARY:Cardunal Agility Trial
DESCRIPTION:
URL:https://www.cardunaldogtraining.com/event/cardunal-agility-trial-4/
LOCATION:CarDunAl Dog Training Club\, 10783 Wolf Dr.\, Huntley\, IL\, 60142\, United States
CATEGORIES:Trials
END:VEVENT
BEGIN:VEVENT
DTSTART;VALUE=DATE:20240316
DTEND;VALUE=DATE:20240317
DTSTAMP:20260421T173606
CREATED:20231017T013406Z
LAST-MODIFIED:20231017T013406Z
UID:19258-1710547200-1710633599@www.cardunaldogtraining.com
SUMMARY:Cardunal Agility Trial
DESCRIPTION:
URL:https://www.cardunaldogtraining.com/event/cardunal-agility-trial-3/
LOCATION:CarDunAl Dog Training Club\, 10783 Wolf Dr.\, Huntley\, IL\, 60142\, United States
CATEGORIES:Trials
END:VEVENT
BEGIN:VEVENT
DTSTART;VALUE=DATE:20240315
DTEND;VALUE=DATE:20240316
DTSTAMP:20260421T173606
CREATED:20231017T012807Z
LAST-MODIFIED:20231018T002805Z
UID:19254-1710460800-1710547199@www.cardunaldogtraining.com
SUMMARY:Bernese Mountain Dog Club of Northeastern Illinois Agility Trial
DESCRIPTION:
URL:https://www.cardunaldogtraining.com/event/bernese-mountain-dog-club-of-northeastern-illinois/
LOCATION:CarDunAl Dog Training Club\, 10783 Wolf Dr.\, Huntley\, IL\, 60142\, United States
CATEGORIES:Trials
END:VEVENT
BEGIN:VEVENT
DTSTART;VALUE=DATE:20240310
DTEND;VALUE=DATE:20240311
DTSTAMP:20260421T173606
CREATED:20231017T012005Z
LAST-MODIFIED:20231023T181456Z
UID:19252-1710028800-1710115199@www.cardunaldogtraining.com
SUMMARY:Belgian Tervuren Specialty
DESCRIPTION:
URL:https://www.cardunaldogtraining.com/event/belgian-tervuren-specialty-2/
LOCATION:CarDunAl Dog Training Club\, 10783 Wolf Dr.\, Huntley\, IL\, 60142\, United States
CATEGORIES:Trials
END:VEVENT
BEGIN:VEVENT
DTSTART;VALUE=DATE:20240309
DTEND;VALUE=DATE:20240310
DTSTAMP:20260421T173606
CREATED:20231017T011923Z
LAST-MODIFIED:20231023T181734Z
UID:19250-1709942400-1710028799@www.cardunaldogtraining.com
SUMMARY:Belgian Tervuren Specialty
DESCRIPTION:
URL:https://www.cardunaldogtraining.com/event/belgian-tervuren-specialty/
LOCATION:CarDunAl Dog Training Club\, 10783 Wolf Dr.\, Huntley\, IL\, 60142\, United States
CATEGORIES:Trials
END:VEVENT
BEGIN:VEVENT
DTSTART;VALUE=DATE:20240302
DTEND;VALUE=DATE:20240303
DTSTAMP:20260421T173606
CREATED:20231017T005818Z
LAST-MODIFIED:20241027T215216Z
UID:19243-1709337600-1709423999@www.cardunaldogtraining.com
SUMMARY:Cardunal Scent Work Trial
DESCRIPTION:
URL:https://www.cardunaldogtraining.com/event/cda-scent-work-trial-5/
LOCATION:CarDunAl Dog Training Club\, 10783 Wolf Dr.\, Huntley\, IL\, 60142\, United States
CATEGORIES:Trials
END:VEVENT
BEGIN:VEVENT
DTSTART;VALUE=DATE:20240204
DTEND;VALUE=DATE:20240205
DTSTAMP:20260421T173606
CREATED:20231017T004049Z
LAST-MODIFIED:20231017T004049Z
UID:19234-1707004800-1707091199@www.cardunaldogtraining.com
SUMMARY:CDA Obedience/Rally Trial
DESCRIPTION:
URL:https://www.cardunaldogtraining.com/event/cda-obedience-rally-trial-2/
LOCATION:CarDunAl Dog Training Club\, 10783 Wolf Dr.\, Huntley\, IL\, 60142\, United States
CATEGORIES:Trials
END:VEVENT
BEGIN:VEVENT
DTSTART;VALUE=DATE:20240203
DTEND;VALUE=DATE:20240204
DTSTAMP:20260421T173606
CREATED:20231017T004008Z
LAST-MODIFIED:20231017T004008Z
UID:19232-1706918400-1707004799@www.cardunaldogtraining.com
SUMMARY:CDA Obedience/Rally Trial
DESCRIPTION:
URL:https://www.cardunaldogtraining.com/event/cda-obedience-rally-trial/
LOCATION:CarDunAl Dog Training Club\, 10783 Wolf Dr.\, Huntley\, IL\, 60142\, United States
CATEGORIES:Trials
END:VEVENT
BEGIN:VEVENT
DTSTART;VALUE=DATE:20240128
DTEND;VALUE=DATE:20240129
DTSTAMP:20260421T173606
CREATED:20230929T012757Z
LAST-MODIFIED:20230929T012830Z
UID:19149-1706400000-1706486399@www.cardunaldogtraining.com
SUMMARY:Glenbard All Breed Obedience Club Agility Trial
DESCRIPTION:
URL:https://www.cardunaldogtraining.com/event/glenbard-all-breed-obedience-club-agility-trial-2/
LOCATION:CarDunAl Dog Training Club\, 10783 Wolf Dr.\, Huntley\, IL\, 60142\, United States
CATEGORIES:Trials
END:VEVENT
BEGIN:VEVENT
DTSTART;VALUE=DATE:20240127
DTEND;VALUE=DATE:20240128
DTSTAMP:20260421T173606
CREATED:20230929T012711Z
LAST-MODIFIED:20230929T012910Z
UID:19147-1706313600-1706399999@www.cardunaldogtraining.com
SUMMARY:Glenbard All Breed Obedience Club Agility Trial
DESCRIPTION:
URL:https://www.cardunaldogtraining.com/event/glenbard-all-breed-obedience-club-agility-trial/
LOCATION:CarDunAl Dog Training Club\, 10783 Wolf Dr.\, Huntley\, IL\, 60142\, United States
CATEGORIES:Trials
END:VEVENT
BEGIN:VEVENT
DTSTART;VALUE=DATE:20240126
DTEND;VALUE=DATE:20240127
DTSTAMP:20260421T173606
CREATED:20230929T012530Z
LAST-MODIFIED:20231018T002934Z
UID:19145-1706227200-1706313599@www.cardunaldogtraining.com
SUMMARY:LaSalle Brittany Club Agility Trial
DESCRIPTION:
URL:https://www.cardunaldogtraining.com/event/lasalle-brittany-club-agility-trial/
LOCATION:CarDunAl Dog Training Club\, 10783 Wolf Dr.\, Huntley\, IL\, 60142\, United States
CATEGORIES:Trials
END:VEVENT
BEGIN:VEVENT
DTSTART;VALUE=DATE:20240107
DTEND;VALUE=DATE:20240108
DTSTAMP:20260421T173606
CREATED:20230929T011653Z
LAST-MODIFIED:20230929T011653Z
UID:19133-1704585600-1704671999@www.cardunaldogtraining.com
SUMMARY:Cardunal Agility Trial
DESCRIPTION:
URL:https://www.cardunaldogtraining.com/event/cardunal-agility-trial-2/
LOCATION:CarDunAl Dog Training Club\, 10783 Wolf Dr.\, Huntley\, IL\, 60142\, United States
CATEGORIES:Trials
END:VEVENT
BEGIN:VEVENT
DTSTART;VALUE=DATE:20240106
DTEND;VALUE=DATE:20240107
DTSTAMP:20260421T173606
CREATED:20230929T011557Z
LAST-MODIFIED:20230929T011557Z
UID:19131-1704499200-1704585599@www.cardunaldogtraining.com
SUMMARY:Cardunal Agility Trial
DESCRIPTION:
URL:https://www.cardunaldogtraining.com/event/cardunal-agility-trial/2024-01-06/
LOCATION:CarDunAl Dog Training Club\, 10783 Wolf Dr.\, Huntley\, IL\, 60142\, United States
CATEGORIES:Trials
END:VEVENT
BEGIN:VEVENT
DTSTART;VALUE=DATE:20240105
DTEND;VALUE=DATE:20240106
DTSTAMP:20260421T173606
CREATED:20230929T011402Z
LAST-MODIFIED:20230929T011402Z
UID:19128-1704412800-1704499199@www.cardunaldogtraining.com
SUMMARY:Greater DeKalb Agility Trial
DESCRIPTION:
URL:https://www.cardunaldogtraining.com/event/greater-dekalb-agility-trial-5/
LOCATION:CarDunAl Dog Training Club\, 10783 Wolf Dr.\, Huntley\, IL\, 60142\, United States
CATEGORIES:Trials
END:VEVENT
BEGIN:VEVENT
DTSTART;VALUE=DATE:20231210
DTEND;VALUE=DATE:20231211
DTSTAMP:20260421T173606
CREATED:20230930T003039Z
LAST-MODIFIED:20230930T003039Z
UID:19163-1702166400-1702252799@www.cardunaldogtraining.com
SUMMARY:Cardunal Scent Work Trial
DESCRIPTION:
URL:https://www.cardunaldogtraining.com/event/cardunal-scent-work-trial-2/
LOCATION:CarDunAl Dog Training Club\, 10783 Wolf Dr.\, Huntley\, IL\, 60142\, United States
CATEGORIES:Trials
END:VEVENT
BEGIN:VEVENT
DTSTART;VALUE=DATE:20231209
DTEND;VALUE=DATE:20231210
DTSTAMP:20260421T173606
CREATED:20230930T002949Z
LAST-MODIFIED:20230930T002949Z
UID:19161-1702080000-1702166399@www.cardunaldogtraining.com
SUMMARY:Cardunal Scent Work Trial
DESCRIPTION:
URL:https://www.cardunaldogtraining.com/event/cardunal-scent-work-trial/
LOCATION:CarDunAl Dog Training Club\, 10783 Wolf Dr.\, Huntley\, IL\, 60142\, United States
CATEGORIES:Trials
END:VEVENT
BEGIN:VEVENT
DTSTART;VALUE=DATE:20231112
DTEND;VALUE=DATE:20231113
DTSTAMP:20260421T173606
CREATED:20230930T002326Z
LAST-MODIFIED:20230930T002326Z
UID:19159-1699747200-1699833599@www.cardunaldogtraining.com
SUMMARY:CarDunAl Obedience Trial
DESCRIPTION:
URL:https://www.cardunaldogtraining.com/event/cardunal-obedience-trial-2/
LOCATION:CarDunAl Dog Training Club\, 10783 Wolf Dr.\, Huntley\, IL\, 60142\, United States
CATEGORIES:Trials
END:VEVENT
BEGIN:VEVENT
DTSTART;VALUE=DATE:20231111
DTEND;VALUE=DATE:20231112
DTSTAMP:20260421T173606
CREATED:20230930T002244Z
LAST-MODIFIED:20230930T002244Z
UID:19157-1699660800-1699747199@www.cardunaldogtraining.com
SUMMARY:CarDunAl Obedience Trial
DESCRIPTION:
URL:https://www.cardunaldogtraining.com/event/cardunal-obedience-trial/
LOCATION:CarDunAl Dog Training Club\, 10783 Wolf Dr.\, Huntley\, IL\, 60142\, United States
CATEGORIES:Trials
END:VEVENT
END:VCALENDAR