BEGIN:VCALENDAR
VERSION:2.0
PRODID:-//Car-Dun-Al Dog Obedience Training Club - ECPv6.15.17.1//NONSGML v1.0//EN
CALSCALE:GREGORIAN
METHOD:PUBLISH
X-ORIGINAL-URL:https://www.cardunaldogtraining.com
X-WR-CALDESC:Events for Car-Dun-Al Dog Obedience Training Club
REFRESH-INTERVAL;VALUE=DURATION:PT1H
X-Robots-Tag:noindex
X-PUBLISHED-TTL:PT1H
BEGIN:VTIMEZONE
TZID:America/Chicago
BEGIN:DAYLIGHT
TZOFFSETFROM:-0600
TZOFFSETTO:-0500
TZNAME:CDT
DTSTART:20210314T080000
END:DAYLIGHT
BEGIN:STANDARD
TZOFFSETFROM:-0500
TZOFFSETTO:-0600
TZNAME:CST
DTSTART:20211107T070000
END:STANDARD
BEGIN:DAYLIGHT
TZOFFSETFROM:-0600
TZOFFSETTO:-0500
TZNAME:CDT
DTSTART:20220313T080000
END:DAYLIGHT
BEGIN:STANDARD
TZOFFSETFROM:-0500
TZOFFSETTO:-0600
TZNAME:CST
DTSTART:20221106T070000
END:STANDARD
BEGIN:DAYLIGHT
TZOFFSETFROM:-0600
TZOFFSETTO:-0500
TZNAME:CDT
DTSTART:20230312T080000
END:DAYLIGHT
BEGIN:STANDARD
TZOFFSETFROM:-0500
TZOFFSETTO:-0600
TZNAME:CST
DTSTART:20231105T070000
END:STANDARD
END:VTIMEZONE
BEGIN:VEVENT
DTSTART;VALUE=DATE:20221106
DTEND;VALUE=DATE:20221107
DTSTAMP:20260422T035847
CREATED:20220113T223727Z
LAST-MODIFIED:20220113T223727Z
UID:12819-1667692800-1667779199@www.cardunaldogtraining.com
SUMMARY:Tibetan Terrier Agility
DESCRIPTION:
URL:https://www.cardunaldogtraining.com/event/tibetan-terrier-agility-4/
LOCATION:CarDunAl Dog Training Club\, 10783 Wolf Dr.\, Huntley\, IL\, 60142\, United States
CATEGORIES:Trials
END:VEVENT
BEGIN:VEVENT
DTSTART;VALUE=DATE:20221105
DTEND;VALUE=DATE:20221106
DTSTAMP:20260422T035847
CREATED:20220113T223704Z
LAST-MODIFIED:20220113T223704Z
UID:12817-1667606400-1667692799@www.cardunaldogtraining.com
SUMMARY:Tibetan Terrier Agility
DESCRIPTION:
URL:https://www.cardunaldogtraining.com/event/tibetan-terrier-agility-3/
LOCATION:CarDunAl Dog Training Club\, 10783 Wolf Dr.\, Huntley\, IL\, 60142\, United States
CATEGORIES:Trials
END:VEVENT
BEGIN:VEVENT
DTSTART;VALUE=DATE:20221104
DTEND;VALUE=DATE:20221105
DTSTAMP:20260422T035847
CREATED:20220113T223635Z
LAST-MODIFIED:20220113T223635Z
UID:12815-1667520000-1667606399@www.cardunaldogtraining.com
SUMMARY:Tibetan Terrier Agility
DESCRIPTION:
URL:https://www.cardunaldogtraining.com/event/tibetan-terrier-agility-2/
LOCATION:CarDunAl Dog Training Club\, 10783 Wolf Dr.\, Huntley\, IL\, 60142\, United States
CATEGORIES:Trials
END:VEVENT
BEGIN:VEVENT
DTSTART;VALUE=DATE:20221023
DTEND;VALUE=DATE:20221024
DTSTAMP:20260422T035847
CREATED:20220113T223500Z
LAST-MODIFIED:20220113T223500Z
UID:12813-1666483200-1666569599@www.cardunaldogtraining.com
SUMMARY:CDA Agility
DESCRIPTION:
URL:https://www.cardunaldogtraining.com/event/cda-agility-8/
LOCATION:CarDunAl Dog Training Club\, 10783 Wolf Dr.\, Huntley\, IL\, 60142\, United States
CATEGORIES:Trials
END:VEVENT
BEGIN:VEVENT
DTSTART;VALUE=DATE:20221022
DTEND;VALUE=DATE:20221023
DTSTAMP:20260422T035847
CREATED:20220113T223432Z
LAST-MODIFIED:20220113T223432Z
UID:12811-1666396800-1666483199@www.cardunaldogtraining.com
SUMMARY:CDA Agility
DESCRIPTION:
URL:https://www.cardunaldogtraining.com/event/cda-agility-7/
LOCATION:CarDunAl Dog Training Club\, 10783 Wolf Dr.\, Huntley\, IL\, 60142\, United States
CATEGORIES:Trials
END:VEVENT
BEGIN:VEVENT
DTSTART;VALUE=DATE:20221021
DTEND;VALUE=DATE:20221022
DTSTAMP:20260422T035847
CREATED:20220113T223345Z
LAST-MODIFIED:20220113T223345Z
UID:12809-1666310400-1666396799@www.cardunaldogtraining.com
SUMMARY:Keeshond Agility
DESCRIPTION:
URL:https://www.cardunaldogtraining.com/event/keeshond-agility/
LOCATION:CarDunAl Dog Training Club\, 10783 Wolf Dr.\, Huntley\, IL\, 60142\, United States
CATEGORIES:Trials
END:VEVENT
BEGIN:VEVENT
DTSTART;VALUE=DATE:20221016
DTEND;VALUE=DATE:20221017
DTSTAMP:20260422T035847
CREATED:20220113T223239Z
LAST-MODIFIED:20220113T223239Z
UID:12807-1665878400-1665964799@www.cardunaldogtraining.com
SUMMARY:Husky Speciality
DESCRIPTION:
URL:https://www.cardunaldogtraining.com/event/husky-speciality-2/
LOCATION:CarDunAl Dog Training Club\, 10783 Wolf Dr.\, Huntley\, IL\, 60142\, United States
CATEGORIES:Trials
END:VEVENT
BEGIN:VEVENT
DTSTART;VALUE=DATE:20221015
DTEND;VALUE=DATE:20221016
DTSTAMP:20260422T035847
CREATED:20220113T223207Z
LAST-MODIFIED:20220113T223207Z
UID:12805-1665792000-1665878399@www.cardunaldogtraining.com
SUMMARY:Husky Speciality
DESCRIPTION:
URL:https://www.cardunaldogtraining.com/event/husky-speciality/
LOCATION:CarDunAl Dog Training Club\, 10783 Wolf Dr.\, Huntley\, IL\, 60142\, United States
CATEGORIES:Trials
END:VEVENT
BEGIN:VEVENT
DTSTART;VALUE=DATE:20221009
DTEND;VALUE=DATE:20221010
DTSTAMP:20260422T035847
CREATED:20220113T223027Z
LAST-MODIFIED:20220113T223027Z
UID:12803-1665273600-1665359999@www.cardunaldogtraining.com
SUMMARY:Keeshond Speciality
DESCRIPTION:
URL:https://www.cardunaldogtraining.com/event/keeshond-speciality-2/
LOCATION:CarDunAl Dog Training Club\, 10783 Wolf Dr.\, Huntley\, IL\, 60142\, United States
CATEGORIES:Trials
END:VEVENT
BEGIN:VEVENT
DTSTART;VALUE=DATE:20221008
DTEND;VALUE=DATE:20221009
DTSTAMP:20260422T035847
CREATED:20220113T222945Z
LAST-MODIFIED:20220113T222945Z
UID:12801-1665187200-1665273599@www.cardunaldogtraining.com
SUMMARY:Keeshond Speciality
DESCRIPTION:
URL:https://www.cardunaldogtraining.com/event/keeshond-speciality/
LOCATION:CarDunAl Dog Training Club\, 10783 Wolf Dr.\, Huntley\, IL\, 60142\, United States
CATEGORIES:Trials
END:VEVENT
BEGIN:VEVENT
DTSTART;VALUE=DATE:20220924
DTEND;VALUE=DATE:20220925
DTSTAMP:20260422T035847
CREATED:20220502T223324Z
LAST-MODIFIED:20220502T223324Z
UID:13877-1663977600-1664063999@www.cardunaldogtraining.com
SUMMARY:Agility Ability
DESCRIPTION:
URL:https://www.cardunaldogtraining.com/event/agility-ability-4/2022-09-24/
LOCATION:CarDunAl Dog Training Club\, 10783 Wolf Dr.\, Huntley\, IL\, 60142\, United States
CATEGORIES:Trials
END:VEVENT
BEGIN:VEVENT
DTSTART;VALUE=DATE:20220918
DTEND;VALUE=DATE:20220919
DTSTAMP:20260422T035847
CREATED:20220113T201602Z
LAST-MODIFIED:20220113T201602Z
UID:12799-1663459200-1663545599@www.cardunaldogtraining.com
SUMMARY:FVDTC Agility
DESCRIPTION:
URL:https://www.cardunaldogtraining.com/event/fvdtc-agility-6/
LOCATION:CarDunAl Dog Training Club\, 10783 Wolf Dr.\, Huntley\, IL\, 60142\, United States
CATEGORIES:Trials
END:VEVENT
BEGIN:VEVENT
DTSTART;VALUE=DATE:20220917
DTEND;VALUE=DATE:20220918
DTSTAMP:20260422T035847
CREATED:20220113T201528Z
LAST-MODIFIED:20220113T201528Z
UID:12797-1663372800-1663459199@www.cardunaldogtraining.com
SUMMARY:FVDTC Agility
DESCRIPTION:
URL:https://www.cardunaldogtraining.com/event/fvdtc-agility-5/
LOCATION:CarDunAl Dog Training Club\, 10783 Wolf Dr.\, Huntley\, IL\, 60142\, United States
CATEGORIES:Trials
END:VEVENT
BEGIN:VEVENT
DTSTART;VALUE=DATE:20220916
DTEND;VALUE=DATE:20220917
DTSTAMP:20260422T035847
CREATED:20220113T201500Z
LAST-MODIFIED:20220113T201500Z
UID:12794-1663286400-1663372799@www.cardunaldogtraining.com
SUMMARY:FVDTC Agility
DESCRIPTION:
URL:https://www.cardunaldogtraining.com/event/fvdtc-agility-4/
LOCATION:CarDunAl Dog Training Club\, 10783 Wolf Dr.\, Huntley\, IL\, 60142\, United States
CATEGORIES:Trials
END:VEVENT
BEGIN:VEVENT
DTSTART;VALUE=DATE:20220911
DTEND;VALUE=DATE:20220912
DTSTAMP:20260422T035847
CREATED:20220113T201401Z
LAST-MODIFIED:20220113T201401Z
UID:12792-1662854400-1662940799@www.cardunaldogtraining.com
SUMMARY:CDA FCAT (Antioch)
DESCRIPTION:
URL:https://www.cardunaldogtraining.com/event/cda-fcat-antioch-2/
LOCATION:CarDunAl Dog Training Club\, 10783 Wolf Dr.\, Huntley\, IL\, 60142\, United States
CATEGORIES:Trials
END:VEVENT
BEGIN:VEVENT
DTSTART;VALUE=DATE:20220910
DTEND;VALUE=DATE:20220911
DTSTAMP:20260422T035847
CREATED:20220113T201322Z
LAST-MODIFIED:20220113T201322Z
UID:12790-1662768000-1662854399@www.cardunaldogtraining.com
SUMMARY:CDA FCAT (Antioch)
DESCRIPTION:
URL:https://www.cardunaldogtraining.com/event/cda-fcat-antioch/
LOCATION:CarDunAl Dog Training Club\, 10783 Wolf Dr.\, Huntley\, IL\, 60142\, United States
CATEGORIES:Trials
END:VEVENT
BEGIN:VEVENT
DTSTART;VALUE=DATE:20220828
DTEND;VALUE=DATE:20220829
DTSTAMP:20260422T035847
CREATED:20211012T010328Z
LAST-MODIFIED:20220113T201036Z
UID:11984-1661644800-1661731199@www.cardunaldogtraining.com
SUMMARY:CDA Obedience
DESCRIPTION:
URL:https://www.cardunaldogtraining.com/event/cda-obedience-rally-4/
LOCATION:CarDunAl Dog Training Club\, 10783 Wolf Dr.\, Huntley\, IL\, 60142\, United States
CATEGORIES:Trials
END:VEVENT
BEGIN:VEVENT
DTSTART;VALUE=DATE:20220827
DTEND;VALUE=DATE:20220828
DTSTAMP:20260422T035847
CREATED:20211012T010238Z
LAST-MODIFIED:20220113T201127Z
UID:11982-1661558400-1661644799@www.cardunaldogtraining.com
SUMMARY:CDA Obedience
DESCRIPTION:
URL:https://www.cardunaldogtraining.com/event/cda-obedience-rally-3/
LOCATION:CarDunAl Dog Training Club\, 10783 Wolf Dr.\, Huntley\, IL\, 60142\, United States
CATEGORIES:Trials
END:VEVENT
BEGIN:VEVENT
DTSTART;VALUE=DATE:20220826
DTEND;VALUE=DATE:20220827
DTSTAMP:20260422T035847
CREATED:20220113T200926Z
LAST-MODIFIED:20220113T200926Z
UID:12786-1661472000-1661558399@www.cardunaldogtraining.com
SUMMARY:CDA Rally Trial
DESCRIPTION:
URL:https://www.cardunaldogtraining.com/event/cda-rally-trial/
LOCATION:CarDunAl Dog Training Club\, 10783 Wolf Dr.\, Huntley\, IL\, 60142\, United States
CATEGORIES:Trials
END:VEVENT
BEGIN:VEVENT
DTSTART;VALUE=DATE:20220821
DTEND;VALUE=DATE:20220822
DTSTAMP:20260422T035847
CREATED:20211012T010115Z
LAST-MODIFIED:20211012T010115Z
UID:11980-1661040000-1661126399@www.cardunaldogtraining.com
SUMMARY:Race CPE Agility
DESCRIPTION:
URL:https://www.cardunaldogtraining.com/event/race-cpe-agility-2/
LOCATION:CarDunAl Dog Training Club\, 10783 Wolf Dr.\, Huntley\, IL\, 60142\, United States
CATEGORIES:Trials
END:VEVENT
BEGIN:VEVENT
DTSTART;VALUE=DATE:20220820
DTEND;VALUE=DATE:20220821
DTSTAMP:20260422T035847
CREATED:20211012T010013Z
LAST-MODIFIED:20211012T010013Z
UID:11977-1660953600-1661039999@www.cardunaldogtraining.com
SUMMARY:Race CPE Agility
DESCRIPTION:
URL:https://www.cardunaldogtraining.com/event/race-cpe-agility/
LOCATION:CarDunAl Dog Training Club\, 10783 Wolf Dr.\, Huntley\, IL\, 60142\, United States
CATEGORIES:Trials
END:VEVENT
BEGIN:VEVENT
DTSTART;VALUE=DATE:20220814
DTEND;VALUE=DATE:20220815
DTSTAMP:20260422T035847
CREATED:20211012T005808Z
LAST-MODIFIED:20211012T005808Z
UID:11975-1660435200-1660521599@www.cardunaldogtraining.com
SUMMARY:Siberian Husky Club-Agility
DESCRIPTION:
URL:https://www.cardunaldogtraining.com/event/siberian-husky-club-agility/
LOCATION:CarDunAl Dog Training Club\, 10783 Wolf Dr.\, Huntley\, IL\, 60142\, United States
CATEGORIES:Trials
END:VEVENT
BEGIN:VEVENT
DTSTART;VALUE=DATE:20220813
DTEND;VALUE=DATE:20220814
DTSTAMP:20260422T035847
CREATED:20211012T005506Z
LAST-MODIFIED:20211012T005622Z
UID:11971-1660348800-1660435199@www.cardunaldogtraining.com
SUMMARY:Siberian Husky Club-Agility
DESCRIPTION:
URL:https://www.cardunaldogtraining.com/event/siberian-huskyclub-agility/
LOCATION:CarDunAl Dog Training Club\, 10783 Wolf Dr.\, Huntley\, IL\, 60142\, United States
CATEGORIES:Trials
END:VEVENT
BEGIN:VEVENT
DTSTART;VALUE=DATE:20220812
DTEND;VALUE=DATE:20220813
DTSTAMP:20260422T035847
CREATED:20211012T005351Z
LAST-MODIFIED:20211012T005351Z
UID:11969-1660262400-1660348799@www.cardunaldogtraining.com
SUMMARY:Husky Club of Chicago-Agility
DESCRIPTION:
URL:https://www.cardunaldogtraining.com/event/husky-club-of-chicago-agility/
LOCATION:CarDunAl Dog Training Club\, 10783 Wolf Dr.\, Huntley\, IL\, 60142\, United States
CATEGORIES:Trials
END:VEVENT
BEGIN:VEVENT
DTSTART;VALUE=DATE:20220710
DTEND;VALUE=DATE:20220711
DTSTAMP:20260422T035847
CREATED:20220113T200540Z
LAST-MODIFIED:20220113T200540Z
UID:12780-1657411200-1657497599@www.cardunaldogtraining.com
SUMMARY:Greater DeKalb Obed/Rally
DESCRIPTION:
URL:https://www.cardunaldogtraining.com/event/greater-dekalb-obed-rally-2/
LOCATION:CarDunAl Dog Training Club\, 10783 Wolf Dr.\, Huntley\, IL\, 60142\, United States
CATEGORIES:Trials
END:VEVENT
BEGIN:VEVENT
DTSTART;VALUE=DATE:20220709
DTEND;VALUE=DATE:20220710
DTSTAMP:20260422T035847
CREATED:20220113T200505Z
LAST-MODIFIED:20220113T200505Z
UID:12778-1657324800-1657411199@www.cardunaldogtraining.com
SUMMARY:Greater DeKalb Obed/Rally
DESCRIPTION:
URL:https://www.cardunaldogtraining.com/event/greater-dekalb-obed-rally/
LOCATION:CarDunAl Dog Training Club\, 10783 Wolf Dr.\, Huntley\, IL\, 60142\, United States
CATEGORIES:Trials
END:VEVENT
BEGIN:VEVENT
DTSTART;VALUE=DATE:20220522
DTEND;VALUE=DATE:20220523
DTSTAMP:20260422T035847
CREATED:20211012T005134Z
LAST-MODIFIED:20211012T005134Z
UID:11967-1653177600-1653263999@www.cardunaldogtraining.com
SUMMARY:Agility Ability
DESCRIPTION:
URL:https://www.cardunaldogtraining.com/event/agility-ability-3/
LOCATION:CarDunAl Dog Training Club\, 10783 Wolf Dr.\, Huntley\, IL\, 60142\, United States
CATEGORIES:Trials
END:VEVENT
BEGIN:VEVENT
DTSTART;VALUE=DATE:20220521
DTEND;VALUE=DATE:20220522
DTSTAMP:20260422T035847
CREATED:20211012T005059Z
LAST-MODIFIED:20211012T005059Z
UID:11965-1653091200-1653177599@www.cardunaldogtraining.com
SUMMARY:Agility Ability
DESCRIPTION:
URL:https://www.cardunaldogtraining.com/event/agility-ability-2/
LOCATION:CarDunAl Dog Training Club\, 10783 Wolf Dr.\, Huntley\, IL\, 60142\, United States
CATEGORIES:Trials
END:VEVENT
BEGIN:VEVENT
DTSTART;VALUE=DATE:20220515
DTEND;VALUE=DATE:20220516
DTSTAMP:20260422T035847
CREATED:20210902T223909Z
LAST-MODIFIED:20210902T223909Z
UID:11701-1652572800-1652659199@www.cardunaldogtraining.com
SUMMARY:Car-Dun-Al FCAT
DESCRIPTION:
URL:https://www.cardunaldogtraining.com/event/car-dun-al-fcat-3/
LOCATION:CarDunAl Dog Training Club\, 10783 Wolf Dr.\, Huntley\, IL\, 60142\, United States
CATEGORIES:Trials
END:VEVENT
BEGIN:VEVENT
DTSTART;VALUE=DATE:20220514
DTEND;VALUE=DATE:20220515
DTSTAMP:20260422T035847
CREATED:20210902T223813Z
LAST-MODIFIED:20210902T223813Z
UID:11699-1652486400-1652572799@www.cardunaldogtraining.com
SUMMARY:Car-Dun-Al FCAT
DESCRIPTION:
URL:https://www.cardunaldogtraining.com/event/car-dun-al-fcat-2/
LOCATION:CarDunAl Dog Training Club\, 10783 Wolf Dr.\, Huntley\, IL\, 60142\, United States
CATEGORIES:Trials
END:VEVENT
END:VCALENDAR