BEGIN:VCALENDAR
VERSION:2.0
PRODID:-//Car-Dun-Al Dog Obedience Training Club - ECPv6.15.17.1//NONSGML v1.0//EN
CALSCALE:GREGORIAN
METHOD:PUBLISH
X-ORIGINAL-URL:https://www.cardunaldogtraining.com
X-WR-CALDESC:Events for Car-Dun-Al Dog Obedience Training Club
REFRESH-INTERVAL;VALUE=DURATION:PT1H
X-Robots-Tag:noindex
X-PUBLISHED-TTL:PT1H
BEGIN:VTIMEZONE
TZID:America/Chicago
BEGIN:DAYLIGHT
TZOFFSETFROM:-0600
TZOFFSETTO:-0500
TZNAME:CDT
DTSTART:20200308T080000
END:DAYLIGHT
BEGIN:STANDARD
TZOFFSETFROM:-0500
TZOFFSETTO:-0600
TZNAME:CST
DTSTART:20201101T070000
END:STANDARD
BEGIN:DAYLIGHT
TZOFFSETFROM:-0600
TZOFFSETTO:-0500
TZNAME:CDT
DTSTART:20210314T080000
END:DAYLIGHT
BEGIN:STANDARD
TZOFFSETFROM:-0500
TZOFFSETTO:-0600
TZNAME:CST
DTSTART:20211107T070000
END:STANDARD
BEGIN:DAYLIGHT
TZOFFSETFROM:-0600
TZOFFSETTO:-0500
TZNAME:CDT
DTSTART:20220313T080000
END:DAYLIGHT
BEGIN:STANDARD
TZOFFSETFROM:-0500
TZOFFSETTO:-0600
TZNAME:CST
DTSTART:20221106T070000
END:STANDARD
BEGIN:DAYLIGHT
TZOFFSETFROM:-0600
TZOFFSETTO:-0500
TZNAME:CDT
DTSTART:20230312T080000
END:DAYLIGHT
BEGIN:STANDARD
TZOFFSETFROM:-0500
TZOFFSETTO:-0600
TZNAME:CST
DTSTART:20231105T070000
END:STANDARD
END:VTIMEZONE
BEGIN:VEVENT
DTSTART;VALUE=DATE:20220128
DTEND;VALUE=DATE:20220129
DTSTAMP:20260422T092211
CREATED:20211012T002656Z
LAST-MODIFIED:20211012T002656Z
UID:11924-1643328000-1643414399@www.cardunaldogtraining.com
SUMMARY:LaSalle Brittany Agility
DESCRIPTION:
URL:https://www.cardunaldogtraining.com/event/lasalle-brittany-agility/
LOCATION:CarDunAl Dog Training Club\, 10783 Wolf Dr.\, Huntley\, IL\, 60142\, United States
CATEGORIES:Trials
END:VEVENT
BEGIN:VEVENT
DTSTART;VALUE=DATE:20220109
DTEND;VALUE=DATE:20220110
DTSTAMP:20260422T092211
CREATED:20211012T002348Z
LAST-MODIFIED:20211012T002348Z
UID:11922-1641686400-1641772799@www.cardunaldogtraining.com
SUMMARY:CDA Agility
DESCRIPTION:
URL:https://www.cardunaldogtraining.com/event/cda-agility-2/
LOCATION:CarDunAl Dog Training Club\, 10783 Wolf Dr.\, Huntley\, IL\, 60142\, United States
CATEGORIES:Trials
END:VEVENT
BEGIN:VEVENT
DTSTART;VALUE=DATE:20220108
DTEND;VALUE=DATE:20220109
DTSTAMP:20260422T092211
CREATED:20211012T002002Z
LAST-MODIFIED:20211012T002044Z
UID:11919-1641600000-1641686399@www.cardunaldogtraining.com
SUMMARY:CDA Agility
DESCRIPTION:
URL:https://www.cardunaldogtraining.com/event/cda-agility/
LOCATION:CarDunAl Dog Training Club\, 10783 Wolf Dr.\, Huntley\, IL\, 60142\, United States
CATEGORIES:Trials
END:VEVENT
BEGIN:VEVENT
DTSTART;VALUE=DATE:20220107
DTEND;VALUE=DATE:20220108
DTSTAMP:20260422T092211
CREATED:20211012T001822Z
LAST-MODIFIED:20211012T001822Z
UID:11917-1641513600-1641599999@www.cardunaldogtraining.com
SUMMARY:Greater DeKalb Agility
DESCRIPTION:
URL:https://www.cardunaldogtraining.com/event/greater-dekalb-agility/
LOCATION:CarDunAl Dog Training Club\, 10783 Wolf Dr.\, Huntley\, IL\, 60142\, United States
CATEGORIES:Trials
END:VEVENT
BEGIN:VEVENT
DTSTART;TZID=America/Chicago:20211211T080000
DTEND;TZID=America/Chicago:20211211T170000
DTSTAMP:20260422T092211
CREATED:20210309T210611Z
LAST-MODIFIED:20210309T210728Z
UID:9623-1639209600-1639242000@www.cardunaldogtraining.com
SUMMARY:Car-Dun-Al Scent Work Trial
DESCRIPTION:
URL:https://www.cardunaldogtraining.com/event/car-dun-al-scent-work-trial-2/2021-12-11/
LOCATION:CarDunAl Dog Training Club\, 10783 Wolf Dr.\, Huntley\, IL\, 60142\, United States
CATEGORIES:Trials
END:VEVENT
BEGIN:VEVENT
DTSTART;TZID=America/Chicago:20211120T080000
DTEND;TZID=America/Chicago:20211120T170000
DTSTAMP:20260422T092211
CREATED:20210309T210333Z
LAST-MODIFIED:20210715T193843Z
UID:9619-1637395200-1637427600@www.cardunaldogtraining.com
SUMMARY:Race Agility
DESCRIPTION:
URL:https://www.cardunaldogtraining.com/event/race-agility-2/2021-11-20/
LOCATION:CarDunAl Dog Training Club\, 10783 Wolf Dr.\, Huntley\, IL\, 60142\, United States
CATEGORIES:Trials
END:VEVENT
BEGIN:VEVENT
DTSTART;TZID=America/Chicago:20211113T080000
DTEND;TZID=America/Chicago:20211113T170000
DTSTAMP:20260422T092211
CREATED:20210309T210223Z
LAST-MODIFIED:20210715T195042Z
UID:9616-1636790400-1636822800@www.cardunaldogtraining.com
SUMMARY:Car-Dun-Al Obedience and Rally Trial
DESCRIPTION:
URL:https://www.cardunaldogtraining.com/event/car-dun-al-obedience-and-rally-trial-2/2021-11-13/
LOCATION:CarDunAl Dog Training Club\, 10783 Wolf Dr.\, Huntley\, IL\, 60142\, United States
CATEGORIES:Trials
END:VEVENT
BEGIN:VEVENT
DTSTART;TZID=America/Chicago:20211105T063000
DTEND;TZID=America/Chicago:20211105T170000
DTSTAMP:20260422T092211
CREATED:20210309T210022Z
LAST-MODIFIED:20210309T210022Z
UID:9612-1636093800-1636131600@www.cardunaldogtraining.com
SUMMARY:Tibetan Terrier Agility
DESCRIPTION:
URL:https://www.cardunaldogtraining.com/event/tibetan-terrier-agility/2021-11-05/
LOCATION:CarDunAl Dog Training Club\, 10783 Wolf Dr.\, Huntley\, IL\, 60142\, United States
CATEGORIES:Trials
END:VEVENT
BEGIN:VEVENT
DTSTART;TZID=America/Chicago:20211023T063000
DTEND;TZID=America/Chicago:20211023T170000
DTSTAMP:20260422T092211
CREATED:20210309T205748Z
LAST-MODIFIED:20210309T205748Z
UID:9607-1634970600-1635008400@www.cardunaldogtraining.com
SUMMARY:Car-Dun-Al Agility
DESCRIPTION:
URL:https://www.cardunaldogtraining.com/event/car-dun-al-agility/2021-10-23/
LOCATION:CarDunAl Dog Training Club\, 10783 Wolf Dr.\, Huntley\, IL\, 60142\, United States
CATEGORIES:Trials
END:VEVENT
BEGIN:VEVENT
DTSTART;TZID=America/Chicago:20211022T063000
DTEND;TZID=America/Chicago:20211022T170000
DTSTAMP:20260422T092211
CREATED:20210309T205646Z
LAST-MODIFIED:20210309T205646Z
UID:9605-1634884200-1634922000@www.cardunaldogtraining.com
SUMMARY:Keeshond Club Agility
DESCRIPTION:
URL:https://www.cardunaldogtraining.com/event/keeshond-club-agility/
LOCATION:CarDunAl Dog Training Club\, 10783 Wolf Dr.\, Huntley\, IL\, 60142\, United States
CATEGORIES:Trials
END:VEVENT
BEGIN:VEVENT
DTSTART;TZID=America/Chicago:20210911T080000
DTEND;TZID=America/Chicago:20210911T170000
DTSTAMP:20260422T092211
CREATED:20210309T203824Z
LAST-MODIFIED:20210309T204738Z
UID:9589-1631347200-1631379600@www.cardunaldogtraining.com
SUMMARY:Car-Dun-Al FCAT - Antioch
DESCRIPTION:
URL:https://www.cardunaldogtraining.com/event/car-dun-al-fcat-antioch/2021-09-11/
LOCATION:Flint Creek Farm – Antioch\, 27011 W. Wilmot Rd.\, Antioch\, IL\, United States
CATEGORIES:Trials
END:VEVENT
BEGIN:VEVENT
DTSTART;TZID=America/Chicago:20210828T080000
DTEND;TZID=America/Chicago:20210829T170000
DTSTAMP:20260422T092211
CREATED:20210309T000807Z
LAST-MODIFIED:20210309T000807Z
UID:9413-1630137600-1630256400@www.cardunaldogtraining.com
SUMMARY:Car-Dun-Al Obedience and Rally Trial
DESCRIPTION:
URL:https://www.cardunaldogtraining.com/event/car-dun-al-obedience-and-rally-trial/
LOCATION:CarDunAl Dog Training Club\, 10783 Wolf Dr.\, Huntley\, IL\, 60142\, United States
CATEGORIES:Trials
END:VEVENT
BEGIN:VEVENT
DTSTART;TZID=America/Chicago:20210619T080000
DTEND;TZID=America/Chicago:20210620T170000
DTSTAMP:20260422T092211
CREATED:20210314T183510Z
LAST-MODIFIED:20210314T183510Z
UID:9669-1624089600-1624208400@www.cardunaldogtraining.com
SUMMARY:Car-Dun-Al Barn Hunt Trial - Antioch
DESCRIPTION:
URL:https://www.cardunaldogtraining.com/event/car-dun-al-barn-hunt-trial-antioch/
LOCATION:CarDunAl Dog Training Club\, 10783 Wolf Dr.\, Huntley\, IL\, 60142\, United States
CATEGORIES:Trials
END:VEVENT
BEGIN:VEVENT
DTSTART;TZID=America/Chicago:20210501T063000
DTEND;TZID=America/Chicago:20210501T180000
DTSTAMP:20260422T092211
CREATED:20210210T181650Z
LAST-MODIFIED:20210226T191034Z
UID:9097-1619850600-1619892000@www.cardunaldogtraining.com
SUMMARY:Cardunal -  Agility Trial
DESCRIPTION:Dates:  5/1/21 – 5/2/21 (Car-Dun-Al Obedience Dog Training Club) \nPlease go to the “Clinics-Trials-Events” tab to download a copy of the premium (when it becomes available). \nLocation: Trial to be held at Car-Dun-Al ODTC\,  Huntley\, IL
URL:https://www.cardunaldogtraining.com/event/cardinal-agility-trial/2021-05-01/
LOCATION:CarDunAl Dog Training Club\, 10783 Wolf Dr.\, Huntley\, IL\, 60142\, United States
CATEGORIES:Clinics,Events,Trials
END:VEVENT
BEGIN:VEVENT
DTSTART;TZID=America/Chicago:20210430T063000
DTEND;TZID=America/Chicago:20210430T180000
DTSTAMP:20260422T092211
CREATED:20210210T181022Z
LAST-MODIFIED:20210210T181806Z
UID:9090-1619764200-1619805600@www.cardunaldogtraining.com
SUMMARY:Greater DeKalb - Agility Trial
DESCRIPTION:Dates:  4/30/21  (Greater Dekalb Kennel Club) \nPlease go to the “Clinics-Trials-Events” tab to download a copy of the premium (when it becomes available). \nLocation: Trial to be held at Car-Dun-Al ODTC\,  Huntley\, IL.
URL:https://www.cardunaldogtraining.com/event/greater-dekalb-agility-trial/
LOCATION:CarDunAl Dog Training Club\, 10783 Wolf Dr.\, Huntley\, IL\, 60142\, United States
CATEGORIES:Clinics,Events,Trials
END:VEVENT
BEGIN:VEVENT
DTSTART;TZID=America/Chicago:20210424T070000
DTEND;TZID=America/Chicago:20210424T170000
DTSTAMP:20260422T092211
CREATED:20210226T192349Z
LAST-MODIFIED:20210226T192527Z
UID:9335-1619247600-1619283600@www.cardunaldogtraining.com
SUMMARY:Car-Dun-Al Obedience & Rally Trial
DESCRIPTION:Location: Trial to be held at Car-Dun-Al ODTC\,  Huntley\, IL \nPlease go to the Trials to download a copy of the premium (when it becomes available).
URL:https://www.cardunaldogtraining.com/event/car-dun-al-obedience-rally-trial/2021-04-24/
LOCATION:CarDunAl Dog Training Club\, 10783 Wolf Dr.\, Huntley\, IL\, 60142\, United States
CATEGORIES:Trials
END:VEVENT
BEGIN:VEVENT
DTSTART;TZID=America/Chicago:20210210T080000
DTEND;TZID=America/Chicago:20210210T170000
DTSTAMP:20260422T092211
CREATED:20210210T181422Z
LAST-MODIFIED:20210210T181816Z
UID:9094-1612944000-1612976400@www.cardunaldogtraining.com
SUMMARY:Cardunal - Fast Coursing Ability Tests
DESCRIPTION:Dates:  5/15/21 – 5/16/32 \nFast Coursing Ability Tests to be held at: \nMcHenry County Fairgrounds\, 12015 County Club Road\, Woodstock. IL 60098
URL:https://www.cardunaldogtraining.com/event/cardunal-fast-coursing-ability-tests/
LOCATION:McHenry County Fairgrounds\, 12015 County Club Road\, Woodstock\, IL\, 60098\, United States
CATEGORIES:Clinics,Events,Trials
END:VEVENT
END:VCALENDAR