BEGIN:VCALENDAR
VERSION:2.0
PRODID:-//Car-Dun-Al Dog Obedience Training Club - ECPv6.15.17.1//NONSGML v1.0//EN
CALSCALE:GREGORIAN
METHOD:PUBLISH
X-ORIGINAL-URL:https://www.cardunaldogtraining.com
X-WR-CALDESC:Events for Car-Dun-Al Dog Obedience Training Club
REFRESH-INTERVAL;VALUE=DURATION:PT1H
X-Robots-Tag:noindex
X-PUBLISHED-TTL:PT1H
BEGIN:VTIMEZONE
TZID:America/Chicago
BEGIN:DAYLIGHT
TZOFFSETFROM:-0600
TZOFFSETTO:-0500
TZNAME:CDT
DTSTART:20240310T080000
END:DAYLIGHT
BEGIN:STANDARD
TZOFFSETFROM:-0500
TZOFFSETTO:-0600
TZNAME:CST
DTSTART:20241103T070000
END:STANDARD
BEGIN:DAYLIGHT
TZOFFSETFROM:-0600
TZOFFSETTO:-0500
TZNAME:CDT
DTSTART:20250309T080000
END:DAYLIGHT
BEGIN:STANDARD
TZOFFSETFROM:-0500
TZOFFSETTO:-0600
TZNAME:CST
DTSTART:20251102T070000
END:STANDARD
BEGIN:DAYLIGHT
TZOFFSETFROM:-0600
TZOFFSETTO:-0500
TZNAME:CDT
DTSTART:20260308T080000
END:DAYLIGHT
BEGIN:STANDARD
TZOFFSETFROM:-0500
TZOFFSETTO:-0600
TZNAME:CST
DTSTART:20261101T070000
END:STANDARD
END:VTIMEZONE
BEGIN:VEVENT
DTSTART;VALUE=DATE:20250822
DTEND;VALUE=DATE:20250823
DTSTAMP:20260421T085346
CREATED:20241102T014747Z
LAST-MODIFIED:20241102T014747Z
UID:24757-1755820800-1755907199@www.cardunaldogtraining.com
SUMMARY:Cardunal Rally Trial
DESCRIPTION:
URL:https://www.cardunaldogtraining.com/event/cardunal-rally-trial-4/
LOCATION:CarDunAl Dog Training Club\, 10783 Wolf Dr.\, Huntley\, IL\, 60142\, United States
CATEGORIES:Trials
END:VEVENT
BEGIN:VEVENT
DTSTART;VALUE=DATE:20250810
DTEND;VALUE=DATE:20250811
DTSTAMP:20260421T085346
CREATED:20241102T013355Z
LAST-MODIFIED:20241102T013433Z
UID:24748-1754784000-1754870399@www.cardunaldogtraining.com
SUMMARY:Husky Club of America Agility Trial
DESCRIPTION:
URL:https://www.cardunaldogtraining.com/event/husky-club-of-america-agility-trial-3/2025-08-10/
LOCATION:CarDunAl Dog Training Club\, 10783 Wolf Dr.\, Huntley\, IL\, 60142\, United States
CATEGORIES:Trials
END:VEVENT
BEGIN:VEVENT
DTSTART;VALUE=DATE:20250809
DTEND;VALUE=DATE:20250810
DTSTAMP:20260421T085346
CREATED:20241102T013355Z
LAST-MODIFIED:20241102T013432Z
UID:24747-1754697600-1754783999@www.cardunaldogtraining.com
SUMMARY:Husky Club of America Agility Trial
DESCRIPTION:
URL:https://www.cardunaldogtraining.com/event/husky-club-of-america-agility-trial-3/2025-08-09/
LOCATION:CarDunAl Dog Training Club\, 10783 Wolf Dr.\, Huntley\, IL\, 60142\, United States
CATEGORIES:Trials
END:VEVENT
BEGIN:VEVENT
DTSTART;VALUE=DATE:20250808
DTEND;VALUE=DATE:20250809
DTSTAMP:20260421T085346
CREATED:20241102T013212Z
LAST-MODIFIED:20241102T013212Z
UID:24745-1754611200-1754697599@www.cardunaldogtraining.com
SUMMARY:Husky Club of Chicago Agility Trial
DESCRIPTION:
URL:https://www.cardunaldogtraining.com/event/husky-club-of-chicago-agility-trial-2/
LOCATION:CarDunAl Dog Training Club\, 10783 Wolf Dr.\, Huntley\, IL\, 60142\, United States
CATEGORIES:Trials
END:VEVENT
BEGIN:VEVENT
DTSTART;VALUE=DATE:20250803
DTEND;VALUE=DATE:20250804
DTSTAMP:20260421T085346
CREATED:20241102T011023Z
LAST-MODIFIED:20241102T011023Z
UID:24743-1754179200-1754265599@www.cardunaldogtraining.com
SUMMARY:Norwegian Elkhound Specialty
DESCRIPTION:
URL:https://www.cardunaldogtraining.com/event/norwegian-elkhound-specialty/2025-08-03/
LOCATION:CarDunAl Dog Training Club\, 10783 Wolf Dr.\, Huntley\, IL\, 60142\, United States
CATEGORIES:Trials
END:VEVENT
BEGIN:VEVENT
DTSTART;VALUE=DATE:20250802
DTEND;VALUE=DATE:20250803
DTSTAMP:20260421T085346
CREATED:20241102T011023Z
LAST-MODIFIED:20241102T011023Z
UID:24742-1754092800-1754179199@www.cardunaldogtraining.com
SUMMARY:Norwegian Elkhound Specialty
DESCRIPTION:
URL:https://www.cardunaldogtraining.com/event/norwegian-elkhound-specialty/2025-08-02/
LOCATION:CarDunAl Dog Training Club\, 10783 Wolf Dr.\, Huntley\, IL\, 60142\, United States
CATEGORIES:Trials
END:VEVENT
BEGIN:VEVENT
DTSTART;VALUE=DATE:20250720
DTEND;VALUE=DATE:20250721
DTSTAMP:20260421T085346
CREATED:20241102T005859Z
LAST-MODIFIED:20241102T005859Z
UID:24740-1752969600-1753055999@www.cardunaldogtraining.com
SUMMARY:Cardunal Scent Work Trial
DESCRIPTION:
URL:https://www.cardunaldogtraining.com/event/cardunal-scent-work-trial-5/2025-07-20/
LOCATION:CarDunAl Dog Training Club\, 10783 Wolf Dr.\, Huntley\, IL\, 60142\, United States
CATEGORIES:Trials
END:VEVENT
BEGIN:VEVENT
DTSTART;VALUE=DATE:20250719
DTEND;VALUE=DATE:20250720
DTSTAMP:20260421T085346
CREATED:20241102T005859Z
LAST-MODIFIED:20241102T005859Z
UID:24739-1752883200-1752969599@www.cardunaldogtraining.com
SUMMARY:Cardunal Scent Work Trial
DESCRIPTION:
URL:https://www.cardunaldogtraining.com/event/cardunal-scent-work-trial-5/2025-07-19/
LOCATION:CarDunAl Dog Training Club\, 10783 Wolf Dr.\, Huntley\, IL\, 60142\, United States
CATEGORIES:Trials
END:VEVENT
BEGIN:VEVENT
DTSTART;VALUE=DATE:20250706
DTEND;VALUE=DATE:20250707
DTSTAMP:20260421T085346
CREATED:20241102T005606Z
LAST-MODIFIED:20241102T005606Z
UID:24737-1751760000-1751846399@www.cardunaldogtraining.com
SUMMARY:Greater DeKalb Obedience Trial
DESCRIPTION:
URL:https://www.cardunaldogtraining.com/event/greater-dekalb-obedience-trial/2025-07-06/
LOCATION:CarDunAl Dog Training Club\, 10783 Wolf Dr.\, Huntley\, IL\, 60142\, United States
CATEGORIES:Trials
END:VEVENT
BEGIN:VEVENT
DTSTART;VALUE=DATE:20250705
DTEND;VALUE=DATE:20250706
DTSTAMP:20260421T085346
CREATED:20241102T005606Z
LAST-MODIFIED:20241102T005606Z
UID:24736-1751673600-1751759999@www.cardunaldogtraining.com
SUMMARY:Greater DeKalb Obedience Trial
DESCRIPTION:
URL:https://www.cardunaldogtraining.com/event/greater-dekalb-obedience-trial/2025-07-05/
LOCATION:CarDunAl Dog Training Club\, 10783 Wolf Dr.\, Huntley\, IL\, 60142\, United States
CATEGORIES:Trials
END:VEVENT
BEGIN:VEVENT
DTSTART;VALUE=DATE:20250704
DTEND;VALUE=DATE:20250705
DTSTAMP:20260421T085346
CREATED:20241102T005415Z
LAST-MODIFIED:20241102T005455Z
UID:24733-1751587200-1751673599@www.cardunaldogtraining.com
SUMMARY:Greater DeKalb Rally Trial
DESCRIPTION:
URL:https://www.cardunaldogtraining.com/event/greater-dekalb-rally-trial/
LOCATION:CarDunAl Dog Training Club\, 10783 Wolf Dr.\, Huntley\, IL\, 60142\, United States
CATEGORIES:Trials
END:VEVENT
BEGIN:VEVENT
DTSTART;VALUE=DATE:20250629
DTEND;VALUE=DATE:20250630
DTSTAMP:20260421T085346
CREATED:20241221T032205Z
LAST-MODIFIED:20241221T032205Z
UID:25663-1751155200-1751241599@www.cardunaldogtraining.com
SUMMARY:Golden Retriever Club of Illinois
DESCRIPTION:
URL:https://www.cardunaldogtraining.com/event/golden-retriever-club-of-illinois-2/
LOCATION:CarDunAl Dog Training Club\, 10783 Wolf Dr.\, Huntley\, IL\, 60142\, United States
CATEGORIES:Trials
END:VEVENT
BEGIN:VEVENT
DTSTART;VALUE=DATE:20250628
DTEND;VALUE=DATE:20250629
DTSTAMP:20260421T085346
CREATED:20241221T032117Z
LAST-MODIFIED:20241221T032117Z
UID:25661-1751068800-1751155199@www.cardunaldogtraining.com
SUMMARY:Golden Retriever Club of Illinois
DESCRIPTION:
URL:https://www.cardunaldogtraining.com/event/golden-retriever-club-of-illinois/
LOCATION:CarDunAl Dog Training Club\, 10783 Wolf Dr.\, Huntley\, IL\, 60142\, United States
CATEGORIES:Trials
END:VEVENT
BEGIN:VEVENT
DTSTART;VALUE=DATE:20250518
DTEND;VALUE=DATE:20250519
DTSTAMP:20260421T085346
CREATED:20241102T004004Z
LAST-MODIFIED:20241102T004004Z
UID:24723-1747526400-1747612799@www.cardunaldogtraining.com
SUMMARY:Agility Ability Agility trial
DESCRIPTION:
URL:https://www.cardunaldogtraining.com/event/agility-ability-agility-trial-5/2025-05-18/
LOCATION:CarDunAl Dog Training Club\, 10783 Wolf Dr.\, Huntley\, IL\, 60142\, United States
CATEGORIES:Trials
END:VEVENT
BEGIN:VEVENT
DTSTART;VALUE=DATE:20250517
DTEND;VALUE=DATE:20250518
DTSTAMP:20260421T085346
CREATED:20241102T004004Z
LAST-MODIFIED:20241102T004004Z
UID:24722-1747440000-1747526399@www.cardunaldogtraining.com
SUMMARY:Agility Ability Agility trial
DESCRIPTION:
URL:https://www.cardunaldogtraining.com/event/agility-ability-agility-trial-5/2025-05-17/
LOCATION:CarDunAl Dog Training Club\, 10783 Wolf Dr.\, Huntley\, IL\, 60142\, United States
CATEGORIES:Trials
END:VEVENT
BEGIN:VEVENT
DTSTART;VALUE=DATE:20250504
DTEND;VALUE=DATE:20250505
DTSTAMP:20260421T085346
CREATED:20241102T003556Z
LAST-MODIFIED:20241102T003556Z
UID:24718-1746316800-1746403199@www.cardunaldogtraining.com
SUMMARY:Greater DeKalb Agility Trial
DESCRIPTION:
URL:https://www.cardunaldogtraining.com/event/greater-dekalb-agility-trial-6/2025-05-04/
LOCATION:CarDunAl Dog Training Club\, 10783 Wolf Dr.\, Huntley\, IL\, 60142\, United States
CATEGORIES:Trials
END:VEVENT
BEGIN:VEVENT
DTSTART;VALUE=DATE:20250503
DTEND;VALUE=DATE:20250504
DTSTAMP:20260421T085346
CREATED:20241102T003556Z
LAST-MODIFIED:20241102T003556Z
UID:24717-1746230400-1746316799@www.cardunaldogtraining.com
SUMMARY:Greater DeKalb Agility Trial
DESCRIPTION:
URL:https://www.cardunaldogtraining.com/event/greater-dekalb-agility-trial-6/2025-05-03/
LOCATION:CarDunAl Dog Training Club\, 10783 Wolf Dr.\, Huntley\, IL\, 60142\, United States
CATEGORIES:Trials
END:VEVENT
BEGIN:VEVENT
DTSTART;VALUE=DATE:20250502
DTEND;VALUE=DATE:20250503
DTSTAMP:20260421T085347
CREATED:20241102T003556Z
LAST-MODIFIED:20241102T003556Z
UID:24716-1746144000-1746230399@www.cardunaldogtraining.com
SUMMARY:Greater DeKalb Agility Trial
DESCRIPTION:
URL:https://www.cardunaldogtraining.com/event/greater-dekalb-agility-trial-6/2025-05-02/
LOCATION:CarDunAl Dog Training Club\, 10783 Wolf Dr.\, Huntley\, IL\, 60142\, United States
CATEGORIES:Trials
END:VEVENT
BEGIN:VEVENT
DTSTART;VALUE=DATE:20250427
DTEND;VALUE=DATE:20250428
DTSTAMP:20260421T085347
CREATED:20241102T003317Z
LAST-MODIFIED:20241102T003317Z
UID:24713-1745712000-1745798399@www.cardunaldogtraining.com
SUMMARY:Cardunal Agility Trial
DESCRIPTION:
URL:https://www.cardunaldogtraining.com/event/cardunal-agility-trial-11/2025-04-27/
LOCATION:CarDunAl Dog Training Club\, 10783 Wolf Dr.\, Huntley\, IL\, 60142\, United States
CATEGORIES:Trials
END:VEVENT
BEGIN:VEVENT
DTSTART;VALUE=DATE:20250426
DTEND;VALUE=DATE:20250427
DTSTAMP:20260421T085347
CREATED:20241102T003317Z
LAST-MODIFIED:20241102T003317Z
UID:24712-1745625600-1745711999@www.cardunaldogtraining.com
SUMMARY:Cardunal Agility Trial
DESCRIPTION:
URL:https://www.cardunaldogtraining.com/event/cardunal-agility-trial-11/2025-04-26/
LOCATION:CarDunAl Dog Training Club\, 10783 Wolf Dr.\, Huntley\, IL\, 60142\, United States
CATEGORIES:Trials
END:VEVENT
BEGIN:VEVENT
DTSTART;VALUE=DATE:20250425
DTEND;VALUE=DATE:20250426
DTSTAMP:20260421T085347
CREATED:20241102T003317Z
LAST-MODIFIED:20241102T003317Z
UID:24711-1745539200-1745625599@www.cardunaldogtraining.com
SUMMARY:Cardunal Agility Trial
DESCRIPTION:
URL:https://www.cardunaldogtraining.com/event/cardunal-agility-trial-11/2025-04-25/
LOCATION:CarDunAl Dog Training Club\, 10783 Wolf Dr.\, Huntley\, IL\, 60142\, United States
CATEGORIES:Trials
END:VEVENT
BEGIN:VEVENT
DTSTART;VALUE=DATE:20250330
DTEND;VALUE=DATE:20250331
DTSTAMP:20260421T085347
CREATED:20241102T002512Z
LAST-MODIFIED:20241102T002512Z
UID:24705-1743292800-1743379199@www.cardunaldogtraining.com
SUMMARY:FVDTC Agility Trial
DESCRIPTION:
URL:https://www.cardunaldogtraining.com/event/fvdtc-agility-trial-8/
LOCATION:CarDunAl Dog Training Club\, 10783 Wolf Dr.\, Huntley\, IL\, 60142\, United States
CATEGORIES:Trials
END:VEVENT
BEGIN:VEVENT
DTSTART;VALUE=DATE:20250329
DTEND;VALUE=DATE:20250330
DTSTAMP:20260421T085347
CREATED:20241102T002441Z
LAST-MODIFIED:20241102T002441Z
UID:24703-1743206400-1743292799@www.cardunaldogtraining.com
SUMMARY:FVDTC Agility Trial
DESCRIPTION:
URL:https://www.cardunaldogtraining.com/event/fvdtc-agility-trial-7/
LOCATION:CarDunAl Dog Training Club\, 10783 Wolf Dr.\, Huntley\, IL\, 60142\, United States
CATEGORIES:Trials
END:VEVENT
BEGIN:VEVENT
DTSTART;VALUE=DATE:20250328
DTEND;VALUE=DATE:20250329
DTSTAMP:20260421T085347
CREATED:20241102T002407Z
LAST-MODIFIED:20241102T002407Z
UID:24701-1743120000-1743206399@www.cardunaldogtraining.com
SUMMARY:FVDTC Agility Trial
DESCRIPTION:
URL:https://www.cardunaldogtraining.com/event/fvdtc-agility-trial-6/
LOCATION:CarDunAl Dog Training Club\, 10783 Wolf Dr.\, Huntley\, IL\, 60142\, United States
CATEGORIES:Trials
END:VEVENT
BEGIN:VEVENT
DTSTART;VALUE=DATE:20250316
DTEND;VALUE=DATE:20250317
DTSTAMP:20260421T085347
CREATED:20241027T215659Z
LAST-MODIFIED:20241027T215659Z
UID:24690-1742083200-1742169599@www.cardunaldogtraining.com
SUMMARY:Cardunal Agility Trial
DESCRIPTION:
URL:https://www.cardunaldogtraining.com/event/cardunal-agility-trial-10/
LOCATION:CarDunAl Dog Training Club\, 10783 Wolf Dr.\, Huntley\, IL\, 60142\, United States
CATEGORIES:Trials
END:VEVENT
BEGIN:VEVENT
DTSTART;VALUE=DATE:20250315
DTEND;VALUE=DATE:20250316
DTSTAMP:20260421T085347
CREATED:20241027T215503Z
LAST-MODIFIED:20241027T215503Z
UID:24687-1741996800-1742083199@www.cardunaldogtraining.com
SUMMARY:Cardunal Agility Trial
DESCRIPTION:
URL:https://www.cardunaldogtraining.com/event/cardunal-agility-trial-9/
LOCATION:CarDunAl Dog Training Club\, 10783 Wolf Dr.\, Huntley\, IL\, 60142\, United States
CATEGORIES:Trials
END:VEVENT
BEGIN:VEVENT
DTSTART;VALUE=DATE:20250314
DTEND;VALUE=DATE:20250315
DTSTAMP:20260421T085347
CREATED:20241027T214322Z
LAST-MODIFIED:20241027T214322Z
UID:24676-1741910400-1741996799@www.cardunaldogtraining.com
SUMMARY:Bernese Mountain Dog Club of Northeastern Illinois Agility Trial
DESCRIPTION:
URL:https://www.cardunaldogtraining.com/event/bernese-mountain-dog-club-of-northeastern-illinois-agility-trial/
LOCATION:CarDunAl Dog Training Club\, 10783 Wolf Dr.\, Huntley\, IL\, 60142\, United States
CATEGORIES:Trials
END:VEVENT
BEGIN:VEVENT
DTSTART;VALUE=DATE:20250309
DTEND;VALUE=DATE:20250310
DTSTAMP:20260421T085347
CREATED:20241027T214111Z
LAST-MODIFIED:20241027T214111Z
UID:24674-1741478400-1741564799@www.cardunaldogtraining.com
SUMMARY:Belgian Tervuren Specialty
DESCRIPTION:
URL:https://www.cardunaldogtraining.com/event/belgian-tervuren-specialty-5/
LOCATION:CarDunAl Dog Training Club\, 10783 Wolf Dr.\, Huntley\, IL\, 60142\, United States
CATEGORIES:Trials
END:VEVENT
BEGIN:VEVENT
DTSTART;VALUE=DATE:20250308
DTEND;VALUE=DATE:20250309
DTSTAMP:20260421T085347
CREATED:20241027T214039Z
LAST-MODIFIED:20241027T214039Z
UID:24672-1741392000-1741478399@www.cardunaldogtraining.com
SUMMARY:Belgian Tervuren Specialty
DESCRIPTION:
URL:https://www.cardunaldogtraining.com/event/belgian-tervuren-specialty-4/
LOCATION:CarDunAl Dog Training Club\, 10783 Wolf Dr.\, Huntley\, IL\, 60142\, United States
CATEGORIES:Trials
END:VEVENT
BEGIN:VEVENT
DTSTART;VALUE=DATE:20250307
DTEND;VALUE=DATE:20250308
DTSTAMP:20260421T085347
CREATED:20241027T214002Z
LAST-MODIFIED:20241027T214002Z
UID:24670-1741305600-1741391999@www.cardunaldogtraining.com
SUMMARY:Belgian Tervuren Specialty
DESCRIPTION:
URL:https://www.cardunaldogtraining.com/event/belgian-tervuren-specialty-3/
LOCATION:CarDunAl Dog Training Club\, 10783 Wolf Dr.\, Huntley\, IL\, 60142\, United States
CATEGORIES:Trials
END:VEVENT
END:VCALENDAR