BEGIN:VCALENDAR
VERSION:2.0
PRODID:-//Car-Dun-Al Dog Obedience Training Club - ECPv6.15.17.1//NONSGML v1.0//EN
CALSCALE:GREGORIAN
METHOD:PUBLISH
X-WR-CALNAME:Car-Dun-Al Dog Obedience Training Club
X-ORIGINAL-URL:https://www.cardunaldogtraining.com
X-WR-CALDESC:Events for Car-Dun-Al Dog Obedience Training Club
REFRESH-INTERVAL;VALUE=DURATION:PT1H
X-Robots-Tag:noindex
X-PUBLISHED-TTL:PT1H
BEGIN:VTIMEZONE
TZID:America/Chicago
BEGIN:DAYLIGHT
TZOFFSETFROM:-0600
TZOFFSETTO:-0500
TZNAME:CDT
DTSTART:20230312T080000
END:DAYLIGHT
BEGIN:STANDARD
TZOFFSETFROM:-0500
TZOFFSETTO:-0600
TZNAME:CST
DTSTART:20231105T070000
END:STANDARD
BEGIN:DAYLIGHT
TZOFFSETFROM:-0600
TZOFFSETTO:-0500
TZNAME:CDT
DTSTART:20240310T080000
END:DAYLIGHT
BEGIN:STANDARD
TZOFFSETFROM:-0500
TZOFFSETTO:-0600
TZNAME:CST
DTSTART:20241103T070000
END:STANDARD
BEGIN:DAYLIGHT
TZOFFSETFROM:-0600
TZOFFSETTO:-0500
TZNAME:CDT
DTSTART:20250309T080000
END:DAYLIGHT
BEGIN:STANDARD
TZOFFSETFROM:-0500
TZOFFSETTO:-0600
TZNAME:CST
DTSTART:20251102T070000
END:STANDARD
END:VTIMEZONE
BEGIN:VEVENT
DTSTART;VALUE=DATE:20240630
DTEND;VALUE=DATE:20240701
DTSTAMP:20260421T162546
CREATED:20231018T012159Z
LAST-MODIFIED:20231023T181555Z
UID:19307-1719705600-1719791999@www.cardunaldogtraining.com
SUMMARY:Neianea Speciality
DESCRIPTION:
URL:https://www.cardunaldogtraining.com/event/neianea-speciality-2/
LOCATION:CarDunAl Dog Training Club\, 10783 Wolf Dr.\, Huntley\, IL\, 60142\, United States
CATEGORIES:Trials
END:VEVENT
BEGIN:VEVENT
DTSTART;VALUE=DATE:20240629
DTEND;VALUE=DATE:20240630
DTSTAMP:20260421T162546
CREATED:20231018T012119Z
LAST-MODIFIED:20231023T181642Z
UID:19305-1719619200-1719705599@www.cardunaldogtraining.com
SUMMARY:Neianea Speciality
DESCRIPTION:
URL:https://www.cardunaldogtraining.com/event/neianea-speciality/
LOCATION:CarDunAl Dog Training Club\, 10783 Wolf Dr.\, Huntley\, IL\, 60142\, United States
CATEGORIES:Trials
END:VEVENT
BEGIN:VEVENT
DTSTART;TZID=America/Chicago:20240627T210000
DTEND;TZID=America/Chicago:20240627T220000
DTSTAMP:20260421T162546
CREATED:20240529T022348Z
LAST-MODIFIED:20240529T022348Z
UID:22877-1719522000-1719525600@www.cardunaldogtraining.com
SUMMARY:Open/Utility Obedience – No Instructor
DESCRIPTION:
URL:https://www.cardunaldogtraining.com/event/open-utility-obedience-no-instructor-12/2024-06-27/
LOCATION:CarDunAl Dog Training Club\, 10783 Wolf Dr.\, Huntley\, IL\, 60142\, United States
CATEGORIES:Advanced
END:VEVENT
BEGIN:VEVENT
DTSTART;TZID=America/Chicago:20240627T200000
DTEND;TZID=America/Chicago:20240627T210000
DTSTAMP:20260421T162546
CREATED:20240524T004337Z
LAST-MODIFIED:20240529T021144Z
UID:22370-1719518400-1719522000@www.cardunaldogtraining.com
SUMMARY:Utility Obedience
DESCRIPTION:
URL:https://www.cardunaldogtraining.com/event/utility-obedience-6/2024-06-27/
LOCATION:CarDunAl Dog Training Club\, 10783 Wolf Dr.\, Huntley\, IL\, 60142\, United States
CATEGORIES:Advanced
END:VEVENT
BEGIN:VEVENT
DTSTART;TZID=America/Chicago:20240627T200000
DTEND;TZID=America/Chicago:20240627T210000
DTSTAMP:20260421T162546
CREATED:20240524T003938Z
LAST-MODIFIED:20240529T021552Z
UID:22345-1719518400-1719522000@www.cardunaldogtraining.com
SUMMARY:Open Obedience
DESCRIPTION:
URL:https://www.cardunaldogtraining.com/event/open-obedience-16/2024-06-27/
LOCATION:CarDunAl Dog Training Club\, 10783 Wolf Dr.\, Huntley\, IL\, 60142\, United States
CATEGORIES:Advanced
END:VEVENT
BEGIN:VEVENT
DTSTART;TZID=America/Chicago:20240627T200000
DTEND;TZID=America/Chicago:20240627T210000
DTSTAMP:20260421T162546
CREATED:20240524T003806Z
LAST-MODIFIED:20240524T012419Z
UID:22333-1719518400-1719522000@www.cardunaldogtraining.com
SUMMARY:Pre-Open Obedience
DESCRIPTION:
URL:https://www.cardunaldogtraining.com/event/pre-open-obedience-13/2024-06-27/
LOCATION:CarDunAl Dog Training Club\, 10783 Wolf Dr.\, Huntley\, IL\, 60142\, United States
CATEGORIES:Advanced
END:VEVENT
BEGIN:VEVENT
DTSTART;TZID=America/Chicago:20240627T200000
DTEND;TZID=America/Chicago:20240627T210000
DTSTAMP:20260421T162546
CREATED:20240522T021034Z
LAST-MODIFIED:20240524T010515Z
UID:22256-1719518400-1719522000@www.cardunaldogtraining.com
SUMMARY:Beginner Obedience
DESCRIPTION:
URL:https://www.cardunaldogtraining.com/event/beginner-obedience-28/2024-06-27/
LOCATION:CarDunAl Dog Training Club\, 10783 Wolf Dr.\, Huntley\, IL\, 60142\, United States
CATEGORIES:Beginners
END:VEVENT
BEGIN:VEVENT
DTSTART;TZID=America/Chicago:20240627T190000
DTEND;TZID=America/Chicago:20240627T200000
DTSTAMP:20260421T162546
CREATED:20240524T004202Z
LAST-MODIFIED:20240529T021332Z
UID:22357-1719514800-1719518400@www.cardunaldogtraining.com
SUMMARY:Utility Obedience
DESCRIPTION:
URL:https://www.cardunaldogtraining.com/event/utility-obedience-5/2024-06-27/
LOCATION:CarDunAl Dog Training Club\, 10783 Wolf Dr.\, Huntley\, IL\, 60142\, United States
CATEGORIES:Advanced
END:VEVENT
BEGIN:VEVENT
DTSTART;TZID=America/Chicago:20240627T190000
DTEND;TZID=America/Chicago:20240627T200000
DTSTAMP:20260421T162546
CREATED:20240524T003315Z
LAST-MODIFIED:20240524T011347Z
UID:22310-1719514800-1719518400@www.cardunaldogtraining.com
SUMMARY:Novice Obedience
DESCRIPTION:
URL:https://www.cardunaldogtraining.com/event/novice-obedience-19/2024-06-27/
LOCATION:CarDunAl Dog Training Club\, 10783 Wolf Dr.\, Huntley\, IL\, 60142\, United States
CATEGORIES:Advanced
END:VEVENT
BEGIN:VEVENT
DTSTART;TZID=America/Chicago:20240627T190000
DTEND;TZID=America/Chicago:20240627T200000
DTSTAMP:20260421T162546
CREATED:20240522T021521Z
LAST-MODIFIED:20240524T011546Z
UID:22280-1719514800-1719518400@www.cardunaldogtraining.com
SUMMARY:Beginner Novice Obedience
DESCRIPTION:
URL:https://www.cardunaldogtraining.com/event/beginner-novice-obedience-10/2024-06-27/
LOCATION:CarDunAl Dog Training Club\, 10783 Wolf Dr.\, Huntley\, IL\, 60142\, United States
CATEGORIES:Advanced
END:VEVENT
BEGIN:VEVENT
DTSTART;TZID=America/Chicago:20240627T180000
DTEND;TZID=America/Chicago:20240627T190000
DTSTAMP:20260421T162546
CREATED:20240529T022232Z
LAST-MODIFIED:20240529T022232Z
UID:22866-1719511200-1719514800@www.cardunaldogtraining.com
SUMMARY:Open/Utility Obedience – No Instructor
DESCRIPTION:
URL:https://www.cardunaldogtraining.com/event/open-utility-obedience-no-instructor-11/2024-06-27/
LOCATION:CarDunAl Dog Training Club\, 10783 Wolf Dr.\, Huntley\, IL\, 60142\, United States
CATEGORIES:Advanced
END:VEVENT
BEGIN:VEVENT
DTSTART;TZID=America/Chicago:20240627T180000
DTEND;TZID=America/Chicago:20240627T190000
DTSTAMP:20260421T162546
CREATED:20240522T021357Z
LAST-MODIFIED:20240524T011844Z
UID:22268-1719511200-1719514800@www.cardunaldogtraining.com
SUMMARY:Beginner Novice Obedience
DESCRIPTION:
URL:https://www.cardunaldogtraining.com/event/beginner-novice-obedience-9/2024-06-27/
LOCATION:CarDunAl Dog Training Club\, 10783 Wolf Dr.\, Huntley\, IL\, 60142\, United States
CATEGORIES:Advanced
END:VEVENT
BEGIN:VEVENT
DTSTART;TZID=America/Chicago:20240627T173000
DTEND;TZID=America/Chicago:20240627T190000
DTSTAMP:20260421T162546
CREATED:20231123T003905Z
LAST-MODIFIED:20240906T232101Z
UID:20138-1719509400-1719514800@www.cardunaldogtraining.com
SUMMARY:Drop In Rally Training
DESCRIPTION:
URL:https://www.cardunaldogtraining.com/event/drop-in-rally-training-2/2024-06-27/
LOCATION:CarDunAl Dog Training Club\, 10783 Wolf Dr.\, Huntley\, IL\, 60142\, United States
END:VEVENT
BEGIN:VEVENT
DTSTART;TZID=America/Chicago:20240627T113000
DTEND;TZID=America/Chicago:20240627T123000
DTSTAMP:20260421T162546
CREATED:20240524T014332Z
LAST-MODIFIED:20240524T014332Z
UID:22497-1719487800-1719491400@www.cardunaldogtraining.com
SUMMARY:Beginner Obedience
DESCRIPTION:
URL:https://www.cardunaldogtraining.com/event/beginner-obedience-26/2024-06-27/
LOCATION:CarDunAl Dog Training Club\, 10783 Wolf Dr.\, Huntley\, IL\, 60142\, United States
CATEGORIES:Beginners
END:VEVENT
BEGIN:VEVENT
DTSTART;TZID=America/Chicago:20240626T190000
DTEND;TZID=America/Chicago:20240626T200000
DTSTAMP:20260421T162546
CREATED:20240207T020143Z
LAST-MODIFIED:20240910T210828Z
UID:20903-1719428400-1719432000@www.cardunaldogtraining.com
SUMMARY:Drop In Conformation
DESCRIPTION:
URL:https://www.cardunaldogtraining.com/event/drop-in-conformation/2024-06-26/
LOCATION:CarDunAl Dog Training Club\, 10783 Wolf Dr.\, Huntley\, IL\, 60142\, United States
CATEGORIES:Drop In Training
END:VEVENT
BEGIN:VEVENT
DTSTART;TZID=America/Chicago:20240626T180000
DTEND;TZID=America/Chicago:20240626T184500
DTSTAMP:20260421T162546
CREATED:20240513T185654Z
LAST-MODIFIED:20240513T185654Z
UID:24576-1719424800-1719427500@www.cardunaldogtraining.com
SUMMARY:Novice Conformation Handling Drop-in Training
DESCRIPTION:This class is designed for novice handlers or handlers who need a little more guidance or for young dogs not quite ready for the regular conformation class
URL:https://www.cardunaldogtraining.com/event/puppy-socialization-conformation/2024-06-26/
LOCATION:CarDunAl Dog Training Club\, 10783 Wolf Dr.\, Huntley\, IL\, 60142\, United States
CATEGORIES:Drop In Training
END:VEVENT
BEGIN:VEVENT
DTSTART;TZID=America/Chicago:20240626T113000
DTEND;TZID=America/Chicago:20240626T123000
DTSTAMP:20260421T162546
CREATED:20240522T020414Z
LAST-MODIFIED:20240701T180853Z
UID:22223-1719401400-1719405000@www.cardunaldogtraining.com
SUMMARY:Beginner Obedience
DESCRIPTION:
URL:https://www.cardunaldogtraining.com/event/beginner-obedience-25/2024-06-26/
LOCATION:CarDunAl Dog Training Club\, 10783 Wolf Dr.\, Huntley\, IL\, 60142\, United States
CATEGORIES:Beginners
END:VEVENT
BEGIN:VEVENT
DTSTART;TZID=America/Chicago:20240626T100000
DTEND;TZID=America/Chicago:20240626T120000
DTSTAMP:20260421T162546
CREATED:20231123T003335Z
LAST-MODIFIED:20240910T210659Z
UID:20088-1719396000-1719403200@www.cardunaldogtraining.com
SUMMARY:Drop In Obedience Training
DESCRIPTION:
URL:https://www.cardunaldogtraining.com/event/drop-in-obedience-training-3/2024-06-26/
LOCATION:CarDunAl Dog Training Club\, 10783 Wolf Dr.\, Huntley\, IL\, 60142\, United States
CATEGORIES:Drop In Training
END:VEVENT
BEGIN:VEVENT
DTSTART;TZID=America/Chicago:20240626T100000
DTEND;TZID=America/Chicago:20240626T110000
DTSTAMP:20260421T162546
CREATED:20240524T003512Z
LAST-MODIFIED:20240701T180614Z
UID:22322-1719396000-1719399600@www.cardunaldogtraining.com
SUMMARY:Open Obedience
DESCRIPTION:
URL:https://www.cardunaldogtraining.com/event/open-obedience-15/2024-06-26/
LOCATION:CarDunAl Dog Training Club\, 10783 Wolf Dr.\, Huntley\, IL\, 60142\, United States
CATEGORIES:Advanced
END:VEVENT
BEGIN:VEVENT
DTSTART;TZID=America/Chicago:20240626T100000
DTEND;TZID=America/Chicago:20240626T110000
DTSTAMP:20260421T162546
CREATED:20240524T003006Z
LAST-MODIFIED:20240701T175055Z
UID:22829-1719396000-1719399600@www.cardunaldogtraining.com
SUMMARY:Novice Obedience
DESCRIPTION:
URL:https://www.cardunaldogtraining.com/event/novice-obedience-18/2024-06-26/
LOCATION:CarDunAl Dog Training Club\, 10783 Wolf Dr.\, Huntley\, IL\, 60142\, United States
CATEGORIES:Advanced
END:VEVENT
BEGIN:VEVENT
DTSTART;TZID=America/Chicago:20240626T090000
DTEND;TZID=America/Chicago:20240626T100000
DTSTAMP:20260421T162546
CREATED:20240524T005018Z
LAST-MODIFIED:20240701T174936Z
UID:22382-1719392400-1719396000@www.cardunaldogtraining.com
SUMMARY:Open Utility Obedience No Instruction
DESCRIPTION:
URL:https://www.cardunaldogtraining.com/event/open-utility-obedience-no-instruction-4/2024-06-26/
LOCATION:CarDunAl Dog Training Club\, 10783 Wolf Dr.\, Huntley\, IL\, 60142\, United States
CATEGORIES:Advanced
END:VEVENT
BEGIN:VEVENT
DTSTART;TZID=America/Chicago:20240625T190000
DTEND;TZID=America/Chicago:20240625T200000
DTSTAMP:20260421T162546
CREATED:20240529T015137Z
LAST-MODIFIED:20240801T232833Z
UID:22786-1719342000-1719345600@www.cardunaldogtraining.com
SUMMARY:Intermediate Agility Level 3
DESCRIPTION:
URL:https://www.cardunaldogtraining.com/event/intermediate-agility-level-3-4/2024-06-25/
LOCATION:CarDunAl Dog Training Club\, 10783 Wolf Dr.\, Huntley\, IL\, 60142\, United States
CATEGORIES:Agility
END:VEVENT
BEGIN:VEVENT
DTSTART;TZID=America/Chicago:20240625T180000
DTEND;TZID=America/Chicago:20240625T190000
DTSTAMP:20260421T162546
CREATED:20240522T020122Z
LAST-MODIFIED:20240701T164914Z
UID:22213-1719338400-1719342000@www.cardunaldogtraining.com
SUMMARY:Puppy Class Obedience
DESCRIPTION:
URL:https://www.cardunaldogtraining.com/event/puppy-class-obedience-7/2024-06-25/
LOCATION:CarDunAl Dog Training Club\, 10783 Wolf Dr.\, Huntley\, IL\, 60142\, United States
CATEGORIES:AKC Star Puppy / Pre-Beginners Class
END:VEVENT
BEGIN:VEVENT
DTSTART;TZID=America/Chicago:20240625T151500
DTEND;TZID=America/Chicago:20240625T161500
DTSTAMP:20260421T162546
CREATED:20240529T020140Z
LAST-MODIFIED:20240701T164552Z
UID:22819-1719328500-1719332100@www.cardunaldogtraining.com
SUMMARY:Scent Work Level 2
DESCRIPTION:
URL:https://www.cardunaldogtraining.com/event/scent-work-level-2-3/2024-06-25/
LOCATION:CarDunAl Dog Training Club\, 10783 Wolf Dr.\, Huntley\, IL\, 60142\, United States
CATEGORIES:Scent Work
END:VEVENT
BEGIN:VEVENT
DTSTART;TZID=America/Chicago:20240625T134500
DTEND;TZID=America/Chicago:20240625T144500
DTSTAMP:20260421T162546
CREATED:20240529T020038Z
LAST-MODIFIED:20240701T163914Z
UID:22808-1719323100-1719326700@www.cardunaldogtraining.com
SUMMARY:Scent Work Level 1
DESCRIPTION:
URL:https://www.cardunaldogtraining.com/event/scent-work-level-1-4/2024-06-25/
LOCATION:CarDunAl Dog Training Club\, 10783 Wolf Dr.\, Huntley\, IL\, 60142\, United States
CATEGORIES:Scent Work
END:VEVENT
BEGIN:VEVENT
DTSTART;TZID=America/Chicago:20240625T123000
DTEND;TZID=America/Chicago:20240625T133000
DTSTAMP:20260421T162546
CREATED:20240529T015906Z
LAST-MODIFIED:20240701T164253Z
UID:22797-1719318600-1719322200@www.cardunaldogtraining.com
SUMMARY:Scent Work Level 1
DESCRIPTION:
URL:https://www.cardunaldogtraining.com/event/scent-work-level-1-3/2024-06-25/
LOCATION:CarDunAl Dog Training Club\, 10783 Wolf Dr.\, Huntley\, IL\, 60142\, United States
CATEGORIES:Scent Work
END:VEVENT
BEGIN:VEVENT
DTSTART;TZID=America/Chicago:20240624T200000
DTEND;TZID=America/Chicago:20240624T210000
DTSTAMP:20260421T162546
CREATED:20240529T013951Z
LAST-MODIFIED:20240701T163209Z
UID:22744-1719259200-1719262800@www.cardunaldogtraining.com
SUMMARY:Competition Agility Level 5
DESCRIPTION:
URL:https://www.cardunaldogtraining.com/event/competition-agility-level-5-9/2024-06-24/
LOCATION:CarDunAl Dog Training Club\, 10783 Wolf Dr.\, Huntley\, IL\, 60142\, United States
CATEGORIES:Agility
END:VEVENT
BEGIN:VEVENT
DTSTART;TZID=America/Chicago:20240624T200000
DTEND;TZID=America/Chicago:20240624T210000
DTSTAMP:20260421T162546
CREATED:20240529T013427Z
LAST-MODIFIED:20240701T163548Z
UID:22689-1719259200-1719262800@www.cardunaldogtraining.com
SUMMARY:Beginner Agility Level 1
DESCRIPTION:
URL:https://www.cardunaldogtraining.com/event/beginner-agility-level-1-4/2024-06-24/
LOCATION:CarDunAl Dog Training Club\, 10783 Wolf Dr.\, Huntley\, IL\, 60142\, United States
CATEGORIES:Agility
END:VEVENT
BEGIN:VEVENT
DTSTART;TZID=America/Chicago:20240624T190000
DTEND;TZID=America/Chicago:20240624T200000
DTSTAMP:20260421T162546
CREATED:20240529T013912Z
LAST-MODIFIED:20240701T163321Z
UID:22733-1719255600-1719259200@www.cardunaldogtraining.com
SUMMARY:Competition Agility Level 5
DESCRIPTION:
URL:https://www.cardunaldogtraining.com/event/competition-agility-level-5-8/2024-06-24/
LOCATION:CarDunAl Dog Training Club\, 10783 Wolf Dr.\, Huntley\, IL\, 60142\, United States
CATEGORIES:Agility
END:VEVENT
BEGIN:VEVENT
DTSTART;TZID=America/Chicago:20240624T190000
DTEND;TZID=America/Chicago:20240624T200000
DTSTAMP:20260421T162546
CREATED:20240529T013755Z
LAST-MODIFIED:20240701T163441Z
UID:22722-1719255600-1719259200@www.cardunaldogtraining.com
SUMMARY:Intermediate Agility Level 2
DESCRIPTION:
URL:https://www.cardunaldogtraining.com/event/intermediate-agility-level-2-4/2024-06-24/
LOCATION:CarDunAl Dog Training Club\, 10783 Wolf Dr.\, Huntley\, IL\, 60142\, United States
CATEGORIES:Agility
END:VEVENT
END:VCALENDAR