BEGIN:VCALENDAR
VERSION:2.0
PRODID:-//Car-Dun-Al Dog Obedience Training Club - ECPv6.15.17.1//NONSGML v1.0//EN
CALSCALE:GREGORIAN
METHOD:PUBLISH
X-WR-CALNAME:Car-Dun-Al Dog Obedience Training Club
X-ORIGINAL-URL:https://www.cardunaldogtraining.com
X-WR-CALDESC:Events for Car-Dun-Al Dog Obedience Training Club
REFRESH-INTERVAL;VALUE=DURATION:PT1H
X-Robots-Tag:noindex
X-PUBLISHED-TTL:PT1H
BEGIN:VTIMEZONE
TZID:America/Chicago
BEGIN:DAYLIGHT
TZOFFSETFROM:-0600
TZOFFSETTO:-0500
TZNAME:CDT
DTSTART:20230312T080000
END:DAYLIGHT
BEGIN:STANDARD
TZOFFSETFROM:-0500
TZOFFSETTO:-0600
TZNAME:CST
DTSTART:20231105T070000
END:STANDARD
BEGIN:DAYLIGHT
TZOFFSETFROM:-0600
TZOFFSETTO:-0500
TZNAME:CDT
DTSTART:20240310T080000
END:DAYLIGHT
BEGIN:STANDARD
TZOFFSETFROM:-0500
TZOFFSETTO:-0600
TZNAME:CST
DTSTART:20241103T070000
END:STANDARD
BEGIN:DAYLIGHT
TZOFFSETFROM:-0600
TZOFFSETTO:-0500
TZNAME:CDT
DTSTART:20250309T080000
END:DAYLIGHT
BEGIN:STANDARD
TZOFFSETFROM:-0500
TZOFFSETTO:-0600
TZNAME:CST
DTSTART:20251102T070000
END:STANDARD
END:VTIMEZONE
BEGIN:VEVENT
DTSTART;TZID=America/Chicago:20240829T210000
DTEND;TZID=America/Chicago:20240829T220000
DTSTAMP:20260421T193101
CREATED:20240529T022348Z
LAST-MODIFIED:20240529T022348Z
UID:22884-1724965200-1724968800@www.cardunaldogtraining.com
SUMMARY:Open/Utility Obedience – No Instructor
DESCRIPTION:
URL:https://www.cardunaldogtraining.com/event/open-utility-obedience-no-instructor-12/2024-08-29/
LOCATION:CarDunAl Dog Training Club\, 10783 Wolf Dr.\, Huntley\, IL\, 60142\, United States
CATEGORIES:Advanced
END:VEVENT
BEGIN:VEVENT
DTSTART;TZID=America/Chicago:20240829T200000
DTEND;TZID=America/Chicago:20240829T210000
DTSTAMP:20260421T193101
CREATED:20240524T004337Z
LAST-MODIFIED:20240529T021145Z
UID:22378-1724961600-1724965200@www.cardunaldogtraining.com
SUMMARY:Utility Obedience
DESCRIPTION:
URL:https://www.cardunaldogtraining.com/event/utility-obedience-6/2024-08-29/
LOCATION:CarDunAl Dog Training Club\, 10783 Wolf Dr.\, Huntley\, IL\, 60142\, United States
CATEGORIES:Advanced
END:VEVENT
BEGIN:VEVENT
DTSTART;TZID=America/Chicago:20240829T200000
DTEND;TZID=America/Chicago:20240829T210000
DTSTAMP:20260421T193101
CREATED:20240524T003938Z
LAST-MODIFIED:20240529T021553Z
UID:22353-1724961600-1724965200@www.cardunaldogtraining.com
SUMMARY:Open Obedience
DESCRIPTION:
URL:https://www.cardunaldogtraining.com/event/open-obedience-16/2024-08-29/
LOCATION:CarDunAl Dog Training Club\, 10783 Wolf Dr.\, Huntley\, IL\, 60142\, United States
CATEGORIES:Advanced
END:VEVENT
BEGIN:VEVENT
DTSTART;TZID=America/Chicago:20240829T200000
DTEND;TZID=America/Chicago:20240829T210000
DTSTAMP:20260421T193101
CREATED:20240524T003806Z
LAST-MODIFIED:20240524T012420Z
UID:22341-1724961600-1724965200@www.cardunaldogtraining.com
SUMMARY:Pre-Open Obedience
DESCRIPTION:
URL:https://www.cardunaldogtraining.com/event/pre-open-obedience-13/2024-08-29/
LOCATION:CarDunAl Dog Training Club\, 10783 Wolf Dr.\, Huntley\, IL\, 60142\, United States
CATEGORIES:Advanced
END:VEVENT
BEGIN:VEVENT
DTSTART;TZID=America/Chicago:20240829T200000
DTEND;TZID=America/Chicago:20240829T210000
DTSTAMP:20260421T193101
CREATED:20240522T021034Z
LAST-MODIFIED:20240524T010516Z
UID:22264-1724961600-1724965200@www.cardunaldogtraining.com
SUMMARY:Beginner Obedience
DESCRIPTION:
URL:https://www.cardunaldogtraining.com/event/beginner-obedience-28/2024-08-29/
LOCATION:CarDunAl Dog Training Club\, 10783 Wolf Dr.\, Huntley\, IL\, 60142\, United States
CATEGORIES:Beginners
END:VEVENT
BEGIN:VEVENT
DTSTART;TZID=America/Chicago:20240829T190000
DTEND;TZID=America/Chicago:20240829T200000
DTSTAMP:20260421T193101
CREATED:20240524T004202Z
LAST-MODIFIED:20240529T021333Z
UID:22365-1724958000-1724961600@www.cardunaldogtraining.com
SUMMARY:Utility Obedience
DESCRIPTION:
URL:https://www.cardunaldogtraining.com/event/utility-obedience-5/2024-08-29/
LOCATION:CarDunAl Dog Training Club\, 10783 Wolf Dr.\, Huntley\, IL\, 60142\, United States
CATEGORIES:Advanced
END:VEVENT
BEGIN:VEVENT
DTSTART;TZID=America/Chicago:20240829T190000
DTEND;TZID=America/Chicago:20240829T200000
DTSTAMP:20260421T193101
CREATED:20240524T003315Z
LAST-MODIFIED:20240524T011347Z
UID:22318-1724958000-1724961600@www.cardunaldogtraining.com
SUMMARY:Novice Obedience
DESCRIPTION:
URL:https://www.cardunaldogtraining.com/event/novice-obedience-19/2024-08-29/
LOCATION:CarDunAl Dog Training Club\, 10783 Wolf Dr.\, Huntley\, IL\, 60142\, United States
CATEGORIES:Advanced
END:VEVENT
BEGIN:VEVENT
DTSTART;TZID=America/Chicago:20240829T190000
DTEND;TZID=America/Chicago:20240829T200000
DTSTAMP:20260421T193101
CREATED:20240522T021521Z
LAST-MODIFIED:20240524T011547Z
UID:22288-1724958000-1724961600@www.cardunaldogtraining.com
SUMMARY:Beginner Novice Obedience
DESCRIPTION:
URL:https://www.cardunaldogtraining.com/event/beginner-novice-obedience-10/2024-08-29/
LOCATION:CarDunAl Dog Training Club\, 10783 Wolf Dr.\, Huntley\, IL\, 60142\, United States
CATEGORIES:Advanced
END:VEVENT
BEGIN:VEVENT
DTSTART;TZID=America/Chicago:20240829T180000
DTEND;TZID=America/Chicago:20240829T190000
DTSTAMP:20260421T193101
CREATED:20240529T022232Z
LAST-MODIFIED:20240529T022232Z
UID:22873-1724954400-1724958000@www.cardunaldogtraining.com
SUMMARY:Open/Utility Obedience – No Instructor
DESCRIPTION:
URL:https://www.cardunaldogtraining.com/event/open-utility-obedience-no-instructor-11/2024-08-29/
LOCATION:CarDunAl Dog Training Club\, 10783 Wolf Dr.\, Huntley\, IL\, 60142\, United States
CATEGORIES:Advanced
END:VEVENT
BEGIN:VEVENT
DTSTART;TZID=America/Chicago:20240829T180000
DTEND;TZID=America/Chicago:20240829T190000
DTSTAMP:20260421T193101
CREATED:20240522T021357Z
LAST-MODIFIED:20240524T011844Z
UID:22276-1724954400-1724958000@www.cardunaldogtraining.com
SUMMARY:Beginner Novice Obedience
DESCRIPTION:
URL:https://www.cardunaldogtraining.com/event/beginner-novice-obedience-9/2024-08-29/
LOCATION:CarDunAl Dog Training Club\, 10783 Wolf Dr.\, Huntley\, IL\, 60142\, United States
CATEGORIES:Advanced
END:VEVENT
BEGIN:VEVENT
DTSTART;TZID=America/Chicago:20240829T173000
DTEND;TZID=America/Chicago:20240829T190000
DTSTAMP:20260421T193101
CREATED:20231123T003905Z
LAST-MODIFIED:20240906T232109Z
UID:20145-1724952600-1724958000@www.cardunaldogtraining.com
SUMMARY:Drop In Rally Training
DESCRIPTION:
URL:https://www.cardunaldogtraining.com/event/drop-in-rally-training-2/2024-08-29/
LOCATION:CarDunAl Dog Training Club\, 10783 Wolf Dr.\, Huntley\, IL\, 60142\, United States
END:VEVENT
BEGIN:VEVENT
DTSTART;TZID=America/Chicago:20240828T190000
DTEND;TZID=America/Chicago:20240828T200000
DTSTAMP:20260421T193101
CREATED:20240207T020143Z
LAST-MODIFIED:20240910T210830Z
UID:20912-1724871600-1724875200@www.cardunaldogtraining.com
SUMMARY:Drop In Conformation
DESCRIPTION:
URL:https://www.cardunaldogtraining.com/event/drop-in-conformation/2024-08-28/
LOCATION:CarDunAl Dog Training Club\, 10783 Wolf Dr.\, Huntley\, IL\, 60142\, United States
CATEGORIES:Drop In Training
END:VEVENT
BEGIN:VEVENT
DTSTART;TZID=America/Chicago:20240828T180000
DTEND;TZID=America/Chicago:20240828T184500
DTSTAMP:20260421T193101
CREATED:20240513T185654Z
LAST-MODIFIED:20240513T185654Z
UID:24584-1724868000-1724870700@www.cardunaldogtraining.com
SUMMARY:Novice Conformation Handling Drop-in Training
DESCRIPTION:This class is designed for novice handlers or handlers who need a little more guidance or for young dogs not quite ready for the regular conformation class
URL:https://www.cardunaldogtraining.com/event/puppy-socialization-conformation/2024-08-28/
LOCATION:CarDunAl Dog Training Club\, 10783 Wolf Dr.\, Huntley\, IL\, 60142\, United States
CATEGORIES:Drop In Training
END:VEVENT
BEGIN:VEVENT
DTSTART;TZID=America/Chicago:20240828T113000
DTEND;TZID=America/Chicago:20240828T123000
DTSTAMP:20260421T193101
CREATED:20240522T020414Z
LAST-MODIFIED:20240522T020414Z
UID:23225-1724844600-1724848200@www.cardunaldogtraining.com
SUMMARY:Beginner Obedience
DESCRIPTION:
URL:https://www.cardunaldogtraining.com/event/beginner-obedience-25/2024-08-28/
LOCATION:CarDunAl Dog Training Club\, 10783 Wolf Dr.\, Huntley\, IL\, 60142\, United States
CATEGORIES:Beginners
END:VEVENT
BEGIN:VEVENT
DTSTART;TZID=America/Chicago:20240828T100000
DTEND;TZID=America/Chicago:20240828T120000
DTSTAMP:20260421T193101
CREATED:20231123T003335Z
LAST-MODIFIED:20240910T210701Z
UID:20096-1724839200-1724846400@www.cardunaldogtraining.com
SUMMARY:Drop In Obedience Training
DESCRIPTION:
URL:https://www.cardunaldogtraining.com/event/drop-in-obedience-training-3/2024-08-28/
LOCATION:CarDunAl Dog Training Club\, 10783 Wolf Dr.\, Huntley\, IL\, 60142\, United States
CATEGORIES:Drop In Training
END:VEVENT
BEGIN:VEVENT
DTSTART;TZID=America/Chicago:20240828T100000
DTEND;TZID=America/Chicago:20240828T110000
DTSTAMP:20260421T193101
CREATED:20240524T003512Z
LAST-MODIFIED:20240701T180614Z
UID:23215-1724839200-1724842800@www.cardunaldogtraining.com
SUMMARY:Open Obedience
DESCRIPTION:
URL:https://www.cardunaldogtraining.com/event/open-obedience-15/2024-08-28/
LOCATION:CarDunAl Dog Training Club\, 10783 Wolf Dr.\, Huntley\, IL\, 60142\, United States
CATEGORIES:Advanced
END:VEVENT
BEGIN:VEVENT
DTSTART;TZID=America/Chicago:20240828T100000
DTEND;TZID=America/Chicago:20240828T110000
DTSTAMP:20260421T193101
CREATED:20240524T003006Z
LAST-MODIFIED:20240524T003006Z
UID:23206-1724839200-1724842800@www.cardunaldogtraining.com
SUMMARY:Novice Obedience
DESCRIPTION:
URL:https://www.cardunaldogtraining.com/event/novice-obedience-18/2024-08-28/
LOCATION:CarDunAl Dog Training Club\, 10783 Wolf Dr.\, Huntley\, IL\, 60142\, United States
CATEGORIES:Advanced
END:VEVENT
BEGIN:VEVENT
DTSTART;TZID=America/Chicago:20240828T090000
DTEND;TZID=America/Chicago:20240828T100000
DTSTAMP:20260421T193101
CREATED:20240524T005018Z
LAST-MODIFIED:20240524T005018Z
UID:23197-1724835600-1724839200@www.cardunaldogtraining.com
SUMMARY:Open Utility Obedience No Instruction
DESCRIPTION:
URL:https://www.cardunaldogtraining.com/event/open-utility-obedience-no-instruction-4/2024-08-28/
LOCATION:CarDunAl Dog Training Club\, 10783 Wolf Dr.\, Huntley\, IL\, 60142\, United States
CATEGORIES:Advanced
END:VEVENT
BEGIN:VEVENT
DTSTART;TZID=America/Chicago:20240827T190000
DTEND;TZID=America/Chicago:20240827T200000
DTSTAMP:20260421T193101
CREATED:20240529T015137Z
LAST-MODIFIED:20240801T232834Z
UID:23151-1724785200-1724788800@www.cardunaldogtraining.com
SUMMARY:Intermediate Agility Level 3
DESCRIPTION:
URL:https://www.cardunaldogtraining.com/event/intermediate-agility-level-3-4/2024-08-27/
LOCATION:CarDunAl Dog Training Club\, 10783 Wolf Dr.\, Huntley\, IL\, 60142\, United States
CATEGORIES:Agility
END:VEVENT
BEGIN:VEVENT
DTSTART;TZID=America/Chicago:20240827T180000
DTEND;TZID=America/Chicago:20240827T190000
DTSTAMP:20260421T193101
CREATED:20240522T020122Z
LAST-MODIFIED:20240701T164915Z
UID:22221-1724781600-1724785200@www.cardunaldogtraining.com
SUMMARY:Puppy Class Obedience
DESCRIPTION:
URL:https://www.cardunaldogtraining.com/event/puppy-class-obedience-7/2024-08-27/
LOCATION:CarDunAl Dog Training Club\, 10783 Wolf Dr.\, Huntley\, IL\, 60142\, United States
CATEGORIES:AKC Star Puppy / Pre-Beginners Class
END:VEVENT
BEGIN:VEVENT
DTSTART;TZID=America/Chicago:20240827T151500
DTEND;TZID=America/Chicago:20240827T161500
DTSTAMP:20260421T193101
CREATED:20240529T020140Z
LAST-MODIFIED:20240529T020140Z
UID:23142-1724771700-1724775300@www.cardunaldogtraining.com
SUMMARY:Scent Work Level 2
DESCRIPTION:
URL:https://www.cardunaldogtraining.com/event/scent-work-level-2-3/2024-08-27/
LOCATION:CarDunAl Dog Training Club\, 10783 Wolf Dr.\, Huntley\, IL\, 60142\, United States
CATEGORIES:Scent Work
END:VEVENT
BEGIN:VEVENT
DTSTART;TZID=America/Chicago:20240827T134500
DTEND;TZID=America/Chicago:20240827T144500
DTSTAMP:20260421T193101
CREATED:20240529T020038Z
LAST-MODIFIED:20240529T020038Z
UID:23124-1724766300-1724769900@www.cardunaldogtraining.com
SUMMARY:Scent Work Level 1
DESCRIPTION:
URL:https://www.cardunaldogtraining.com/event/scent-work-level-1-4/2024-08-27/
LOCATION:CarDunAl Dog Training Club\, 10783 Wolf Dr.\, Huntley\, IL\, 60142\, United States
CATEGORIES:Scent Work
END:VEVENT
BEGIN:VEVENT
DTSTART;TZID=America/Chicago:20240827T123000
DTEND;TZID=America/Chicago:20240827T133000
DTSTAMP:20260421T193101
CREATED:20240529T015906Z
LAST-MODIFIED:20240529T015906Z
UID:23133-1724761800-1724765400@www.cardunaldogtraining.com
SUMMARY:Scent Work Level 1
DESCRIPTION:
URL:https://www.cardunaldogtraining.com/event/scent-work-level-1-3/2024-08-27/
LOCATION:CarDunAl Dog Training Club\, 10783 Wolf Dr.\, Huntley\, IL\, 60142\, United States
CATEGORIES:Scent Work
END:VEVENT
BEGIN:VEVENT
DTSTART;TZID=America/Chicago:20240826T200000
DTEND;TZID=America/Chicago:20240826T210000
DTSTAMP:20260421T193101
CREATED:20240529T013951Z
LAST-MODIFIED:20240529T013951Z
UID:23088-1724702400-1724706000@www.cardunaldogtraining.com
SUMMARY:Competition Agility Level 5
DESCRIPTION:
URL:https://www.cardunaldogtraining.com/event/competition-agility-level-5-9/2024-08-26/
LOCATION:CarDunAl Dog Training Club\, 10783 Wolf Dr.\, Huntley\, IL\, 60142\, United States
CATEGORIES:Agility
END:VEVENT
BEGIN:VEVENT
DTSTART;TZID=America/Chicago:20240826T200000
DTEND;TZID=America/Chicago:20240826T210000
DTSTAMP:20260421T193101
CREATED:20240529T013427Z
LAST-MODIFIED:20240529T013427Z
UID:23115-1724702400-1724706000@www.cardunaldogtraining.com
SUMMARY:Beginner Agility Level 1
DESCRIPTION:
URL:https://www.cardunaldogtraining.com/event/beginner-agility-level-1-4/2024-08-26/
LOCATION:CarDunAl Dog Training Club\, 10783 Wolf Dr.\, Huntley\, IL\, 60142\, United States
CATEGORIES:Agility
END:VEVENT
BEGIN:VEVENT
DTSTART;TZID=America/Chicago:20240826T190000
DTEND;TZID=America/Chicago:20240826T200000
DTSTAMP:20260421T193101
CREATED:20240529T013912Z
LAST-MODIFIED:20240529T013912Z
UID:23097-1724698800-1724702400@www.cardunaldogtraining.com
SUMMARY:Competition Agility Level 5
DESCRIPTION:
URL:https://www.cardunaldogtraining.com/event/competition-agility-level-5-8/2024-08-26/
LOCATION:CarDunAl Dog Training Club\, 10783 Wolf Dr.\, Huntley\, IL\, 60142\, United States
CATEGORIES:Agility
END:VEVENT
BEGIN:VEVENT
DTSTART;TZID=America/Chicago:20240826T190000
DTEND;TZID=America/Chicago:20240826T200000
DTSTAMP:20260421T193101
CREATED:20240529T013755Z
LAST-MODIFIED:20240529T013755Z
UID:23106-1724698800-1724702400@www.cardunaldogtraining.com
SUMMARY:Intermediate Agility Level 2
DESCRIPTION:
URL:https://www.cardunaldogtraining.com/event/intermediate-agility-level-2-4/2024-08-26/
LOCATION:CarDunAl Dog Training Club\, 10783 Wolf Dr.\, Huntley\, IL\, 60142\, United States
CATEGORIES:Agility
END:VEVENT
BEGIN:VEVENT
DTSTART;TZID=America/Chicago:20240826T180000
DTEND;TZID=America/Chicago:20240826T190000
DTSTAMP:20260421T193101
CREATED:20240529T013641Z
LAST-MODIFIED:20240529T013641Z
UID:23059-1724695200-1724698800@www.cardunaldogtraining.com
SUMMARY:Advanced Agility Level 4
DESCRIPTION:
URL:https://www.cardunaldogtraining.com/event/advanced-agility-level-4-8/2024-08-26/
LOCATION:CarDunAl Dog Training Club\, 10783 Wolf Dr.\, Huntley\, IL\, 60142\, United States
CATEGORIES:Agility
END:VEVENT
BEGIN:VEVENT
DTSTART;TZID=America/Chicago:20240826T180000
DTEND;TZID=America/Chicago:20240826T190000
DTSTAMP:20260421T193101
CREATED:20240529T013213Z
LAST-MODIFIED:20240701T163726Z
UID:23077-1724695200-1724698800@www.cardunaldogtraining.com
SUMMARY:Agility Foundation Class Level 0
DESCRIPTION:
URL:https://www.cardunaldogtraining.com/event/agility-foundation-class-level-0-3/2024-08-26/
LOCATION:CarDunAl Dog Training Club\, 10783 Wolf Dr.\, Huntley\, IL\, 60142\, United States
CATEGORIES:Agility
END:VEVENT
BEGIN:VEVENT
DTSTART;TZID=America/Chicago:20240826T170000
DTEND;TZID=America/Chicago:20240826T180000
DTSTAMP:20260421T193101
CREATED:20240529T013551Z
LAST-MODIFIED:20240529T013551Z
UID:23068-1724691600-1724695200@www.cardunaldogtraining.com
SUMMARY:Advanced Agility Level 4
DESCRIPTION:
URL:https://www.cardunaldogtraining.com/event/advanced-agility-level-4-7/2024-08-26/
LOCATION:CarDunAl Dog Training Club\, 10783 Wolf Dr.\, Huntley\, IL\, 60142\, United States
CATEGORIES:Agility
END:VEVENT
END:VCALENDAR