BEGIN:VCALENDAR
VERSION:2.0
PRODID:-//Car-Dun-Al Dog Obedience Training Club - ECPv6.15.17.1//NONSGML v1.0//EN
CALSCALE:GREGORIAN
METHOD:PUBLISH
X-WR-CALNAME:Car-Dun-Al Dog Obedience Training Club
X-ORIGINAL-URL:https://www.cardunaldogtraining.com
X-WR-CALDESC:Events for Car-Dun-Al Dog Obedience Training Club
REFRESH-INTERVAL;VALUE=DURATION:PT1H
X-Robots-Tag:noindex
X-PUBLISHED-TTL:PT1H
BEGIN:VTIMEZONE
TZID:America/Chicago
BEGIN:DAYLIGHT
TZOFFSETFROM:-0600
TZOFFSETTO:-0500
TZNAME:CDT
DTSTART:20220313T080000
END:DAYLIGHT
BEGIN:STANDARD
TZOFFSETFROM:-0500
TZOFFSETTO:-0600
TZNAME:CST
DTSTART:20221106T070000
END:STANDARD
BEGIN:DAYLIGHT
TZOFFSETFROM:-0600
TZOFFSETTO:-0500
TZNAME:CDT
DTSTART:20230312T080000
END:DAYLIGHT
BEGIN:STANDARD
TZOFFSETFROM:-0500
TZOFFSETTO:-0600
TZNAME:CST
DTSTART:20231105T070000
END:STANDARD
BEGIN:DAYLIGHT
TZOFFSETFROM:-0600
TZOFFSETTO:-0500
TZNAME:CDT
DTSTART:20240310T080000
END:DAYLIGHT
BEGIN:STANDARD
TZOFFSETFROM:-0500
TZOFFSETTO:-0600
TZNAME:CST
DTSTART:20241103T070000
END:STANDARD
END:VTIMEZONE
BEGIN:VEVENT
DTSTART;TZID=America/Chicago:20230918T180000
DTEND;TZID=America/Chicago:20230918T190000
DTSTAMP:20260422T062023
CREATED:20230821T235018Z
LAST-MODIFIED:20230821T235018Z
UID:18739-1695060000-1695063600@www.cardunaldogtraining.com
SUMMARY:Foundation Class Level 0 Agility
DESCRIPTION:
URL:https://www.cardunaldogtraining.com/event/foundation-class-level-0-agility/2023-09-18/
LOCATION:CarDunAl Dog Training Club\, 10783 Wolf Dr.\, Huntley\, IL\, 60142\, United States
CATEGORIES:Agility
END:VEVENT
BEGIN:VEVENT
DTSTART;TZID=America/Chicago:20230918T170000
DTEND;TZID=America/Chicago:20230918T180000
DTSTAMP:20260422T062023
CREATED:20230821T235345Z
LAST-MODIFIED:20230821T235345Z
UID:18761-1695056400-1695060000@www.cardunaldogtraining.com
SUMMARY:Advanced Agility Level 4
DESCRIPTION:
URL:https://www.cardunaldogtraining.com/event/advanced-agility-level-4/2023-09-18/
LOCATION:CarDunAl Dog Training Club\, 10783 Wolf Dr.\, Huntley\, IL\, 60142\, United States
CATEGORIES:Agility
END:VEVENT
BEGIN:VEVENT
DTSTART;TZID=America/Chicago:20230918T090000
DTEND;TZID=America/Chicago:20230918T103000
DTSTAMP:20260422T062023
CREATED:20230822T002138Z
LAST-MODIFIED:20230822T002138Z
UID:18890-1695027600-1695033000@www.cardunaldogtraining.com
SUMMARY:Competition Agility Level 5
DESCRIPTION:
URL:https://www.cardunaldogtraining.com/event/competition-agility-level-5-3/2023-09-18/
LOCATION:CarDunAl Dog Training Club\, 10783 Wolf Dr.\, Huntley\, IL\, 60142\, United States
CATEGORIES:Agility
END:VEVENT
BEGIN:VEVENT
DTSTART;VALUE=DATE:20230917
DTEND;VALUE=DATE:20230918
DTSTAMP:20260422T062023
CREATED:20221020T000443Z
LAST-MODIFIED:20221020T000443Z
UID:15437-1694908800-1694995199@www.cardunaldogtraining.com
SUMMARY:FVDTC Agility Trial
DESCRIPTION:
URL:https://www.cardunaldogtraining.com/event/fvdtc-agility-trial-5/
LOCATION:CarDunAl Dog Training Club\, 10783 Wolf Dr.\, Huntley\, IL\, 60142\, United States
CATEGORIES:Trials
END:VEVENT
BEGIN:VEVENT
DTSTART;VALUE=DATE:20230916
DTEND;VALUE=DATE:20230917
DTSTAMP:20260422T062023
CREATED:20221020T000358Z
LAST-MODIFIED:20221020T000358Z
UID:15435-1694822400-1694908799@www.cardunaldogtraining.com
SUMMARY:FVDTC Agility Trial
DESCRIPTION:
URL:https://www.cardunaldogtraining.com/event/fvdtc-agility-trial-4/
LOCATION:CarDunAl Dog Training Club\, 10783 Wolf Dr.\, Huntley\, IL\, 60142\, United States
CATEGORIES:Trials
END:VEVENT
BEGIN:VEVENT
DTSTART;VALUE=DATE:20230915
DTEND;VALUE=DATE:20230916
DTSTAMP:20260422T062023
CREATED:20221020T000315Z
LAST-MODIFIED:20221020T000315Z
UID:15433-1694736000-1694822399@www.cardunaldogtraining.com
SUMMARY:FVDTC Agility Trial
DESCRIPTION:
URL:https://www.cardunaldogtraining.com/event/fvdtc-agility-trial-3/
LOCATION:CarDunAl Dog Training Club\, 10783 Wolf Dr.\, Huntley\, IL\, 60142\, United States
CATEGORIES:Trials
END:VEVENT
BEGIN:VEVENT
DTSTART;VALUE=DATE:20230910
DTEND;VALUE=DATE:20230911
DTSTAMP:20260422T062023
CREATED:20221020T000152Z
LAST-MODIFIED:20221020T000152Z
UID:15431-1694304000-1694390399@www.cardunaldogtraining.com
SUMMARY:Car Dun Al FCAT
DESCRIPTION:
URL:https://www.cardunaldogtraining.com/event/car-dun-al-fcat-5/
LOCATION:CarDunAl Dog Training Club\, 10783 Wolf Dr.\, Huntley\, IL\, 60142\, United States
CATEGORIES:Trials
END:VEVENT
BEGIN:VEVENT
DTSTART;VALUE=DATE:20230909
DTEND;VALUE=DATE:20230910
DTSTAMP:20260422T062023
CREATED:20221020T000111Z
LAST-MODIFIED:20221020T000111Z
UID:15429-1694217600-1694303999@www.cardunaldogtraining.com
SUMMARY:Car Dun Al FCAT
DESCRIPTION:
URL:https://www.cardunaldogtraining.com/event/car-dun-al-fcat-4/
LOCATION:CarDunAl Dog Training Club\, 10783 Wolf Dr.\, Huntley\, IL\, 60142\, United States
CATEGORIES:Trials
END:VEVENT
BEGIN:VEVENT
DTSTART;VALUE=DATE:20230827
DTEND;VALUE=DATE:20230828
DTSTAMP:20260422T062023
CREATED:20221019T235923Z
LAST-MODIFIED:20221019T235923Z
UID:15427-1693094400-1693180799@www.cardunaldogtraining.com
SUMMARY:CarDun Al Obedience Trial
DESCRIPTION:
URL:https://www.cardunaldogtraining.com/event/cardun-al-obedience-trial-2/
LOCATION:CarDunAl Dog Training Club\, 10783 Wolf Dr.\, Huntley\, IL\, 60142\, United States
CATEGORIES:Trials
END:VEVENT
BEGIN:VEVENT
DTSTART;VALUE=DATE:20230826
DTEND;VALUE=DATE:20230827
DTSTAMP:20260422T062023
CREATED:20221019T235806Z
LAST-MODIFIED:20221019T235806Z
UID:15425-1693008000-1693094399@www.cardunaldogtraining.com
SUMMARY:CarDun Al Obedience Trial
DESCRIPTION:
URL:https://www.cardunaldogtraining.com/event/cardun-al-obedience-trial/
LOCATION:CarDunAl Dog Training Club\, 10783 Wolf Dr.\, Huntley\, IL\, 60142\, United States
CATEGORIES:Trials
END:VEVENT
BEGIN:VEVENT
DTSTART;VALUE=DATE:20230825
DTEND;VALUE=DATE:20230826
DTSTAMP:20260422T062023
CREATED:20221019T235707Z
LAST-MODIFIED:20221019T235707Z
UID:15423-1692921600-1693007999@www.cardunaldogtraining.com
SUMMARY:Car Dun Al Rally Trial
DESCRIPTION:
URL:https://www.cardunaldogtraining.com/event/car-dun-al-rally-trial/
LOCATION:CarDunAl Dog Training Club\, 10783 Wolf Dr.\, Huntley\, IL\, 60142\, United States
CATEGORIES:Trials
END:VEVENT
BEGIN:VEVENT
DTSTART;TZID=America/Chicago:20230822T190000
DTEND;TZID=America/Chicago:20230822T203000
DTSTAMP:20260422T062023
CREATED:20230207T215018Z
LAST-MODIFIED:20230207T215336Z
UID:16443-1692730800-1692736200@www.cardunaldogtraining.com
SUMMARY:Obedience Correction Clinic
DESCRIPTION:
URL:https://www.cardunaldogtraining.com/event/obedience-correction-clinic-3/
LOCATION:CarDunAl Dog Training Club\, 10783 Wolf Dr.\, Huntley\, IL\, 60142\, United States
CATEGORIES:Correction Clinic
END:VEVENT
BEGIN:VEVENT
DTSTART;VALUE=DATE:20230813
DTEND;VALUE=DATE:20230814
DTSTAMP:20260422T062023
CREATED:20221019T235413Z
LAST-MODIFIED:20221019T235413Z
UID:15421-1691884800-1691971199@www.cardunaldogtraining.com
SUMMARY:Siberian Husky Club of America Agility Trial
DESCRIPTION:
URL:https://www.cardunaldogtraining.com/event/siberian-husky-club-of-america-agility-trial/
LOCATION:CarDunAl Dog Training Club\, 10783 Wolf Dr.\, Huntley\, IL\, 60142\, United States
CATEGORIES:Trials
END:VEVENT
BEGIN:VEVENT
DTSTART;VALUE=DATE:20230812
DTEND;VALUE=DATE:20230813
DTSTAMP:20260422T062023
CREATED:20221019T235248Z
LAST-MODIFIED:20221020T211352Z
UID:15419-1691798400-1691884799@www.cardunaldogtraining.com
SUMMARY:Siberian Husky Club of America Agility Trial
DESCRIPTION:
URL:https://www.cardunaldogtraining.com/event/siberian-husky-club-of-chicago-agility-trial/
LOCATION:CarDunAl Dog Training Club\, 10783 Wolf Dr.\, Huntley\, IL\, 60142\, United States
CATEGORIES:Trials
END:VEVENT
BEGIN:VEVENT
DTSTART;VALUE=DATE:20230811
DTEND;VALUE=DATE:20230812
DTSTAMP:20260422T062023
CREATED:20221020T211146Z
LAST-MODIFIED:20221020T211225Z
UID:15461-1691712000-1691798399@www.cardunaldogtraining.com
SUMMARY:Siberian Husky Club of Chicago Agility Trial
DESCRIPTION:
URL:https://www.cardunaldogtraining.com/event/siberian-husky-club-of-chicago-agility-trial-2/
LOCATION:CarDunAl Dog Training Club\, 10783 Wolf Dr.\, Huntley\, IL\, 60142\, United States
CATEGORIES:Trials
END:VEVENT
BEGIN:VEVENT
DTSTART;TZID=America/Chicago:20230810T193000
DTEND;TZID=America/Chicago:20230810T210000
DTSTAMP:20260422T062023
CREATED:20221019T235143Z
LAST-MODIFIED:20221019T235143Z
UID:15417-1691695800-1691701200@www.cardunaldogtraining.com
SUMMARY:Car Dun Al General Meeting
DESCRIPTION:
URL:https://www.cardunaldogtraining.com/event/car-dun-al-general-meeting-4/
LOCATION:CarDunAl Dog Training Club\, 10783 Wolf Dr.\, Huntley\, IL\, 60142\, United States
CATEGORIES:Meeting
END:VEVENT
BEGIN:VEVENT
DTSTART;TZID=America/Chicago:20230807T190000
DTEND;TZID=America/Chicago:20230807T210000
DTSTAMP:20260422T062023
CREATED:20221019T235049Z
LAST-MODIFIED:20221019T235049Z
UID:15415-1691434800-1691442000@www.cardunaldogtraining.com
SUMMARY:Car Dun Al Board Meeting
DESCRIPTION:
URL:https://www.cardunaldogtraining.com/event/car-dun-al-board-meeting-4/
LOCATION:CarDunAl Dog Training Club\, 10783 Wolf Dr.\, Huntley\, IL\, 60142\, United States
CATEGORIES:Meeting
END:VEVENT
BEGIN:VEVENT
DTSTART;TZID=America/Chicago:20230805T090000
DTEND;TZID=America/Chicago:20230805T130000
DTSTAMP:20260422T062023
CREATED:20230710T213045Z
LAST-MODIFIED:20230710T213045Z
UID:18212-1691226000-1691240400@www.cardunaldogtraining.com
SUMMARY:Agility Run Thru
DESCRIPTION:
URL:https://www.cardunaldogtraining.com/event/agility-run-thru-9/
LOCATION:CarDunAl Dog Training Club\, 10783 Wolf Dr.\, Huntley\, IL\, 60142\, United States
CATEGORIES:Events
END:VEVENT
BEGIN:VEVENT
DTSTART;VALUE=DATE:20230729
DTEND;VALUE=DATE:20230730
DTSTAMP:20260422T062023
CREATED:20221019T234844Z
LAST-MODIFIED:20221019T234844Z
UID:15413-1690588800-1690675199@www.cardunaldogtraining.com
SUMMARY:4 H Show
DESCRIPTION:
URL:https://www.cardunaldogtraining.com/event/4-h-show-2/
LOCATION:CarDunAl Dog Training Club\, 10783 Wolf Dr.\, Huntley\, IL\, 60142\, United States
CATEGORIES:Events
END:VEVENT
BEGIN:VEVENT
DTSTART;VALUE=DATE:20230715
DTEND;VALUE=DATE:20230716
DTSTAMP:20260422T062023
CREATED:20221019T234804Z
LAST-MODIFIED:20221019T234804Z
UID:15411-1689379200-1689465599@www.cardunaldogtraining.com
SUMMARY:4 H Fun Match
DESCRIPTION:
URL:https://www.cardunaldogtraining.com/event/4-h-fun-match-2/
LOCATION:CarDunAl Dog Training Club\, 10783 Wolf Dr.\, Huntley\, IL\, 60142\, United States
CATEGORIES:Events
END:VEVENT
BEGIN:VEVENT
DTSTART;VALUE=DATE:20230709
DTEND;VALUE=DATE:20230710
DTSTAMP:20260422T062023
CREATED:20221019T234644Z
LAST-MODIFIED:20221019T234644Z
UID:15409-1688860800-1688947199@www.cardunaldogtraining.com
SUMMARY:Greater DeKalb Obedience/Rally Trial
DESCRIPTION:
URL:https://www.cardunaldogtraining.com/event/greater-dekalb-obedience-rally-trial-2/
LOCATION:CarDunAl Dog Training Club\, 10783 Wolf Dr.\, Huntley\, IL\, 60142\, United States
CATEGORIES:Trials
END:VEVENT
BEGIN:VEVENT
DTSTART;VALUE=DATE:20230708
DTEND;VALUE=DATE:20230709
DTSTAMP:20260422T062023
CREATED:20221019T234541Z
LAST-MODIFIED:20221019T234541Z
UID:15407-1688774400-1688860799@www.cardunaldogtraining.com
SUMMARY:Greater DeKalb Obedience/Rally Trial
DESCRIPTION:
URL:https://www.cardunaldogtraining.com/event/greater-dekalb-obedience-rally-trial/
LOCATION:CarDunAl Dog Training Club\, 10783 Wolf Dr.\, Huntley\, IL\, 60142\, United States
CATEGORIES:Trials
END:VEVENT
BEGIN:VEVENT
DTSTART;TZID=America/Chicago:20230629T210000
DTEND;TZID=America/Chicago:20230629T220000
DTSTAMP:20260422T062023
CREATED:20230602T022757Z
LAST-MODIFIED:20230602T022757Z
UID:17942-1688072400-1688076000@www.cardunaldogtraining.com
SUMMARY:Open/Utility - No Instructor
DESCRIPTION:
URL:https://www.cardunaldogtraining.com/event/open-utility-no-instructor-3/2023-06-29/
LOCATION:CarDunAl Dog Training Club\, 10783 Wolf Dr.\, Huntley\, IL\, 60142\, United States
CATEGORIES:Advanced
END:VEVENT
BEGIN:VEVENT
DTSTART;TZID=America/Chicago:20230629T200000
DTEND;TZID=America/Chicago:20230629T210000
DTSTAMP:20260422T062023
CREATED:20230602T022323Z
LAST-MODIFIED:20230602T022323Z
UID:17908-1688068800-1688072400@www.cardunaldogtraining.com
SUMMARY:Utility Obedience
DESCRIPTION:
URL:https://www.cardunaldogtraining.com/event/utility-obedience/2023-06-29/
LOCATION:CarDunAl Dog Training Club\, 10783 Wolf Dr.\, Huntley\, IL\, 60142\, United States
CATEGORIES:Advanced
END:VEVENT
BEGIN:VEVENT
DTSTART;TZID=America/Chicago:20230629T200000
DTEND;TZID=America/Chicago:20230629T210000
DTSTAMP:20260422T062023
CREATED:20230602T021202Z
LAST-MODIFIED:20230602T021202Z
UID:17847-1688068800-1688072400@www.cardunaldogtraining.com
SUMMARY:Open Obedience
DESCRIPTION:
URL:https://www.cardunaldogtraining.com/event/open-obedience-7/2023-06-29/
LOCATION:CarDunAl Dog Training Club\, 10783 Wolf Dr.\, Huntley\, IL\, 60142\, United States
CATEGORIES:Advanced
END:VEVENT
BEGIN:VEVENT
DTSTART;TZID=America/Chicago:20230629T200000
DTEND;TZID=America/Chicago:20230629T210000
DTSTAMP:20260422T062023
CREATED:20230602T021046Z
LAST-MODIFIED:20230602T021046Z
UID:17836-1688068800-1688072400@www.cardunaldogtraining.com
SUMMARY:Pre-Open Obedience
DESCRIPTION:
URL:https://www.cardunaldogtraining.com/event/pre-open-obedience-9/2023-06-29/
LOCATION:CarDunAl Dog Training Club\, 10783 Wolf Dr.\, Huntley\, IL\, 60142\, United States
CATEGORIES:Advanced
END:VEVENT
BEGIN:VEVENT
DTSTART;TZID=America/Chicago:20230629T200000
DTEND;TZID=America/Chicago:20230629T210000
DTSTAMP:20260422T062023
CREATED:20230602T014402Z
LAST-MODIFIED:20230602T014402Z
UID:17710-1688068800-1688072400@www.cardunaldogtraining.com
SUMMARY:Beginner Obedience
DESCRIPTION:
URL:https://www.cardunaldogtraining.com/event/beginner-obedience-10/2023-06-29/
LOCATION:CarDunAl Dog Training Club\, 10783 Wolf Dr.\, Huntley\, IL\, 60142\, United States
CATEGORIES:Beginners
END:VEVENT
BEGIN:VEVENT
DTSTART;TZID=America/Chicago:20230629T190000
DTEND;TZID=America/Chicago:20230629T200000
DTSTAMP:20260422T062023
CREATED:20230602T022211Z
LAST-MODIFIED:20230602T022211Z
UID:17897-1688065200-1688068800@www.cardunaldogtraining.com
SUMMARY:Mid-Utility Obedience
DESCRIPTION:
URL:https://www.cardunaldogtraining.com/event/mid-utility-obedience-4/2023-06-29/
LOCATION:CarDunAl Dog Training Club\, 10783 Wolf Dr.\, Huntley\, IL\, 60142\, United States
CATEGORIES:Advanced
END:VEVENT
BEGIN:VEVENT
DTSTART;TZID=America/Chicago:20230629T190000
DTEND;TZID=America/Chicago:20230629T200000
DTSTAMP:20260422T062023
CREATED:20230602T020726Z
LAST-MODIFIED:20230602T021751Z
UID:17824-1688065200-1688068800@www.cardunaldogtraining.com
SUMMARY:Novice Obedience
DESCRIPTION:
URL:https://www.cardunaldogtraining.com/event/novice-obedience-12/2023-06-29/
LOCATION:CarDunAl Dog Training Club\, 10783 Wolf Dr.\, Huntley\, IL\, 60142\, United States
CATEGORIES:Advanced
END:VEVENT
BEGIN:VEVENT
DTSTART;TZID=America/Chicago:20230629T190000
DTEND;TZID=America/Chicago:20230629T200000
DTSTAMP:20260422T062023
CREATED:20230602T020250Z
LAST-MODIFIED:20230602T021639Z
UID:17788-1688065200-1688068800@www.cardunaldogtraining.com
SUMMARY:Beginner Novice Obedience
DESCRIPTION:
URL:https://www.cardunaldogtraining.com/event/beginner-novice-obedience-2/2023-06-29/
LOCATION:CarDunAl Dog Training Club\, 10783 Wolf Dr.\, Huntley\, IL\, 60142\, United States
CATEGORIES:Beginners
END:VEVENT
END:VCALENDAR