BEGIN:VCALENDAR
VERSION:2.0
PRODID:-//Car-Dun-Al Dog Obedience Training Club - ECPv6.15.17.1//NONSGML v1.0//EN
CALSCALE:GREGORIAN
METHOD:PUBLISH
X-WR-CALNAME:Car-Dun-Al Dog Obedience Training Club
X-ORIGINAL-URL:https://www.cardunaldogtraining.com
X-WR-CALDESC:Events for Car-Dun-Al Dog Obedience Training Club
REFRESH-INTERVAL;VALUE=DURATION:PT1H
X-Robots-Tag:noindex
X-PUBLISHED-TTL:PT1H
BEGIN:VTIMEZONE
TZID:America/Chicago
BEGIN:DAYLIGHT
TZOFFSETFROM:-0600
TZOFFSETTO:-0500
TZNAME:CDT
DTSTART:20250309T080000
END:DAYLIGHT
BEGIN:STANDARD
TZOFFSETFROM:-0500
TZOFFSETTO:-0600
TZNAME:CST
DTSTART:20251102T070000
END:STANDARD
BEGIN:DAYLIGHT
TZOFFSETFROM:-0600
TZOFFSETTO:-0500
TZNAME:CDT
DTSTART:20260308T080000
END:DAYLIGHT
BEGIN:STANDARD
TZOFFSETFROM:-0500
TZOFFSETTO:-0600
TZNAME:CST
DTSTART:20261101T070000
END:STANDARD
BEGIN:DAYLIGHT
TZOFFSETFROM:-0600
TZOFFSETTO:-0500
TZNAME:CDT
DTSTART:20270314T080000
END:DAYLIGHT
BEGIN:STANDARD
TZOFFSETFROM:-0500
TZOFFSETTO:-0600
TZNAME:CST
DTSTART:20271107T070000
END:STANDARD
END:VTIMEZONE
BEGIN:VEVENT
DTSTART;TZID=America/Chicago:20261021T180000
DTEND;TZID=America/Chicago:20261021T184500
DTSTAMP:20260420T172022
CREATED:20251231T012028Z
LAST-MODIFIED:20251231T012028Z
UID:29265-1792605600-1792608300@www.cardunaldogtraining.com
SUMMARY:Novice Conformation Handling Class Drop-In Training
DESCRIPTION:
URL:https://www.cardunaldogtraining.com/event/novice-conformation-handling-class-drop-in-training/2026-10-21/
LOCATION:CarDunAl Dog Training Club\, 10783 Wolf Dr.\, Huntley\, IL\, 60142\, United States
END:VEVENT
BEGIN:VEVENT
DTSTART;TZID=America/Chicago:20261021T190000
DTEND;TZID=America/Chicago:20261021T200000
DTSTAMP:20260420T172022
CREATED:20251231T012254Z
LAST-MODIFIED:20251231T012254Z
UID:29315-1792609200-1792612800@www.cardunaldogtraining.com
SUMMARY:Conformation Drop-In Training
DESCRIPTION:
URL:https://www.cardunaldogtraining.com/event/conformation-drop-in-training-2/2026-10-21/
LOCATION:CarDunAl Dog Training Club\, 10783 Wolf Dr.\, Huntley\, IL\, 60142\, United States
CATEGORIES:Drop In Training
END:VEVENT
BEGIN:VEVENT
DTSTART;TZID=America/Chicago:20261028T100000
DTEND;TZID=America/Chicago:20261028T120000
DTSTAMP:20260420T172022
CREATED:20251231T012521Z
LAST-MODIFIED:20251231T012521Z
UID:29366-1793181600-1793188800@www.cardunaldogtraining.com
SUMMARY:Obedience Drop-In Training
DESCRIPTION:
URL:https://www.cardunaldogtraining.com/event/obedience-drop-in-training-3/2026-10-28/
LOCATION:CarDunAl Dog Training Club\, 10783 Wolf Dr.\, Huntley\, IL\, 60142\, United States
CATEGORIES:Drop In Training
END:VEVENT
BEGIN:VEVENT
DTSTART;TZID=America/Chicago:20261028T120000
DTEND;TZID=America/Chicago:20261028T133000
DTSTAMP:20260420T172022
CREATED:20251231T010632Z
LAST-MODIFIED:20260101T023831Z
UID:29196-1793188800-1793194200@www.cardunaldogtraining.com
SUMMARY:Rally Drop-In
DESCRIPTION:
URL:https://www.cardunaldogtraining.com/event/rally-drop-in-class-2/2026-10-28/
LOCATION:CarDunAl Dog Training Club\, 10783 Wolf Dr.\, Huntley\, IL\, 60142\, United States
CATEGORIES:Drop In Training
END:VEVENT
BEGIN:VEVENT
DTSTART;TZID=America/Chicago:20261028T180000
DTEND;TZID=America/Chicago:20261028T184500
DTSTAMP:20260420T172022
CREATED:20251231T012028Z
LAST-MODIFIED:20251231T012028Z
UID:29266-1793210400-1793213100@www.cardunaldogtraining.com
SUMMARY:Novice Conformation Handling Class Drop-In Training
DESCRIPTION:
URL:https://www.cardunaldogtraining.com/event/novice-conformation-handling-class-drop-in-training/2026-10-28/
LOCATION:CarDunAl Dog Training Club\, 10783 Wolf Dr.\, Huntley\, IL\, 60142\, United States
END:VEVENT
BEGIN:VEVENT
DTSTART;TZID=America/Chicago:20261028T190000
DTEND;TZID=America/Chicago:20261028T200000
DTSTAMP:20260420T172022
CREATED:20251231T012254Z
LAST-MODIFIED:20251231T012254Z
UID:29316-1793214000-1793217600@www.cardunaldogtraining.com
SUMMARY:Conformation Drop-In Training
DESCRIPTION:
URL:https://www.cardunaldogtraining.com/event/conformation-drop-in-training-2/2026-10-28/
LOCATION:CarDunAl Dog Training Club\, 10783 Wolf Dr.\, Huntley\, IL\, 60142\, United States
CATEGORIES:Drop In Training
END:VEVENT
BEGIN:VEVENT
DTSTART;VALUE=DATE:20261030
DTEND;VALUE=DATE:20261031
DTSTAMP:20260420T172022
CREATED:20251220T024303Z
LAST-MODIFIED:20251220T024303Z
UID:28645-1793318400-1793404799@www.cardunaldogtraining.com
SUMMARY:Tibetan Terrier Agility Trial
DESCRIPTION:
URL:https://www.cardunaldogtraining.com/event/tibetan-terrier-agility-trial/2026-10-30/
LOCATION:CarDunAl Dog Training Club\, 10783 Wolf Dr.\, Huntley\, IL\, 60142\, United States
CATEGORIES:Trials
END:VEVENT
BEGIN:VEVENT
DTSTART;VALUE=DATE:20261031
DTEND;VALUE=DATE:20261101
DTSTAMP:20260420T172022
CREATED:20251220T024303Z
LAST-MODIFIED:20251220T024303Z
UID:28646-1793404800-1793491199@www.cardunaldogtraining.com
SUMMARY:Tibetan Terrier Agility Trial
DESCRIPTION:
URL:https://www.cardunaldogtraining.com/event/tibetan-terrier-agility-trial/2026-10-31/
LOCATION:CarDunAl Dog Training Club\, 10783 Wolf Dr.\, Huntley\, IL\, 60142\, United States
CATEGORIES:Trials
END:VEVENT
BEGIN:VEVENT
DTSTART;VALUE=DATE:20261101
DTEND;VALUE=DATE:20261102
DTSTAMP:20260420T172022
CREATED:20251220T024303Z
LAST-MODIFIED:20251220T024303Z
UID:28647-1793491200-1793577599@www.cardunaldogtraining.com
SUMMARY:Tibetan Terrier Agility Trial
DESCRIPTION:
URL:https://www.cardunaldogtraining.com/event/tibetan-terrier-agility-trial/2026-11-01/
LOCATION:CarDunAl Dog Training Club\, 10783 Wolf Dr.\, Huntley\, IL\, 60142\, United States
CATEGORIES:Trials
END:VEVENT
BEGIN:VEVENT
DTSTART;TZID=America/Chicago:20261103T183000
DTEND;TZID=America/Chicago:20261103T210000
DTSTAMP:20260420T172022
CREATED:20251220T024549Z
LAST-MODIFIED:20251220T024549Z
UID:28649-1793730600-1793739600@www.cardunaldogtraining.com
SUMMARY:Correction Clinic
DESCRIPTION:
URL:https://www.cardunaldogtraining.com/event/correction-clinic-10/
LOCATION:CarDunAl Dog Training Club\, 10783 Wolf Dr.\, Huntley\, IL\, 60142\, United States
CATEGORIES:Correction Clinic
END:VEVENT
BEGIN:VEVENT
DTSTART;TZID=America/Chicago:20261104T100000
DTEND;TZID=America/Chicago:20261104T120000
DTSTAMP:20260420T172022
CREATED:20251231T012521Z
LAST-MODIFIED:20251231T012521Z
UID:29367-1793786400-1793793600@www.cardunaldogtraining.com
SUMMARY:Obedience Drop-In Training
DESCRIPTION:
URL:https://www.cardunaldogtraining.com/event/obedience-drop-in-training-3/2026-11-04/
LOCATION:CarDunAl Dog Training Club\, 10783 Wolf Dr.\, Huntley\, IL\, 60142\, United States
CATEGORIES:Drop In Training
END:VEVENT
BEGIN:VEVENT
DTSTART;TZID=America/Chicago:20261104T120000
DTEND;TZID=America/Chicago:20261104T140000
DTSTAMP:20260420T172022
CREATED:20251231T005239Z
LAST-MODIFIED:20251231T021257Z
UID:29164-1793793600-1793800800@www.cardunaldogtraining.com
SUMMARY:Rally Extravaganza
DESCRIPTION:
URL:https://www.cardunaldogtraining.com/event/rally-extravaganzas-3/
LOCATION:CarDunAl Dog Training Club\, 10783 Wolf Dr.\, Huntley\, IL\, 60142\, United States
CATEGORIES:Events
END:VEVENT
BEGIN:VEVENT
DTSTART;TZID=America/Chicago:20261104T180000
DTEND;TZID=America/Chicago:20261104T184500
DTSTAMP:20260420T172022
CREATED:20251231T012028Z
LAST-MODIFIED:20251231T012028Z
UID:29267-1793815200-1793817900@www.cardunaldogtraining.com
SUMMARY:Novice Conformation Handling Class Drop-In Training
DESCRIPTION:
URL:https://www.cardunaldogtraining.com/event/novice-conformation-handling-class-drop-in-training/2026-11-04/
LOCATION:CarDunAl Dog Training Club\, 10783 Wolf Dr.\, Huntley\, IL\, 60142\, United States
END:VEVENT
BEGIN:VEVENT
DTSTART;TZID=America/Chicago:20261104T190000
DTEND;TZID=America/Chicago:20261104T200000
DTSTAMP:20260420T172022
CREATED:20251231T012254Z
LAST-MODIFIED:20251231T012254Z
UID:29317-1793818800-1793822400@www.cardunaldogtraining.com
SUMMARY:Conformation Drop-In Training
DESCRIPTION:
URL:https://www.cardunaldogtraining.com/event/conformation-drop-in-training-2/2026-11-04/
LOCATION:CarDunAl Dog Training Club\, 10783 Wolf Dr.\, Huntley\, IL\, 60142\, United States
CATEGORIES:Drop In Training
END:VEVENT
BEGIN:VEVENT
DTSTART;VALUE=DATE:20261106
DTEND;VALUE=DATE:20261107
DTSTAMP:20260420T172022
CREATED:20251220T024927Z
LAST-MODIFIED:20251220T024927Z
UID:28651-1793923200-1794009599@www.cardunaldogtraining.com
SUMMARY:CarDunAl Rally Trial
DESCRIPTION:
URL:https://www.cardunaldogtraining.com/event/cardunal-rally-trial-7/
LOCATION:CarDunAl Dog Training Club\, 10783 Wolf Dr.\, Huntley\, IL\, 60142\, United States
CATEGORIES:Trials
END:VEVENT
BEGIN:VEVENT
DTSTART;VALUE=DATE:20261107
DTEND;VALUE=DATE:20261108
DTSTAMP:20260420T172022
CREATED:20251220T025020Z
LAST-MODIFIED:20251220T025020Z
UID:28653-1794009600-1794095999@www.cardunaldogtraining.com
SUMMARY:CarDunal Obedience Trial
DESCRIPTION:
URL:https://www.cardunaldogtraining.com/event/cardunal-obedience-trial-11/2026-11-07/
LOCATION:CarDunAl Dog Training Club\, 10783 Wolf Dr.\, Huntley\, IL\, 60142\, United States
CATEGORIES:Trials
END:VEVENT
BEGIN:VEVENT
DTSTART;VALUE=DATE:20261108
DTEND;VALUE=DATE:20261109
DTSTAMP:20260420T172022
CREATED:20251220T025020Z
LAST-MODIFIED:20251220T025020Z
UID:28654-1794096000-1794182399@www.cardunaldogtraining.com
SUMMARY:CarDunal Obedience Trial
DESCRIPTION:
URL:https://www.cardunaldogtraining.com/event/cardunal-obedience-trial-11/2026-11-08/
LOCATION:CarDunAl Dog Training Club\, 10783 Wolf Dr.\, Huntley\, IL\, 60142\, United States
CATEGORIES:Trials
END:VEVENT
BEGIN:VEVENT
DTSTART;TZID=America/Chicago:20261111T100000
DTEND;TZID=America/Chicago:20261111T120000
DTSTAMP:20260420T172022
CREATED:20251231T012521Z
LAST-MODIFIED:20251231T012521Z
UID:29368-1794391200-1794398400@www.cardunaldogtraining.com
SUMMARY:Obedience Drop-In Training
DESCRIPTION:
URL:https://www.cardunaldogtraining.com/event/obedience-drop-in-training-3/2026-11-11/
LOCATION:CarDunAl Dog Training Club\, 10783 Wolf Dr.\, Huntley\, IL\, 60142\, United States
CATEGORIES:Drop In Training
END:VEVENT
BEGIN:VEVENT
DTSTART;TZID=America/Chicago:20261111T120000
DTEND;TZID=America/Chicago:20261111T133000
DTSTAMP:20260420T172022
CREATED:20251231T010632Z
LAST-MODIFIED:20260101T023831Z
UID:29198-1794398400-1794403800@www.cardunaldogtraining.com
SUMMARY:Rally Drop-In
DESCRIPTION:
URL:https://www.cardunaldogtraining.com/event/rally-drop-in-class-2/2026-11-11/
LOCATION:CarDunAl Dog Training Club\, 10783 Wolf Dr.\, Huntley\, IL\, 60142\, United States
CATEGORIES:Drop In Training
END:VEVENT
BEGIN:VEVENT
DTSTART;TZID=America/Chicago:20261111T180000
DTEND;TZID=America/Chicago:20261111T184500
DTSTAMP:20260420T172022
CREATED:20251231T012028Z
LAST-MODIFIED:20251231T012028Z
UID:29268-1794420000-1794422700@www.cardunaldogtraining.com
SUMMARY:Novice Conformation Handling Class Drop-In Training
DESCRIPTION:
URL:https://www.cardunaldogtraining.com/event/novice-conformation-handling-class-drop-in-training/2026-11-11/
LOCATION:CarDunAl Dog Training Club\, 10783 Wolf Dr.\, Huntley\, IL\, 60142\, United States
END:VEVENT
BEGIN:VEVENT
DTSTART;TZID=America/Chicago:20261111T190000
DTEND;TZID=America/Chicago:20261111T200000
DTSTAMP:20260420T172022
CREATED:20251231T012254Z
LAST-MODIFIED:20251231T012254Z
UID:29318-1794423600-1794427200@www.cardunaldogtraining.com
SUMMARY:Conformation Drop-In Training
DESCRIPTION:
URL:https://www.cardunaldogtraining.com/event/conformation-drop-in-training-2/2026-11-11/
LOCATION:CarDunAl Dog Training Club\, 10783 Wolf Dr.\, Huntley\, IL\, 60142\, United States
CATEGORIES:Drop In Training
END:VEVENT
BEGIN:VEVENT
DTSTART;TZID=America/Chicago:20261118T100000
DTEND;TZID=America/Chicago:20261118T120000
DTSTAMP:20260420T172022
CREATED:20251231T012521Z
LAST-MODIFIED:20251231T012521Z
UID:29369-1794996000-1795003200@www.cardunaldogtraining.com
SUMMARY:Obedience Drop-In Training
DESCRIPTION:
URL:https://www.cardunaldogtraining.com/event/obedience-drop-in-training-3/2026-11-18/
LOCATION:CarDunAl Dog Training Club\, 10783 Wolf Dr.\, Huntley\, IL\, 60142\, United States
CATEGORIES:Drop In Training
END:VEVENT
BEGIN:VEVENT
DTSTART;TZID=America/Chicago:20261118T120000
DTEND;TZID=America/Chicago:20261118T133000
DTSTAMP:20260420T172022
CREATED:20251231T010632Z
LAST-MODIFIED:20260101T023831Z
UID:29199-1795003200-1795008600@www.cardunaldogtraining.com
SUMMARY:Rally Drop-In
DESCRIPTION:
URL:https://www.cardunaldogtraining.com/event/rally-drop-in-class-2/2026-11-18/
LOCATION:CarDunAl Dog Training Club\, 10783 Wolf Dr.\, Huntley\, IL\, 60142\, United States
CATEGORIES:Drop In Training
END:VEVENT
BEGIN:VEVENT
DTSTART;TZID=America/Chicago:20261118T180000
DTEND;TZID=America/Chicago:20261118T184500
DTSTAMP:20260420T172022
CREATED:20251231T012028Z
LAST-MODIFIED:20251231T012028Z
UID:29269-1795024800-1795027500@www.cardunaldogtraining.com
SUMMARY:Novice Conformation Handling Class Drop-In Training
DESCRIPTION:
URL:https://www.cardunaldogtraining.com/event/novice-conformation-handling-class-drop-in-training/2026-11-18/
LOCATION:CarDunAl Dog Training Club\, 10783 Wolf Dr.\, Huntley\, IL\, 60142\, United States
END:VEVENT
BEGIN:VEVENT
DTSTART;TZID=America/Chicago:20261118T190000
DTEND;TZID=America/Chicago:20261118T200000
DTSTAMP:20260420T172022
CREATED:20251231T012254Z
LAST-MODIFIED:20251231T012254Z
UID:29319-1795028400-1795032000@www.cardunaldogtraining.com
SUMMARY:Conformation Drop-In Training
DESCRIPTION:
URL:https://www.cardunaldogtraining.com/event/conformation-drop-in-training-2/2026-11-18/
LOCATION:CarDunAl Dog Training Club\, 10783 Wolf Dr.\, Huntley\, IL\, 60142\, United States
CATEGORIES:Drop In Training
END:VEVENT
BEGIN:VEVENT
DTSTART;TZID=America/Chicago:20261202T100000
DTEND;TZID=America/Chicago:20261202T120000
DTSTAMP:20260420T172022
CREATED:20251231T012521Z
LAST-MODIFIED:20251231T012521Z
UID:29370-1796205600-1796212800@www.cardunaldogtraining.com
SUMMARY:Obedience Drop-In Training
DESCRIPTION:
URL:https://www.cardunaldogtraining.com/event/obedience-drop-in-training-3/2026-12-02/
LOCATION:CarDunAl Dog Training Club\, 10783 Wolf Dr.\, Huntley\, IL\, 60142\, United States
CATEGORIES:Drop In Training
END:VEVENT
BEGIN:VEVENT
DTSTART;TZID=America/Chicago:20261202T180000
DTEND;TZID=America/Chicago:20261202T184500
DTSTAMP:20260420T172022
CREATED:20251231T012028Z
LAST-MODIFIED:20251231T012028Z
UID:29270-1796234400-1796237100@www.cardunaldogtraining.com
SUMMARY:Novice Conformation Handling Class Drop-In Training
DESCRIPTION:
URL:https://www.cardunaldogtraining.com/event/novice-conformation-handling-class-drop-in-training/2026-12-02/
LOCATION:CarDunAl Dog Training Club\, 10783 Wolf Dr.\, Huntley\, IL\, 60142\, United States
END:VEVENT
BEGIN:VEVENT
DTSTART;TZID=America/Chicago:20261202T190000
DTEND;TZID=America/Chicago:20261202T200000
DTSTAMP:20260420T172022
CREATED:20251231T012254Z
LAST-MODIFIED:20251231T012254Z
UID:29320-1796238000-1796241600@www.cardunaldogtraining.com
SUMMARY:Conformation Drop-In Training
DESCRIPTION:
URL:https://www.cardunaldogtraining.com/event/conformation-drop-in-training-2/2026-12-02/
LOCATION:CarDunAl Dog Training Club\, 10783 Wolf Dr.\, Huntley\, IL\, 60142\, United States
CATEGORIES:Drop In Training
END:VEVENT
BEGIN:VEVENT
DTSTART;TZID=America/Chicago:20261207T190000
DTEND;TZID=America/Chicago:20261207T210000
DTSTAMP:20260420T172022
CREATED:20251220T025144Z
LAST-MODIFIED:20251220T025144Z
UID:28656-1796670000-1796677200@www.cardunaldogtraining.com
SUMMARY:Board Meeting
DESCRIPTION:
URL:https://www.cardunaldogtraining.com/event/board-meeting-18/
LOCATION:CarDunAl Dog Training Club\, 10783 Wolf Dr.\, Huntley\, IL\, 60142\, United States
CATEGORIES:Meeting
END:VEVENT
BEGIN:VEVENT
DTSTART;TZID=America/Chicago:20261209T100000
DTEND;TZID=America/Chicago:20261209T120000
DTSTAMP:20260420T172022
CREATED:20251231T012521Z
LAST-MODIFIED:20251231T012521Z
UID:29371-1796810400-1796817600@www.cardunaldogtraining.com
SUMMARY:Obedience Drop-In Training
DESCRIPTION:
URL:https://www.cardunaldogtraining.com/event/obedience-drop-in-training-3/2026-12-09/
LOCATION:CarDunAl Dog Training Club\, 10783 Wolf Dr.\, Huntley\, IL\, 60142\, United States
CATEGORIES:Drop In Training
END:VEVENT
END:VCALENDAR