BEGIN:VCALENDAR
VERSION:2.0
PRODID:-//Car-Dun-Al Dog Obedience Training Club - ECPv6.15.17.1//NONSGML v1.0//EN
CALSCALE:GREGORIAN
METHOD:PUBLISH
X-WR-CALNAME:Car-Dun-Al Dog Obedience Training Club
X-ORIGINAL-URL:https://www.cardunaldogtraining.com
X-WR-CALDESC:Events for Car-Dun-Al Dog Obedience Training Club
REFRESH-INTERVAL;VALUE=DURATION:PT1H
X-Robots-Tag:noindex
X-PUBLISHED-TTL:PT1H
BEGIN:VTIMEZONE
TZID:America/Chicago
BEGIN:DAYLIGHT
TZOFFSETFROM:-0600
TZOFFSETTO:-0500
TZNAME:CDT
DTSTART:20230312T080000
END:DAYLIGHT
BEGIN:STANDARD
TZOFFSETFROM:-0500
TZOFFSETTO:-0600
TZNAME:CST
DTSTART:20231105T070000
END:STANDARD
BEGIN:DAYLIGHT
TZOFFSETFROM:-0600
TZOFFSETTO:-0500
TZNAME:CDT
DTSTART:20240310T080000
END:DAYLIGHT
BEGIN:STANDARD
TZOFFSETFROM:-0500
TZOFFSETTO:-0600
TZNAME:CST
DTSTART:20241103T070000
END:STANDARD
BEGIN:DAYLIGHT
TZOFFSETFROM:-0600
TZOFFSETTO:-0500
TZNAME:CDT
DTSTART:20250309T080000
END:DAYLIGHT
BEGIN:STANDARD
TZOFFSETFROM:-0500
TZOFFSETTO:-0600
TZNAME:CST
DTSTART:20251102T070000
END:STANDARD
END:VTIMEZONE
BEGIN:VEVENT
DTSTART;TZID=America/Chicago:20241029T180000
DTEND;TZID=America/Chicago:20241029T190000
DTSTAMP:20260422T164809
CREATED:20240904T010752Z
LAST-MODIFIED:20240909T013141Z
UID:23747-1730224800-1730228400@www.cardunaldogtraining.com
SUMMARY:Puppy Class Obedience
DESCRIPTION:
URL:https://www.cardunaldogtraining.com/event/puppy-class-obedience-8/2024-10-29/
LOCATION:CarDunAl Dog Training Club\, 10783 Wolf Dr.\, Huntley\, IL\, 60142\, United States
CATEGORIES:AKC Star Puppy / Pre-Beginners Class
END:VEVENT
BEGIN:VEVENT
DTSTART;TZID=America/Chicago:20241029T200000
DTEND;TZID=America/Chicago:20241029T210000
DTSTAMP:20260422T164809
CREATED:20240909T012639Z
LAST-MODIFIED:20240909T012814Z
UID:23998-1730232000-1730235600@www.cardunaldogtraining.com
SUMMARY:Intermediate Agility Level 3
DESCRIPTION:
URL:https://www.cardunaldogtraining.com/event/intermediate-agility-level-3-5/2024-10-29/
LOCATION:CarDunAl Dog Training Club\, 10783 Wolf Dr.\, Huntley\, IL\, 60142\, United States
CATEGORIES:Agility
END:VEVENT
BEGIN:VEVENT
DTSTART;TZID=America/Chicago:20241030T090000
DTEND;TZID=America/Chicago:20241030T100000
DTSTAMP:20260422T164809
CREATED:20240904T012423Z
LAST-MODIFIED:20240904T012423Z
UID:23813-1730278800-1730282400@www.cardunaldogtraining.com
SUMMARY:Open/Utility Obedience – No Instructor
DESCRIPTION:
URL:https://www.cardunaldogtraining.com/event/open-utility-obedience-no-instructor-15/2024-10-30/
LOCATION:CarDunAl Dog Training Club\, 10783 Wolf Dr.\, Huntley\, IL\, 60142\, United States
CATEGORIES:Advanced
END:VEVENT
BEGIN:VEVENT
DTSTART;TZID=America/Chicago:20241030T100000
DTEND;TZID=America/Chicago:20241030T110000
DTSTAMP:20260422T164809
CREATED:20240904T011307Z
LAST-MODIFIED:20240904T011307Z
UID:23769-1730282400-1730286000@www.cardunaldogtraining.com
SUMMARY:Novice Obedience
DESCRIPTION:
URL:https://www.cardunaldogtraining.com/event/novice-obedience-20/2024-10-30/
LOCATION:CarDunAl Dog Training Club\, 10783 Wolf Dr.\, Huntley\, IL\, 60142\, United States
CATEGORIES:Advanced
END:VEVENT
BEGIN:VEVENT
DTSTART;TZID=America/Chicago:20241030T100000
DTEND;TZID=America/Chicago:20241030T110000
DTSTAMP:20260422T164809
CREATED:20240904T020402Z
LAST-MODIFIED:20240904T020402Z
UID:23943-1730282400-1730286000@www.cardunaldogtraining.com
SUMMARY:Open Obedience
DESCRIPTION:
URL:https://www.cardunaldogtraining.com/event/open-obedience-18/2024-10-30/
LOCATION:CarDunAl Dog Training Club\, 10783 Wolf Dr.\, Huntley\, IL\, 60142\, United States
CATEGORIES:Advanced
END:VEVENT
BEGIN:VEVENT
DTSTART;TZID=America/Chicago:20241030T100000
DTEND;TZID=America/Chicago:20241030T120000
DTSTAMP:20260422T164809
CREATED:20231123T003335Z
LAST-MODIFIED:20240910T210703Z
UID:20105-1730282400-1730289600@www.cardunaldogtraining.com
SUMMARY:Drop In Obedience Training
DESCRIPTION:
URL:https://www.cardunaldogtraining.com/event/drop-in-obedience-training-3/2024-10-30/
LOCATION:CarDunAl Dog Training Club\, 10783 Wolf Dr.\, Huntley\, IL\, 60142\, United States
CATEGORIES:Drop In Training
END:VEVENT
BEGIN:VEVENT
DTSTART;TZID=America/Chicago:20241030T113000
DTEND;TZID=America/Chicago:20241030T123000
DTSTAMP:20260422T164809
CREATED:20240904T012837Z
LAST-MODIFIED:20240904T012837Z
UID:23824-1730287800-1730291400@www.cardunaldogtraining.com
SUMMARY:Beginner Obedience
DESCRIPTION:
URL:https://www.cardunaldogtraining.com/event/beginner-obedience-27/2024-10-30/
LOCATION:CarDunAl Dog Training Club\, 10783 Wolf Dr.\, Huntley\, IL\, 60142\, United States
CATEGORIES:Beginners
END:VEVENT
BEGIN:VEVENT
DTSTART;TZID=America/Chicago:20241030T120000
DTEND;TZID=America/Chicago:20241030T133000
DTSTAMP:20260422T164809
CREATED:20240918T222527Z
LAST-MODIFIED:20240918T222527Z
UID:24490-1730289600-1730295000@www.cardunaldogtraining.com
SUMMARY:Drop-in Rally
DESCRIPTION:
URL:https://www.cardunaldogtraining.com/event/drop-in-rally/2024-10-30/
LOCATION:CarDunAl Dog Training Club\, 10783 Wolf Dr.\, Huntley\, IL\, 60142\, United States
CATEGORIES:Drop In Training
END:VEVENT
BEGIN:VEVENT
DTSTART;TZID=America/Chicago:20241030T180000
DTEND;TZID=America/Chicago:20241030T184500
DTSTAMP:20260422T164809
CREATED:20240513T185654Z
LAST-MODIFIED:20240513T185654Z
UID:24591-1730311200-1730313900@www.cardunaldogtraining.com
SUMMARY:Novice Conformation Handling Drop-in Training
DESCRIPTION:This class is designed for novice handlers or handlers who need a little more guidance or for young dogs not quite ready for the regular conformation class
URL:https://www.cardunaldogtraining.com/event/puppy-socialization-conformation/2024-10-30/
LOCATION:CarDunAl Dog Training Club\, 10783 Wolf Dr.\, Huntley\, IL\, 60142\, United States
CATEGORIES:Drop In Training
END:VEVENT
BEGIN:VEVENT
DTSTART;TZID=America/Chicago:20241030T190000
DTEND;TZID=America/Chicago:20241030T200000
DTSTAMP:20260422T164809
CREATED:20240207T020143Z
LAST-MODIFIED:20240910T210833Z
UID:20920-1730314800-1730318400@www.cardunaldogtraining.com
SUMMARY:Drop In Conformation
DESCRIPTION:
URL:https://www.cardunaldogtraining.com/event/drop-in-conformation/2024-10-30/
LOCATION:CarDunAl Dog Training Club\, 10783 Wolf Dr.\, Huntley\, IL\, 60142\, United States
CATEGORIES:Drop In Training
END:VEVENT
BEGIN:VEVENT
DTSTART;TZID=America/Chicago:20241031T120000
DTEND;TZID=America/Chicago:20241031T130000
DTSTAMP:20260422T164809
CREATED:20240904T010914Z
LAST-MODIFIED:20240909T013315Z
UID:23758-1730376000-1730379600@www.cardunaldogtraining.com
SUMMARY:Puppy Class Obedience
DESCRIPTION:
URL:https://www.cardunaldogtraining.com/event/puppy-class-obedience-9/2024-10-31/
LOCATION:CarDunAl Dog Training Club\, 10783 Wolf Dr.\, Huntley\, IL\, 60142\, United States
CATEGORIES:AKC Star Puppy / Pre-Beginners Class
END:VEVENT
BEGIN:VEVENT
DTSTART;TZID=America/Chicago:20241031T133000
DTEND;TZID=America/Chicago:20241031T143000
DTSTAMP:20260422T164809
CREATED:20240904T013005Z
LAST-MODIFIED:20240904T013005Z
UID:23910-1730381400-1730385000@www.cardunaldogtraining.com
SUMMARY:Beginner Obedience
DESCRIPTION:
URL:https://www.cardunaldogtraining.com/event/beginner-obedience-29/2024-10-31/
LOCATION:CarDunAl Dog Training Club\, 10783 Wolf Dr.\, Huntley\, IL\, 60142\, United States
CATEGORIES:Beginners
END:VEVENT
BEGIN:VEVENT
DTSTART;TZID=America/Chicago:20241031T173000
DTEND;TZID=America/Chicago:20241031T190000
DTSTAMP:20260422T164809
CREATED:20231123T003905Z
LAST-MODIFIED:20240906T232110Z
UID:20153-1730395800-1730401200@www.cardunaldogtraining.com
SUMMARY:Drop In Rally Training
DESCRIPTION:
URL:https://www.cardunaldogtraining.com/event/drop-in-rally-training-2/2024-10-31/
LOCATION:CarDunAl Dog Training Club\, 10783 Wolf Dr.\, Huntley\, IL\, 60142\, United States
END:VEVENT
BEGIN:VEVENT
DTSTART;TZID=America/Chicago:20241031T174500
DTEND;TZID=America/Chicago:20241031T184500
DTSTAMP:20260422T164809
CREATED:20240904T012028Z
LAST-MODIFIED:20240904T012028Z
UID:23790-1730396700-1730400300@www.cardunaldogtraining.com
SUMMARY:Open/Utility Obedience – No Instructor
DESCRIPTION:
URL:https://www.cardunaldogtraining.com/event/open-utility-obedience-no-instructor-13/2024-10-31/
LOCATION:CarDunAl Dog Training Club\, 10783 Wolf Dr.\, Huntley\, IL\, 60142\, United States
CATEGORIES:Advanced
END:VEVENT
BEGIN:VEVENT
DTSTART;TZID=America/Chicago:20241031T180000
DTEND;TZID=America/Chicago:20241031T190000
DTSTAMP:20260422T164809
CREATED:20240909T015026Z
LAST-MODIFIED:20240909T015026Z
UID:24088-1730397600-1730401200@www.cardunaldogtraining.com
SUMMARY:Beginner Novice Obedience
DESCRIPTION:
URL:https://www.cardunaldogtraining.com/event/beginner-novice-obedience-11/2024-10-31/
LOCATION:CarDunAl Dog Training Club\, 10783 Wolf Dr.\, Huntley\, IL\, 60142\, United States
CATEGORIES:Agility
END:VEVENT
BEGIN:VEVENT
DTSTART;TZID=America/Chicago:20241031T180000
DTEND;TZID=America/Chicago:20241031T190000
DTSTAMP:20260422T164809
CREATED:20240909T020348Z
LAST-MODIFIED:20240909T020348Z
UID:24110-1730397600-1730401200@www.cardunaldogtraining.com
SUMMARY:Pre-Utility Obedience
DESCRIPTION:
URL:https://www.cardunaldogtraining.com/event/pre-utility-obedience-3/2024-10-31/
LOCATION:CarDunAl Dog Training Club\, 10783 Wolf Dr.\, Huntley\, IL\, 60142\, United States
CATEGORIES:Agility
END:VEVENT
BEGIN:VEVENT
DTSTART;TZID=America/Chicago:20241031T184500
DTEND;TZID=America/Chicago:20241031T194500
DTSTAMP:20260422T164809
CREATED:20240904T013146Z
LAST-MODIFIED:20240904T013615Z
UID:23849-1730400300-1730403900@www.cardunaldogtraining.com
SUMMARY:Beginner Obedience
DESCRIPTION:
URL:https://www.cardunaldogtraining.com/event/beginner-obedience-30/2024-10-31/
LOCATION:CarDunAl Dog Training Club\, 10783 Wolf Dr.\, Huntley\, IL\, 60142\, United States
CATEGORIES:Beginners
END:VEVENT
BEGIN:VEVENT
DTSTART;TZID=America/Chicago:20241031T190000
DTEND;TZID=America/Chicago:20241031T200000
DTSTAMP:20260422T164809
CREATED:20240904T011513Z
LAST-MODIFIED:20240904T011513Z
UID:23779-1730401200-1730404800@www.cardunaldogtraining.com
SUMMARY:Novice Obedience
DESCRIPTION:
URL:https://www.cardunaldogtraining.com/event/novice-obedience-21/2024-10-31/
LOCATION:CarDunAl Dog Training Club\, 10783 Wolf Dr.\, Huntley\, IL\, 60142\, United States
CATEGORIES:Advanced
END:VEVENT
BEGIN:VEVENT
DTSTART;TZID=America/Chicago:20241031T190000
DTEND;TZID=America/Chicago:20241031T200000
DTSTAMP:20260422T164809
CREATED:20240909T015151Z
LAST-MODIFIED:20240909T015151Z
UID:24099-1730401200-1730404800@www.cardunaldogtraining.com
SUMMARY:Beginner Novice Obedience
DESCRIPTION:
URL:https://www.cardunaldogtraining.com/event/beginner-novice-obedience-12/2024-10-31/
LOCATION:CarDunAl Dog Training Club\, 10783 Wolf Dr.\, Huntley\, IL\, 60142\, United States
CATEGORIES:Agility
END:VEVENT
BEGIN:VEVENT
DTSTART;TZID=America/Chicago:20241031T190000
DTEND;TZID=America/Chicago:20241031T200000
DTSTAMP:20260422T164809
CREATED:20240909T020537Z
LAST-MODIFIED:20240909T020537Z
UID:24122-1730401200-1730404800@www.cardunaldogtraining.com
SUMMARY:Utility Obedience
DESCRIPTION:
URL:https://www.cardunaldogtraining.com/event/utility-obedience-7/2024-10-31/
LOCATION:CarDunAl Dog Training Club\, 10783 Wolf Dr.\, Huntley\, IL\, 60142\, United States
CATEGORIES:Agility
END:VEVENT
BEGIN:VEVENT
DTSTART;TZID=America/Chicago:20241031T200000
DTEND;TZID=America/Chicago:20241031T210000
DTSTAMP:20260422T164809
CREATED:20240904T014025Z
LAST-MODIFIED:20240904T014142Z
UID:23880-1730404800-1730408400@www.cardunaldogtraining.com
SUMMARY:Beginner Obedience
DESCRIPTION:
URL:https://www.cardunaldogtraining.com/event/beginner-obedience-31/2024-10-31/
LOCATION:CarDunAl Dog Training Club\, 10783 Wolf Dr.\, Huntley\, IL\, 60142\, United States
CATEGORIES:Beginners
END:VEVENT
BEGIN:VEVENT
DTSTART;TZID=America/Chicago:20241031T200000
DTEND;TZID=America/Chicago:20241031T210000
DTSTAMP:20260422T164809
CREATED:20240904T020056Z
LAST-MODIFIED:20240904T020056Z
UID:23920-1730404800-1730408400@www.cardunaldogtraining.com
SUMMARY:Pre-Open Obedience
DESCRIPTION:
URL:https://www.cardunaldogtraining.com/event/pre-open-obedience-14/2024-10-31/
LOCATION:CarDunAl Dog Training Club\, 10783 Wolf Dr.\, Huntley\, IL\, 60142\, United States
CATEGORIES:Advanced
END:VEVENT
BEGIN:VEVENT
DTSTART;TZID=America/Chicago:20241031T200000
DTEND;TZID=America/Chicago:20241031T210000
DTSTAMP:20260422T164809
CREATED:20240904T020218Z
LAST-MODIFIED:20240904T020218Z
UID:23931-1730404800-1730408400@www.cardunaldogtraining.com
SUMMARY:Open Obedience
DESCRIPTION:
URL:https://www.cardunaldogtraining.com/event/open-obedience-17/2024-10-31/
LOCATION:CarDunAl Dog Training Club\, 10783 Wolf Dr.\, Huntley\, IL\, 60142\, United States
CATEGORIES:Advanced
END:VEVENT
BEGIN:VEVENT
DTSTART;TZID=America/Chicago:20241031T200000
DTEND;TZID=America/Chicago:20241031T210000
DTSTAMP:20260422T164809
CREATED:20240909T020708Z
LAST-MODIFIED:20240909T020708Z
UID:24133-1730404800-1730408400@www.cardunaldogtraining.com
SUMMARY:Utility Obedience
DESCRIPTION:
URL:https://www.cardunaldogtraining.com/event/utility-obedience-8/2024-10-31/
LOCATION:CarDunAl Dog Training Club\, 10783 Wolf Dr.\, Huntley\, IL\, 60142\, United States
CATEGORIES:Agility
END:VEVENT
BEGIN:VEVENT
DTSTART;TZID=America/Chicago:20241031T210000
DTEND;TZID=America/Chicago:20241031T220000
DTSTAMP:20260422T164809
CREATED:20240904T012156Z
LAST-MODIFIED:20240904T012156Z
UID:23802-1730408400-1730412000@www.cardunaldogtraining.com
SUMMARY:Open/Utility Obedience – No Instructor
DESCRIPTION:
URL:https://www.cardunaldogtraining.com/event/open-utility-obedience-no-instructor-14/2024-10-31/
LOCATION:CarDunAl Dog Training Club\, 10783 Wolf Dr.\, Huntley\, IL\, 60142\, United States
CATEGORIES:Advanced
END:VEVENT
BEGIN:VEVENT
DTSTART;TZID=America/Chicago:20241104T090000
DTEND;TZID=America/Chicago:20241104T100000
DTSTAMP:20260422T164809
CREATED:20240909T014218Z
LAST-MODIFIED:20240909T014218Z
UID:24079-1730710800-1730714400@www.cardunaldogtraining.com
SUMMARY:Advanced Agility Level 6
DESCRIPTION:
URL:https://www.cardunaldogtraining.com/event/advanced-agility-level-6/2024-11-04/
LOCATION:CarDunAl Dog Training Club\, 10783 Wolf Dr.\, Huntley\, IL\, 60142\, United States
CATEGORIES:Agility
END:VEVENT
BEGIN:VEVENT
DTSTART;TZID=America/Chicago:20241104T170000
DTEND;TZID=America/Chicago:20241104T180000
DTSTAMP:20260422T164809
CREATED:20240909T013618Z
LAST-MODIFIED:20240909T013618Z
UID:24035-1730739600-1730743200@www.cardunaldogtraining.com
SUMMARY:Advanced Agility Level 4
DESCRIPTION:
URL:https://www.cardunaldogtraining.com/event/advanced-agility-level-4-9/2024-11-04/
LOCATION:CarDunAl Dog Training Club\, 10783 Wolf Dr.\, Huntley\, IL\, 60142\, United States
CATEGORIES:Agility
END:VEVENT
BEGIN:VEVENT
DTSTART;TZID=America/Chicago:20241104T180000
DTEND;TZID=America/Chicago:20241104T190000
DTSTAMP:20260422T164809
CREATED:20240909T011647Z
LAST-MODIFIED:20240909T011647Z
UID:23966-1730743200-1730746800@www.cardunaldogtraining.com
SUMMARY:Agility Foundation Class Level 0
DESCRIPTION:
URL:https://www.cardunaldogtraining.com/event/agility-foundation-class-level-0-4/2024-11-04/
LOCATION:CarDunAl Dog Training Club\, 10783 Wolf Dr.\, Huntley\, IL\, 60142\, United States
CATEGORIES:Agility
END:VEVENT
BEGIN:VEVENT
DTSTART;TZID=America/Chicago:20241104T180000
DTEND;TZID=America/Chicago:20241104T190000
DTSTAMP:20260422T164809
CREATED:20240909T013819Z
LAST-MODIFIED:20240909T013819Z
UID:24046-1730743200-1730746800@www.cardunaldogtraining.com
SUMMARY:Advanced Agility Level 4
DESCRIPTION:
URL:https://www.cardunaldogtraining.com/event/advanced-agility-level-4-10/2024-11-04/
LOCATION:CarDunAl Dog Training Club\, 10783 Wolf Dr.\, Huntley\, IL\, 60142\, United States
CATEGORIES:Agility
END:VEVENT
BEGIN:VEVENT
DTSTART;TZID=America/Chicago:20241104T190000
DTEND;TZID=America/Chicago:20241104T200000
DTSTAMP:20260422T164809
CREATED:20240909T012115Z
LAST-MODIFIED:20240909T012115Z
UID:23988-1730746800-1730750400@www.cardunaldogtraining.com
SUMMARY:Intermediate Agility Level 2
DESCRIPTION:
URL:https://www.cardunaldogtraining.com/event/intermediate-agility-level-2-5/2024-11-04/
LOCATION:CarDunAl Dog Training Club\, 10783 Wolf Dr.\, Huntley\, IL\, 60142\, United States
CATEGORIES:Agility
END:VEVENT
END:VCALENDAR