BEGIN:VCALENDAR
VERSION:2.0
PRODID:-//Car-Dun-Al Dog Obedience Training Club - ECPv6.15.17.1//NONSGML v1.0//EN
CALSCALE:GREGORIAN
METHOD:PUBLISH
X-WR-CALNAME:Car-Dun-Al Dog Obedience Training Club
X-ORIGINAL-URL:https://www.cardunaldogtraining.com
X-WR-CALDESC:Events for Car-Dun-Al Dog Obedience Training Club
REFRESH-INTERVAL;VALUE=DURATION:PT1H
X-Robots-Tag:noindex
X-PUBLISHED-TTL:PT1H
BEGIN:VTIMEZONE
TZID:America/Chicago
BEGIN:DAYLIGHT
TZOFFSETFROM:-0600
TZOFFSETTO:-0500
TZNAME:CDT
DTSTART:20230312T080000
END:DAYLIGHT
BEGIN:STANDARD
TZOFFSETFROM:-0500
TZOFFSETTO:-0600
TZNAME:CST
DTSTART:20231105T070000
END:STANDARD
BEGIN:DAYLIGHT
TZOFFSETFROM:-0600
TZOFFSETTO:-0500
TZNAME:CDT
DTSTART:20240310T080000
END:DAYLIGHT
BEGIN:STANDARD
TZOFFSETFROM:-0500
TZOFFSETTO:-0600
TZNAME:CST
DTSTART:20241103T070000
END:STANDARD
BEGIN:DAYLIGHT
TZOFFSETFROM:-0600
TZOFFSETTO:-0500
TZNAME:CDT
DTSTART:20250309T080000
END:DAYLIGHT
BEGIN:STANDARD
TZOFFSETFROM:-0500
TZOFFSETTO:-0600
TZNAME:CST
DTSTART:20251102T070000
END:STANDARD
END:VTIMEZONE
BEGIN:VEVENT
DTSTART;TZID=America/Chicago:20240815T200000
DTEND;TZID=America/Chicago:20240815T210000
DTSTAMP:20260422T164706
CREATED:20240524T003806Z
LAST-MODIFIED:20240524T012419Z
UID:22339-1723752000-1723755600@www.cardunaldogtraining.com
SUMMARY:Pre-Open Obedience
DESCRIPTION:
URL:https://www.cardunaldogtraining.com/event/pre-open-obedience-13/2024-08-15/
LOCATION:CarDunAl Dog Training Club\, 10783 Wolf Dr.\, Huntley\, IL\, 60142\, United States
CATEGORIES:Advanced
END:VEVENT
BEGIN:VEVENT
DTSTART;TZID=America/Chicago:20240815T200000
DTEND;TZID=America/Chicago:20240815T210000
DTSTAMP:20260422T164706
CREATED:20240524T003938Z
LAST-MODIFIED:20240529T021553Z
UID:22351-1723752000-1723755600@www.cardunaldogtraining.com
SUMMARY:Open Obedience
DESCRIPTION:
URL:https://www.cardunaldogtraining.com/event/open-obedience-16/2024-08-15/
LOCATION:CarDunAl Dog Training Club\, 10783 Wolf Dr.\, Huntley\, IL\, 60142\, United States
CATEGORIES:Advanced
END:VEVENT
BEGIN:VEVENT
DTSTART;TZID=America/Chicago:20240815T200000
DTEND;TZID=America/Chicago:20240815T210000
DTSTAMP:20260422T164706
CREATED:20240524T004337Z
LAST-MODIFIED:20240529T021145Z
UID:22376-1723752000-1723755600@www.cardunaldogtraining.com
SUMMARY:Utility Obedience
DESCRIPTION:
URL:https://www.cardunaldogtraining.com/event/utility-obedience-6/2024-08-15/
LOCATION:CarDunAl Dog Training Club\, 10783 Wolf Dr.\, Huntley\, IL\, 60142\, United States
CATEGORIES:Advanced
END:VEVENT
BEGIN:VEVENT
DTSTART;TZID=America/Chicago:20240815T210000
DTEND;TZID=America/Chicago:20240815T220000
DTSTAMP:20260422T164706
CREATED:20240529T022348Z
LAST-MODIFIED:20240529T022348Z
UID:22882-1723755600-1723759200@www.cardunaldogtraining.com
SUMMARY:Open/Utility Obedience – No Instructor
DESCRIPTION:
URL:https://www.cardunaldogtraining.com/event/open-utility-obedience-no-instructor-12/2024-08-15/
LOCATION:CarDunAl Dog Training Club\, 10783 Wolf Dr.\, Huntley\, IL\, 60142\, United States
CATEGORIES:Advanced
END:VEVENT
BEGIN:VEVENT
DTSTART;TZID=America/Chicago:20240819T090000
DTEND;TZID=America/Chicago:20240819T103000
DTSTAMP:20260422T164706
CREATED:20240529T014046Z
LAST-MODIFIED:20240701T162333Z
UID:22763-1724058000-1724063400@www.cardunaldogtraining.com
SUMMARY:Master Agility Level 6
DESCRIPTION:
URL:https://www.cardunaldogtraining.com/event/master-agility-level-6-2/2024-08-19/
LOCATION:CarDunAl Dog Training Club\, 10783 Wolf Dr.\, Huntley\, IL\, 60142\, United States
CATEGORIES:Agility
END:VEVENT
BEGIN:VEVENT
DTSTART;TZID=America/Chicago:20240819T170000
DTEND;TZID=America/Chicago:20240819T180000
DTSTAMP:20260422T164706
CREATED:20240529T013551Z
LAST-MODIFIED:20240701T162618Z
UID:22708-1724086800-1724090400@www.cardunaldogtraining.com
SUMMARY:Advanced Agility Level 4
DESCRIPTION:
URL:https://www.cardunaldogtraining.com/event/advanced-agility-level-4-7/2024-08-19/
LOCATION:CarDunAl Dog Training Club\, 10783 Wolf Dr.\, Huntley\, IL\, 60142\, United States
CATEGORIES:Agility
END:VEVENT
BEGIN:VEVENT
DTSTART;TZID=America/Chicago:20240819T180000
DTEND;TZID=America/Chicago:20240819T190000
DTSTAMP:20260422T164706
CREATED:20240529T013213Z
LAST-MODIFIED:20240701T163726Z
UID:22686-1724090400-1724094000@www.cardunaldogtraining.com
SUMMARY:Agility Foundation Class Level 0
DESCRIPTION:
URL:https://www.cardunaldogtraining.com/event/agility-foundation-class-level-0-3/2024-08-19/
LOCATION:CarDunAl Dog Training Club\, 10783 Wolf Dr.\, Huntley\, IL\, 60142\, United States
CATEGORIES:Agility
END:VEVENT
BEGIN:VEVENT
DTSTART;TZID=America/Chicago:20240819T180000
DTEND;TZID=America/Chicago:20240819T190000
DTSTAMP:20260422T164706
CREATED:20240529T013641Z
LAST-MODIFIED:20240701T162456Z
UID:22719-1724090400-1724094000@www.cardunaldogtraining.com
SUMMARY:Advanced Agility Level 4
DESCRIPTION:
URL:https://www.cardunaldogtraining.com/event/advanced-agility-level-4-8/2024-08-19/
LOCATION:CarDunAl Dog Training Club\, 10783 Wolf Dr.\, Huntley\, IL\, 60142\, United States
CATEGORIES:Agility
END:VEVENT
BEGIN:VEVENT
DTSTART;TZID=America/Chicago:20240819T190000
DTEND;TZID=America/Chicago:20240819T200000
DTSTAMP:20260422T164706
CREATED:20240529T013755Z
LAST-MODIFIED:20240701T163442Z
UID:22730-1724094000-1724097600@www.cardunaldogtraining.com
SUMMARY:Intermediate Agility Level 2
DESCRIPTION:
URL:https://www.cardunaldogtraining.com/event/intermediate-agility-level-2-4/2024-08-19/
LOCATION:CarDunAl Dog Training Club\, 10783 Wolf Dr.\, Huntley\, IL\, 60142\, United States
CATEGORIES:Agility
END:VEVENT
BEGIN:VEVENT
DTSTART;TZID=America/Chicago:20240819T190000
DTEND;TZID=America/Chicago:20240819T200000
DTSTAMP:20260422T164706
CREATED:20240529T013912Z
LAST-MODIFIED:20240701T163322Z
UID:22741-1724094000-1724097600@www.cardunaldogtraining.com
SUMMARY:Competition Agility Level 5
DESCRIPTION:
URL:https://www.cardunaldogtraining.com/event/competition-agility-level-5-8/2024-08-19/
LOCATION:CarDunAl Dog Training Club\, 10783 Wolf Dr.\, Huntley\, IL\, 60142\, United States
CATEGORIES:Agility
END:VEVENT
BEGIN:VEVENT
DTSTART;TZID=America/Chicago:20240819T200000
DTEND;TZID=America/Chicago:20240819T210000
DTSTAMP:20260422T164706
CREATED:20240529T013427Z
LAST-MODIFIED:20240701T163549Z
UID:22697-1724097600-1724101200@www.cardunaldogtraining.com
SUMMARY:Beginner Agility Level 1
DESCRIPTION:
URL:https://www.cardunaldogtraining.com/event/beginner-agility-level-1-4/2024-08-19/
LOCATION:CarDunAl Dog Training Club\, 10783 Wolf Dr.\, Huntley\, IL\, 60142\, United States
CATEGORIES:Agility
END:VEVENT
BEGIN:VEVENT
DTSTART;TZID=America/Chicago:20240819T200000
DTEND;TZID=America/Chicago:20240819T210000
DTSTAMP:20260422T164706
CREATED:20240529T013951Z
LAST-MODIFIED:20240701T163209Z
UID:22752-1724097600-1724101200@www.cardunaldogtraining.com
SUMMARY:Competition Agility Level 5
DESCRIPTION:
URL:https://www.cardunaldogtraining.com/event/competition-agility-level-5-9/2024-08-19/
LOCATION:CarDunAl Dog Training Club\, 10783 Wolf Dr.\, Huntley\, IL\, 60142\, United States
CATEGORIES:Agility
END:VEVENT
BEGIN:VEVENT
DTSTART;TZID=America/Chicago:20240820T123000
DTEND;TZID=America/Chicago:20240820T133000
DTSTAMP:20260422T164706
CREATED:20240529T015906Z
LAST-MODIFIED:20240701T164253Z
UID:22805-1724157000-1724160600@www.cardunaldogtraining.com
SUMMARY:Scent Work Level 1
DESCRIPTION:
URL:https://www.cardunaldogtraining.com/event/scent-work-level-1-3/2024-08-20/
LOCATION:CarDunAl Dog Training Club\, 10783 Wolf Dr.\, Huntley\, IL\, 60142\, United States
CATEGORIES:Scent Work
END:VEVENT
BEGIN:VEVENT
DTSTART;TZID=America/Chicago:20240820T134500
DTEND;TZID=America/Chicago:20240820T144500
DTSTAMP:20260422T164706
CREATED:20240529T020038Z
LAST-MODIFIED:20240701T163915Z
UID:22816-1724161500-1724165100@www.cardunaldogtraining.com
SUMMARY:Scent Work Level 1
DESCRIPTION:
URL:https://www.cardunaldogtraining.com/event/scent-work-level-1-4/2024-08-20/
LOCATION:CarDunAl Dog Training Club\, 10783 Wolf Dr.\, Huntley\, IL\, 60142\, United States
CATEGORIES:Scent Work
END:VEVENT
BEGIN:VEVENT
DTSTART;TZID=America/Chicago:20240820T151500
DTEND;TZID=America/Chicago:20240820T161500
DTSTAMP:20260422T164706
CREATED:20240529T020140Z
LAST-MODIFIED:20240701T164553Z
UID:22827-1724166900-1724170500@www.cardunaldogtraining.com
SUMMARY:Scent Work Level 2
DESCRIPTION:
URL:https://www.cardunaldogtraining.com/event/scent-work-level-2-3/2024-08-20/
LOCATION:CarDunAl Dog Training Club\, 10783 Wolf Dr.\, Huntley\, IL\, 60142\, United States
CATEGORIES:Scent Work
END:VEVENT
BEGIN:VEVENT
DTSTART;TZID=America/Chicago:20240820T183000
DTEND;TZID=America/Chicago:20240820T210000
DTSTAMP:20260422T164706
CREATED:20231019T015220Z
LAST-MODIFIED:20231019T015220Z
UID:19349-1724178600-1724187600@www.cardunaldogtraining.com
SUMMARY:Cardunal Correction clinic
DESCRIPTION:
URL:https://www.cardunaldogtraining.com/event/cardunal-correction-clinic/
LOCATION:CarDunAl Dog Training Club\, 10783 Wolf Dr.\, Huntley\, IL\, 60142\, United States
CATEGORIES:Correction Clinic
END:VEVENT
BEGIN:VEVENT
DTSTART;TZID=America/Chicago:20240821T090000
DTEND;TZID=America/Chicago:20240821T100000
DTSTAMP:20260422T164706
CREATED:20240524T005018Z
LAST-MODIFIED:20240701T174937Z
UID:22390-1724230800-1724234400@www.cardunaldogtraining.com
SUMMARY:Open Utility Obedience No Instruction
DESCRIPTION:
URL:https://www.cardunaldogtraining.com/event/open-utility-obedience-no-instruction-4/2024-08-21/
LOCATION:CarDunAl Dog Training Club\, 10783 Wolf Dr.\, Huntley\, IL\, 60142\, United States
CATEGORIES:Advanced
END:VEVENT
BEGIN:VEVENT
DTSTART;TZID=America/Chicago:20240821T100000
DTEND;TZID=America/Chicago:20240821T110000
DTSTAMP:20260422T164706
CREATED:20240524T003006Z
LAST-MODIFIED:20240701T175056Z
UID:22837-1724234400-1724238000@www.cardunaldogtraining.com
SUMMARY:Novice Obedience
DESCRIPTION:
URL:https://www.cardunaldogtraining.com/event/novice-obedience-18/2024-08-21/
LOCATION:CarDunAl Dog Training Club\, 10783 Wolf Dr.\, Huntley\, IL\, 60142\, United States
CATEGORIES:Advanced
END:VEVENT
BEGIN:VEVENT
DTSTART;TZID=America/Chicago:20240821T100000
DTEND;TZID=America/Chicago:20240821T110000
DTSTAMP:20260422T164706
CREATED:20240524T003512Z
LAST-MODIFIED:20240701T180614Z
UID:22330-1724234400-1724238000@www.cardunaldogtraining.com
SUMMARY:Open Obedience
DESCRIPTION:
URL:https://www.cardunaldogtraining.com/event/open-obedience-15/2024-08-21/
LOCATION:CarDunAl Dog Training Club\, 10783 Wolf Dr.\, Huntley\, IL\, 60142\, United States
CATEGORIES:Advanced
END:VEVENT
BEGIN:VEVENT
DTSTART;TZID=America/Chicago:20240821T100000
DTEND;TZID=America/Chicago:20240821T120000
DTSTAMP:20260422T164706
CREATED:20231123T003335Z
LAST-MODIFIED:20240910T210701Z
UID:20095-1724234400-1724241600@www.cardunaldogtraining.com
SUMMARY:Drop In Obedience Training
DESCRIPTION:
URL:https://www.cardunaldogtraining.com/event/drop-in-obedience-training-3/2024-08-21/
LOCATION:CarDunAl Dog Training Club\, 10783 Wolf Dr.\, Huntley\, IL\, 60142\, United States
CATEGORIES:Drop In Training
END:VEVENT
BEGIN:VEVENT
DTSTART;TZID=America/Chicago:20240821T113000
DTEND;TZID=America/Chicago:20240821T123000
DTSTAMP:20260422T164706
CREATED:20240522T020414Z
LAST-MODIFIED:20240701T180853Z
UID:22231-1724239800-1724243400@www.cardunaldogtraining.com
SUMMARY:Beginner Obedience
DESCRIPTION:
URL:https://www.cardunaldogtraining.com/event/beginner-obedience-25/2024-08-21/
LOCATION:CarDunAl Dog Training Club\, 10783 Wolf Dr.\, Huntley\, IL\, 60142\, United States
CATEGORIES:Beginners
END:VEVENT
BEGIN:VEVENT
DTSTART;TZID=America/Chicago:20240821T120000
DTEND;TZID=America/Chicago:20240821T130000
DTSTAMP:20260422T164706
CREATED:20231123T004544Z
LAST-MODIFIED:20240320T004850Z
UID:20184-1724241600-1724245200@www.cardunaldogtraining.com
SUMMARY:Drop In Rally Training
DESCRIPTION:
URL:https://www.cardunaldogtraining.com/event/rally-drop-in-training-2/2024-08-21/
LOCATION:CarDunAl Dog Training Club\, 10783 Wolf Dr.\, Huntley\, IL\, 60142\, United States
CATEGORIES:Drop In Training
END:VEVENT
BEGIN:VEVENT
DTSTART;TZID=America/Chicago:20240821T120000
DTEND;TZID=America/Chicago:20240821T140000
DTSTAMP:20260422T164706
CREATED:20240802T020712Z
LAST-MODIFIED:20250203T220117Z
UID:23288-1724241600-1724248800@www.cardunaldogtraining.com
SUMMARY:Rally Extravaganza
DESCRIPTION:
URL:https://www.cardunaldogtraining.com/event/rally-extravaganza-2/
LOCATION:CarDunAl Dog Training Club\, 10783 Wolf Dr.\, Huntley\, IL\, 60142\, United States
CATEGORIES:Events
END:VEVENT
BEGIN:VEVENT
DTSTART;TZID=America/Chicago:20240821T180000
DTEND;TZID=America/Chicago:20240821T184500
DTSTAMP:20260422T164706
CREATED:20240513T185654Z
LAST-MODIFIED:20240513T185654Z
UID:24583-1724263200-1724265900@www.cardunaldogtraining.com
SUMMARY:Novice Conformation Handling Drop-in Training
DESCRIPTION:This class is designed for novice handlers or handlers who need a little more guidance or for young dogs not quite ready for the regular conformation class
URL:https://www.cardunaldogtraining.com/event/puppy-socialization-conformation/2024-08-21/
LOCATION:CarDunAl Dog Training Club\, 10783 Wolf Dr.\, Huntley\, IL\, 60142\, United States
CATEGORIES:Drop In Training
END:VEVENT
BEGIN:VEVENT
DTSTART;TZID=America/Chicago:20240821T190000
DTEND;TZID=America/Chicago:20240821T200000
DTSTAMP:20260422T164706
CREATED:20240207T020143Z
LAST-MODIFIED:20240910T210830Z
UID:20911-1724266800-1724270400@www.cardunaldogtraining.com
SUMMARY:Drop In Conformation
DESCRIPTION:
URL:https://www.cardunaldogtraining.com/event/drop-in-conformation/2024-08-21/
LOCATION:CarDunAl Dog Training Club\, 10783 Wolf Dr.\, Huntley\, IL\, 60142\, United States
CATEGORIES:Drop In Training
END:VEVENT
BEGIN:VEVENT
DTSTART;TZID=America/Chicago:20240822T113000
DTEND;TZID=America/Chicago:20240822T123000
DTSTAMP:20260422T164706
CREATED:20240524T014332Z
LAST-MODIFIED:20240524T014332Z
UID:22504-1724326200-1724329800@www.cardunaldogtraining.com
SUMMARY:Beginner Obedience
DESCRIPTION:
URL:https://www.cardunaldogtraining.com/event/beginner-obedience-26/2024-08-22/
LOCATION:CarDunAl Dog Training Club\, 10783 Wolf Dr.\, Huntley\, IL\, 60142\, United States
CATEGORIES:Beginners
END:VEVENT
BEGIN:VEVENT
DTSTART;TZID=America/Chicago:20240822T173000
DTEND;TZID=America/Chicago:20240822T190000
DTSTAMP:20260422T164706
CREATED:20231123T003905Z
LAST-MODIFIED:20240906T232109Z
UID:20144-1724347800-1724353200@www.cardunaldogtraining.com
SUMMARY:Drop In Rally Training
DESCRIPTION:
URL:https://www.cardunaldogtraining.com/event/drop-in-rally-training-2/2024-08-22/
LOCATION:CarDunAl Dog Training Club\, 10783 Wolf Dr.\, Huntley\, IL\, 60142\, United States
END:VEVENT
BEGIN:VEVENT
DTSTART;TZID=America/Chicago:20240822T180000
DTEND;TZID=America/Chicago:20240822T190000
DTSTAMP:20260422T164706
CREATED:20240522T021357Z
LAST-MODIFIED:20240524T011844Z
UID:22275-1724349600-1724353200@www.cardunaldogtraining.com
SUMMARY:Beginner Novice Obedience
DESCRIPTION:
URL:https://www.cardunaldogtraining.com/event/beginner-novice-obedience-9/2024-08-22/
LOCATION:CarDunAl Dog Training Club\, 10783 Wolf Dr.\, Huntley\, IL\, 60142\, United States
CATEGORIES:Advanced
END:VEVENT
BEGIN:VEVENT
DTSTART;TZID=America/Chicago:20240822T180000
DTEND;TZID=America/Chicago:20240822T190000
DTSTAMP:20260422T164706
CREATED:20240529T022232Z
LAST-MODIFIED:20240529T022232Z
UID:22872-1724349600-1724353200@www.cardunaldogtraining.com
SUMMARY:Open/Utility Obedience – No Instructor
DESCRIPTION:
URL:https://www.cardunaldogtraining.com/event/open-utility-obedience-no-instructor-11/2024-08-22/
LOCATION:CarDunAl Dog Training Club\, 10783 Wolf Dr.\, Huntley\, IL\, 60142\, United States
CATEGORIES:Advanced
END:VEVENT
BEGIN:VEVENT
DTSTART;TZID=America/Chicago:20240822T190000
DTEND;TZID=America/Chicago:20240822T200000
DTSTAMP:20260422T164706
CREATED:20240522T021521Z
LAST-MODIFIED:20240524T011547Z
UID:22287-1724353200-1724356800@www.cardunaldogtraining.com
SUMMARY:Beginner Novice Obedience
DESCRIPTION:
URL:https://www.cardunaldogtraining.com/event/beginner-novice-obedience-10/2024-08-22/
LOCATION:CarDunAl Dog Training Club\, 10783 Wolf Dr.\, Huntley\, IL\, 60142\, United States
CATEGORIES:Advanced
END:VEVENT
END:VCALENDAR