BEGIN:VCALENDAR
VERSION:2.0
PRODID:-//Car-Dun-Al Dog Obedience Training Club - ECPv6.15.17.1//NONSGML v1.0//EN
CALSCALE:GREGORIAN
METHOD:PUBLISH
X-WR-CALNAME:Car-Dun-Al Dog Obedience Training Club
X-ORIGINAL-URL:https://www.cardunaldogtraining.com
X-WR-CALDESC:Events for Car-Dun-Al Dog Obedience Training Club
REFRESH-INTERVAL;VALUE=DURATION:PT1H
X-Robots-Tag:noindex
X-PUBLISHED-TTL:PT1H
BEGIN:VTIMEZONE
TZID:America/Chicago
BEGIN:DAYLIGHT
TZOFFSETFROM:-0600
TZOFFSETTO:-0500
TZNAME:CDT
DTSTART:20230312T080000
END:DAYLIGHT
BEGIN:STANDARD
TZOFFSETFROM:-0500
TZOFFSETTO:-0600
TZNAME:CST
DTSTART:20231105T070000
END:STANDARD
BEGIN:DAYLIGHT
TZOFFSETFROM:-0600
TZOFFSETTO:-0500
TZNAME:CDT
DTSTART:20240310T080000
END:DAYLIGHT
BEGIN:STANDARD
TZOFFSETFROM:-0500
TZOFFSETTO:-0600
TZNAME:CST
DTSTART:20241103T070000
END:STANDARD
BEGIN:DAYLIGHT
TZOFFSETFROM:-0600
TZOFFSETTO:-0500
TZNAME:CDT
DTSTART:20250309T080000
END:DAYLIGHT
BEGIN:STANDARD
TZOFFSETFROM:-0500
TZOFFSETTO:-0600
TZNAME:CST
DTSTART:20251102T070000
END:STANDARD
END:VTIMEZONE
BEGIN:VEVENT
DTSTART;TZID=America/Chicago:20241106T190000
DTEND;TZID=America/Chicago:20241106T200000
DTSTAMP:20260422T221421
CREATED:20240207T020143Z
LAST-MODIFIED:20240910T210833Z
UID:20921-1730919600-1730923200@www.cardunaldogtraining.com
SUMMARY:Drop In Conformation
DESCRIPTION:
URL:https://www.cardunaldogtraining.com/event/drop-in-conformation/2024-11-06/
LOCATION:CarDunAl Dog Training Club\, 10783 Wolf Dr.\, Huntley\, IL\, 60142\, United States
CATEGORIES:Drop In Training
END:VEVENT
BEGIN:VEVENT
DTSTART;TZID=America/Chicago:20241107T120000
DTEND;TZID=America/Chicago:20241107T130000
DTSTAMP:20260422T221421
CREATED:20240904T010914Z
LAST-MODIFIED:20240909T013315Z
UID:23759-1730980800-1730984400@www.cardunaldogtraining.com
SUMMARY:Puppy Class Obedience
DESCRIPTION:
URL:https://www.cardunaldogtraining.com/event/puppy-class-obedience-9/2024-11-07/
LOCATION:CarDunAl Dog Training Club\, 10783 Wolf Dr.\, Huntley\, IL\, 60142\, United States
CATEGORIES:AKC Star Puppy / Pre-Beginners Class
END:VEVENT
BEGIN:VEVENT
DTSTART;TZID=America/Chicago:20241107T133000
DTEND;TZID=America/Chicago:20241107T143000
DTSTAMP:20260422T221421
CREATED:20240904T013005Z
LAST-MODIFIED:20240904T013005Z
UID:23911-1730986200-1730989800@www.cardunaldogtraining.com
SUMMARY:Beginner Obedience
DESCRIPTION:
URL:https://www.cardunaldogtraining.com/event/beginner-obedience-29/2024-11-07/
LOCATION:CarDunAl Dog Training Club\, 10783 Wolf Dr.\, Huntley\, IL\, 60142\, United States
CATEGORIES:Beginners
END:VEVENT
BEGIN:VEVENT
DTSTART;TZID=America/Chicago:20241107T173000
DTEND;TZID=America/Chicago:20241107T190000
DTSTAMP:20260422T221421
CREATED:20231123T003905Z
LAST-MODIFIED:20240906T232110Z
UID:20154-1731000600-1731006000@www.cardunaldogtraining.com
SUMMARY:Drop In Rally Training
DESCRIPTION:
URL:https://www.cardunaldogtraining.com/event/drop-in-rally-training-2/2024-11-07/
LOCATION:CarDunAl Dog Training Club\, 10783 Wolf Dr.\, Huntley\, IL\, 60142\, United States
END:VEVENT
BEGIN:VEVENT
DTSTART;TZID=America/Chicago:20241107T174500
DTEND;TZID=America/Chicago:20241107T184500
DTSTAMP:20260422T221421
CREATED:20240904T012028Z
LAST-MODIFIED:20240904T012028Z
UID:23791-1731001500-1731005100@www.cardunaldogtraining.com
SUMMARY:Open/Utility Obedience – No Instructor
DESCRIPTION:
URL:https://www.cardunaldogtraining.com/event/open-utility-obedience-no-instructor-13/2024-11-07/
LOCATION:CarDunAl Dog Training Club\, 10783 Wolf Dr.\, Huntley\, IL\, 60142\, United States
CATEGORIES:Advanced
END:VEVENT
BEGIN:VEVENT
DTSTART;TZID=America/Chicago:20241107T180000
DTEND;TZID=America/Chicago:20241107T190000
DTSTAMP:20260422T221421
CREATED:20240909T015026Z
LAST-MODIFIED:20240909T015026Z
UID:24089-1731002400-1731006000@www.cardunaldogtraining.com
SUMMARY:Beginner Novice Obedience
DESCRIPTION:
URL:https://www.cardunaldogtraining.com/event/beginner-novice-obedience-11/2024-11-07/
LOCATION:CarDunAl Dog Training Club\, 10783 Wolf Dr.\, Huntley\, IL\, 60142\, United States
CATEGORIES:Agility
END:VEVENT
BEGIN:VEVENT
DTSTART;TZID=America/Chicago:20241107T180000
DTEND;TZID=America/Chicago:20241107T190000
DTSTAMP:20260422T221421
CREATED:20240909T020348Z
LAST-MODIFIED:20240909T020348Z
UID:24111-1731002400-1731006000@www.cardunaldogtraining.com
SUMMARY:Pre-Utility Obedience
DESCRIPTION:
URL:https://www.cardunaldogtraining.com/event/pre-utility-obedience-3/2024-11-07/
LOCATION:CarDunAl Dog Training Club\, 10783 Wolf Dr.\, Huntley\, IL\, 60142\, United States
CATEGORIES:Agility
END:VEVENT
BEGIN:VEVENT
DTSTART;TZID=America/Chicago:20241107T184500
DTEND;TZID=America/Chicago:20241107T194500
DTSTAMP:20260422T221421
CREATED:20240904T013146Z
LAST-MODIFIED:20240904T013615Z
UID:23850-1731005100-1731008700@www.cardunaldogtraining.com
SUMMARY:Beginner Obedience
DESCRIPTION:
URL:https://www.cardunaldogtraining.com/event/beginner-obedience-30/2024-11-07/
LOCATION:CarDunAl Dog Training Club\, 10783 Wolf Dr.\, Huntley\, IL\, 60142\, United States
CATEGORIES:Beginners
END:VEVENT
BEGIN:VEVENT
DTSTART;TZID=America/Chicago:20241107T190000
DTEND;TZID=America/Chicago:20241107T200000
DTSTAMP:20260422T221421
CREATED:20240904T011513Z
LAST-MODIFIED:20240904T011513Z
UID:23780-1731006000-1731009600@www.cardunaldogtraining.com
SUMMARY:Novice Obedience
DESCRIPTION:
URL:https://www.cardunaldogtraining.com/event/novice-obedience-21/2024-11-07/
LOCATION:CarDunAl Dog Training Club\, 10783 Wolf Dr.\, Huntley\, IL\, 60142\, United States
CATEGORIES:Advanced
END:VEVENT
BEGIN:VEVENT
DTSTART;TZID=America/Chicago:20241107T190000
DTEND;TZID=America/Chicago:20241107T200000
DTSTAMP:20260422T221421
CREATED:20240909T015151Z
LAST-MODIFIED:20240909T015151Z
UID:24100-1731006000-1731009600@www.cardunaldogtraining.com
SUMMARY:Beginner Novice Obedience
DESCRIPTION:
URL:https://www.cardunaldogtraining.com/event/beginner-novice-obedience-12/2024-11-07/
LOCATION:CarDunAl Dog Training Club\, 10783 Wolf Dr.\, Huntley\, IL\, 60142\, United States
CATEGORIES:Agility
END:VEVENT
BEGIN:VEVENT
DTSTART;TZID=America/Chicago:20241107T190000
DTEND;TZID=America/Chicago:20241107T200000
DTSTAMP:20260422T221421
CREATED:20240909T020537Z
LAST-MODIFIED:20240909T020537Z
UID:24123-1731006000-1731009600@www.cardunaldogtraining.com
SUMMARY:Utility Obedience
DESCRIPTION:
URL:https://www.cardunaldogtraining.com/event/utility-obedience-7/2024-11-07/
LOCATION:CarDunAl Dog Training Club\, 10783 Wolf Dr.\, Huntley\, IL\, 60142\, United States
CATEGORIES:Agility
END:VEVENT
BEGIN:VEVENT
DTSTART;TZID=America/Chicago:20241107T200000
DTEND;TZID=America/Chicago:20241107T210000
DTSTAMP:20260422T221421
CREATED:20240904T014025Z
LAST-MODIFIED:20240904T014142Z
UID:23881-1731009600-1731013200@www.cardunaldogtraining.com
SUMMARY:Beginner Obedience
DESCRIPTION:
URL:https://www.cardunaldogtraining.com/event/beginner-obedience-31/2024-11-07/
LOCATION:CarDunAl Dog Training Club\, 10783 Wolf Dr.\, Huntley\, IL\, 60142\, United States
CATEGORIES:Beginners
END:VEVENT
BEGIN:VEVENT
DTSTART;TZID=America/Chicago:20241107T200000
DTEND;TZID=America/Chicago:20241107T210000
DTSTAMP:20260422T221421
CREATED:20240904T020056Z
LAST-MODIFIED:20240904T020056Z
UID:23921-1731009600-1731013200@www.cardunaldogtraining.com
SUMMARY:Pre-Open Obedience
DESCRIPTION:
URL:https://www.cardunaldogtraining.com/event/pre-open-obedience-14/2024-11-07/
LOCATION:CarDunAl Dog Training Club\, 10783 Wolf Dr.\, Huntley\, IL\, 60142\, United States
CATEGORIES:Advanced
END:VEVENT
BEGIN:VEVENT
DTSTART;TZID=America/Chicago:20241107T200000
DTEND;TZID=America/Chicago:20241107T210000
DTSTAMP:20260422T221421
CREATED:20240904T020218Z
LAST-MODIFIED:20240904T020218Z
UID:23932-1731009600-1731013200@www.cardunaldogtraining.com
SUMMARY:Open Obedience
DESCRIPTION:
URL:https://www.cardunaldogtraining.com/event/open-obedience-17/2024-11-07/
LOCATION:CarDunAl Dog Training Club\, 10783 Wolf Dr.\, Huntley\, IL\, 60142\, United States
CATEGORIES:Advanced
END:VEVENT
BEGIN:VEVENT
DTSTART;TZID=America/Chicago:20241107T200000
DTEND;TZID=America/Chicago:20241107T210000
DTSTAMP:20260422T221421
CREATED:20240909T020708Z
LAST-MODIFIED:20240909T020708Z
UID:24134-1731009600-1731013200@www.cardunaldogtraining.com
SUMMARY:Utility Obedience
DESCRIPTION:
URL:https://www.cardunaldogtraining.com/event/utility-obedience-8/2024-11-07/
LOCATION:CarDunAl Dog Training Club\, 10783 Wolf Dr.\, Huntley\, IL\, 60142\, United States
CATEGORIES:Agility
END:VEVENT
BEGIN:VEVENT
DTSTART;TZID=America/Chicago:20241107T210000
DTEND;TZID=America/Chicago:20241107T220000
DTSTAMP:20260422T221421
CREATED:20240904T012156Z
LAST-MODIFIED:20240904T012156Z
UID:23803-1731013200-1731016800@www.cardunaldogtraining.com
SUMMARY:Open/Utility Obedience – No Instructor
DESCRIPTION:
URL:https://www.cardunaldogtraining.com/event/open-utility-obedience-no-instructor-14/2024-11-07/
LOCATION:CarDunAl Dog Training Club\, 10783 Wolf Dr.\, Huntley\, IL\, 60142\, United States
CATEGORIES:Advanced
END:VEVENT
BEGIN:VEVENT
DTSTART;VALUE=DATE:20241108
DTEND;VALUE=DATE:20241109
DTSTAMP:20260422T221421
CREATED:20231019T024141Z
LAST-MODIFIED:20231019T024141Z
UID:19404-1731024000-1731110399@www.cardunaldogtraining.com
SUMMARY:Cardunal Rally Trial
DESCRIPTION:
URL:https://www.cardunaldogtraining.com/event/cardunal-rally-trial-3/
LOCATION:CarDunAl Dog Training Club\, 10783 Wolf Dr.\, Huntley\, IL\, 60142\, United States
CATEGORIES:Trials
END:VEVENT
BEGIN:VEVENT
DTSTART;VALUE=DATE:20241109
DTEND;VALUE=DATE:20241110
DTSTAMP:20260422T221421
CREATED:20231019T024303Z
LAST-MODIFIED:20231019T024303Z
UID:19406-1731110400-1731196799@www.cardunaldogtraining.com
SUMMARY:Cardunal Obedience Trial
DESCRIPTION:
URL:https://www.cardunaldogtraining.com/event/cardunal-obedience-trial-5/
LOCATION:CarDunAl Dog Training Club\, 10783 Wolf Dr.\, Huntley\, IL\, 60142\, United States
CATEGORIES:Trials
END:VEVENT
BEGIN:VEVENT
DTSTART;VALUE=DATE:20241110
DTEND;VALUE=DATE:20241111
DTSTAMP:20260422T221421
CREATED:20231019T024453Z
LAST-MODIFIED:20231019T024453Z
UID:19408-1731196800-1731283199@www.cardunaldogtraining.com
SUMMARY:Cardunal Obedience Trial
DESCRIPTION:
URL:https://www.cardunaldogtraining.com/event/cardunal-obedience-trial-6/
LOCATION:CarDunAl Dog Training Club\, 10783 Wolf Dr.\, Huntley\, IL\, 60142\, United States
CATEGORIES:Trials
END:VEVENT
BEGIN:VEVENT
DTSTART;TZID=America/Chicago:20241111T090000
DTEND;TZID=America/Chicago:20241111T100000
DTSTAMP:20260422T221421
CREATED:20240909T014218Z
LAST-MODIFIED:20240909T014218Z
UID:24080-1731315600-1731319200@www.cardunaldogtraining.com
SUMMARY:Advanced Agility Level 6
DESCRIPTION:
URL:https://www.cardunaldogtraining.com/event/advanced-agility-level-6/2024-11-11/
LOCATION:CarDunAl Dog Training Club\, 10783 Wolf Dr.\, Huntley\, IL\, 60142\, United States
CATEGORIES:Agility
END:VEVENT
BEGIN:VEVENT
DTSTART;TZID=America/Chicago:20241111T170000
DTEND;TZID=America/Chicago:20241111T180000
DTSTAMP:20260422T221421
CREATED:20240909T013618Z
LAST-MODIFIED:20240909T013618Z
UID:24036-1731344400-1731348000@www.cardunaldogtraining.com
SUMMARY:Advanced Agility Level 4
DESCRIPTION:
URL:https://www.cardunaldogtraining.com/event/advanced-agility-level-4-9/2024-11-11/
LOCATION:CarDunAl Dog Training Club\, 10783 Wolf Dr.\, Huntley\, IL\, 60142\, United States
CATEGORIES:Agility
END:VEVENT
BEGIN:VEVENT
DTSTART;TZID=America/Chicago:20241111T180000
DTEND;TZID=America/Chicago:20241111T190000
DTSTAMP:20260422T221421
CREATED:20240909T011647Z
LAST-MODIFIED:20240909T011647Z
UID:23967-1731348000-1731351600@www.cardunaldogtraining.com
SUMMARY:Agility Foundation Class Level 0
DESCRIPTION:
URL:https://www.cardunaldogtraining.com/event/agility-foundation-class-level-0-4/2024-11-11/
LOCATION:CarDunAl Dog Training Club\, 10783 Wolf Dr.\, Huntley\, IL\, 60142\, United States
CATEGORIES:Agility
END:VEVENT
BEGIN:VEVENT
DTSTART;TZID=America/Chicago:20241111T180000
DTEND;TZID=America/Chicago:20241111T190000
DTSTAMP:20260422T221421
CREATED:20240909T013819Z
LAST-MODIFIED:20240909T013819Z
UID:24047-1731348000-1731351600@www.cardunaldogtraining.com
SUMMARY:Advanced Agility Level 4
DESCRIPTION:
URL:https://www.cardunaldogtraining.com/event/advanced-agility-level-4-10/2024-11-11/
LOCATION:CarDunAl Dog Training Club\, 10783 Wolf Dr.\, Huntley\, IL\, 60142\, United States
CATEGORIES:Agility
END:VEVENT
BEGIN:VEVENT
DTSTART;TZID=America/Chicago:20241111T190000
DTEND;TZID=America/Chicago:20241111T200000
DTSTAMP:20260422T221421
CREATED:20240909T012115Z
LAST-MODIFIED:20240909T012115Z
UID:23989-1731351600-1731355200@www.cardunaldogtraining.com
SUMMARY:Intermediate Agility Level 2
DESCRIPTION:
URL:https://www.cardunaldogtraining.com/event/intermediate-agility-level-2-5/2024-11-11/
LOCATION:CarDunAl Dog Training Club\, 10783 Wolf Dr.\, Huntley\, IL\, 60142\, United States
CATEGORIES:Agility
END:VEVENT
BEGIN:VEVENT
DTSTART;TZID=America/Chicago:20241111T190000
DTEND;TZID=America/Chicago:20241111T200000
DTSTAMP:20260422T221421
CREATED:20240909T013936Z
LAST-MODIFIED:20240909T013936Z
UID:24058-1731351600-1731355200@www.cardunaldogtraining.com
SUMMARY:Advanced Agility Level 5
DESCRIPTION:
URL:https://www.cardunaldogtraining.com/event/advanced-agility-level-5/2024-11-11/
LOCATION:CarDunAl Dog Training Club\, 10783 Wolf Dr.\, Huntley\, IL\, 60142\, United States
CATEGORIES:Agility
END:VEVENT
BEGIN:VEVENT
DTSTART;TZID=America/Chicago:20241111T200000
DTEND;TZID=America/Chicago:20241111T210000
DTSTAMP:20260422T221421
CREATED:20240909T011916Z
LAST-MODIFIED:20240909T011916Z
UID:23978-1731355200-1731358800@www.cardunaldogtraining.com
SUMMARY:Beginner Agility Level 1
DESCRIPTION:
URL:https://www.cardunaldogtraining.com/event/beginner-agility-level-1-5/2024-11-11/
LOCATION:CarDunAl Dog Training Club\, 10783 Wolf Dr.\, Huntley\, IL\, 60142\, United States
CATEGORIES:Agility
END:VEVENT
BEGIN:VEVENT
DTSTART;TZID=America/Chicago:20241111T200000
DTEND;TZID=America/Chicago:20241111T210000
DTSTAMP:20260422T221421
CREATED:20240909T014109Z
LAST-MODIFIED:20240909T014109Z
UID:24069-1731355200-1731358800@www.cardunaldogtraining.com
SUMMARY:Advanced Agility Level 5
DESCRIPTION:
URL:https://www.cardunaldogtraining.com/event/advanced-agility-level-5-2/2024-11-11/
LOCATION:CarDunAl Dog Training Club\, 10783 Wolf Dr.\, Huntley\, IL\, 60142\, United States
CATEGORIES:Agility
END:VEVENT
BEGIN:VEVENT
DTSTART;TZID=America/Chicago:20241112T090000
DTEND;TZID=America/Chicago:20241112T100000
DTSTAMP:20260422T221421
CREATED:20240909T022204Z
LAST-MODIFIED:20240909T022204Z
UID:24221-1731402000-1731405600@www.cardunaldogtraining.com
SUMMARY:Scent Work Level 3
DESCRIPTION:
URL:https://www.cardunaldogtraining.com/event/scent-work-level-3-7/2024-11-12/
LOCATION:CarDunAl Dog Training Club\, 10783 Wolf Dr.\, Huntley\, IL\, 60142\, United States
CATEGORIES:Scent Work
END:VEVENT
BEGIN:VEVENT
DTSTART;TZID=America/Chicago:20241112T100000
DTEND;TZID=America/Chicago:20241112T110000
DTSTAMP:20260422T221421
CREATED:20240909T021521Z
LAST-MODIFIED:20240909T021521Z
UID:24180-1731405600-1731409200@www.cardunaldogtraining.com
SUMMARY:Scent Work Level 3
DESCRIPTION:
URL:https://www.cardunaldogtraining.com/event/scent-work-level-3-5/2024-11-12/
LOCATION:CarDunAl Dog Training Club\, 10783 Wolf Dr.\, Huntley\, IL\, 60142\, United States
CATEGORIES:Scent Work
END:VEVENT
BEGIN:VEVENT
DTSTART;TZID=America/Chicago:20241112T110000
DTEND;TZID=America/Chicago:20241112T120000
DTSTAMP:20260422T221421
CREATED:20240909T021626Z
LAST-MODIFIED:20240909T021712Z
UID:24191-1731409200-1731412800@www.cardunaldogtraining.com
SUMMARY:Scent Work Level 3
DESCRIPTION:
URL:https://www.cardunaldogtraining.com/event/scent-work-level-3-6/2024-11-12/
LOCATION:CarDunAl Dog Training Club\, 10783 Wolf Dr.\, Huntley\, IL\, 60142\, United States
CATEGORIES:Scent Work
END:VEVENT
END:VCALENDAR