BEGIN:VCALENDAR
VERSION:2.0
PRODID:-//Car-Dun-Al Dog Obedience Training Club - ECPv6.15.17.1//NONSGML v1.0//EN
CALSCALE:GREGORIAN
METHOD:PUBLISH
X-ORIGINAL-URL:https://www.cardunaldogtraining.com
X-WR-CALDESC:Events for Car-Dun-Al Dog Obedience Training Club
REFRESH-INTERVAL;VALUE=DURATION:PT1H
X-Robots-Tag:noindex
X-PUBLISHED-TTL:PT1H
BEGIN:VTIMEZONE
TZID:America/Chicago
BEGIN:DAYLIGHT
TZOFFSETFROM:-0600
TZOFFSETTO:-0500
TZNAME:CDT
DTSTART:20230312T080000
END:DAYLIGHT
BEGIN:STANDARD
TZOFFSETFROM:-0500
TZOFFSETTO:-0600
TZNAME:CST
DTSTART:20231105T070000
END:STANDARD
BEGIN:DAYLIGHT
TZOFFSETFROM:-0600
TZOFFSETTO:-0500
TZNAME:CDT
DTSTART:20240310T080000
END:DAYLIGHT
BEGIN:STANDARD
TZOFFSETFROM:-0500
TZOFFSETTO:-0600
TZNAME:CST
DTSTART:20241103T070000
END:STANDARD
BEGIN:DAYLIGHT
TZOFFSETFROM:-0600
TZOFFSETTO:-0500
TZNAME:CDT
DTSTART:20250309T080000
END:DAYLIGHT
BEGIN:STANDARD
TZOFFSETFROM:-0500
TZOFFSETTO:-0600
TZNAME:CST
DTSTART:20251102T070000
END:STANDARD
END:VTIMEZONE
BEGIN:VEVENT
DTSTART;TZID=America/Chicago:20241017T200000
DTEND;TZID=America/Chicago:20241017T210000
DTSTAMP:20260422T200908
CREATED:20240904T020218Z
LAST-MODIFIED:20240904T020218Z
UID:23929-1729195200-1729198800@www.cardunaldogtraining.com
SUMMARY:Open Obedience
DESCRIPTION:
URL:https://www.cardunaldogtraining.com/event/open-obedience-17/2024-10-17/
LOCATION:CarDunAl Dog Training Club\, 10783 Wolf Dr.\, Huntley\, IL\, 60142\, United States
CATEGORIES:Advanced
END:VEVENT
BEGIN:VEVENT
DTSTART;TZID=America/Chicago:20241017T200000
DTEND;TZID=America/Chicago:20241017T210000
DTSTAMP:20260422T200908
CREATED:20240909T020708Z
LAST-MODIFIED:20240909T020708Z
UID:24131-1729195200-1729198800@www.cardunaldogtraining.com
SUMMARY:Utility Obedience
DESCRIPTION:
URL:https://www.cardunaldogtraining.com/event/utility-obedience-8/2024-10-17/
LOCATION:CarDunAl Dog Training Club\, 10783 Wolf Dr.\, Huntley\, IL\, 60142\, United States
CATEGORIES:Agility
END:VEVENT
BEGIN:VEVENT
DTSTART;TZID=America/Chicago:20241017T210000
DTEND;TZID=America/Chicago:20241017T220000
DTSTAMP:20260422T200908
CREATED:20240904T012156Z
LAST-MODIFIED:20240904T012156Z
UID:23800-1729198800-1729202400@www.cardunaldogtraining.com
SUMMARY:Open/Utility Obedience – No Instructor
DESCRIPTION:
URL:https://www.cardunaldogtraining.com/event/open-utility-obedience-no-instructor-14/2024-10-17/
LOCATION:CarDunAl Dog Training Club\, 10783 Wolf Dr.\, Huntley\, IL\, 60142\, United States
CATEGORIES:Advanced
END:VEVENT
BEGIN:VEVENT
DTSTART;VALUE=DATE:20241018
DTEND;VALUE=DATE:20241019
DTSTAMP:20260422T200908
CREATED:20231019T022856Z
LAST-MODIFIED:20231019T022856Z
UID:19391-1729209600-1729295999@www.cardunaldogtraining.com
SUMMARY:Keeshond Agility Trial
DESCRIPTION:
URL:https://www.cardunaldogtraining.com/event/keeshond-agility-trial-2/
LOCATION:CarDunAl Dog Training Club\, 10783 Wolf Dr.\, Huntley\, IL\, 60142\, United States
CATEGORIES:Trials
END:VEVENT
BEGIN:VEVENT
DTSTART;VALUE=DATE:20241019
DTEND;VALUE=DATE:20241020
DTSTAMP:20260422T200908
CREATED:20231019T022622Z
LAST-MODIFIED:20231019T022622Z
UID:19387-1729296000-1729382399@www.cardunaldogtraining.com
SUMMARY:Cardunal Agility Trial
DESCRIPTION:
URL:https://www.cardunaldogtraining.com/event/cardunal-agility-trial-7/
LOCATION:CarDunAl Dog Training Club\, 10783 Wolf Dr.\, Huntley\, IL\, 60142\, United States
CATEGORIES:Trials
END:VEVENT
BEGIN:VEVENT
DTSTART;VALUE=DATE:20241020
DTEND;VALUE=DATE:20241021
DTSTAMP:20260422T200908
CREATED:20231019T022722Z
LAST-MODIFIED:20231019T022722Z
UID:19389-1729382400-1729468799@www.cardunaldogtraining.com
SUMMARY:Cardunal Agility Trial
DESCRIPTION:
URL:https://www.cardunaldogtraining.com/event/cardunal-agility-trial-8/
LOCATION:CarDunAl Dog Training Club\, 10783 Wolf Dr.\, Huntley\, IL\, 60142\, United States
CATEGORIES:Trials
END:VEVENT
BEGIN:VEVENT
DTSTART;TZID=America/Chicago:20241021T090000
DTEND;TZID=America/Chicago:20241021T100000
DTSTAMP:20260422T200908
CREATED:20240909T014218Z
LAST-MODIFIED:20240909T014218Z
UID:24077-1729501200-1729504800@www.cardunaldogtraining.com
SUMMARY:Advanced Agility Level 6
DESCRIPTION:
URL:https://www.cardunaldogtraining.com/event/advanced-agility-level-6/2024-10-21/
LOCATION:CarDunAl Dog Training Club\, 10783 Wolf Dr.\, Huntley\, IL\, 60142\, United States
CATEGORIES:Agility
END:VEVENT
BEGIN:VEVENT
DTSTART;TZID=America/Chicago:20241021T170000
DTEND;TZID=America/Chicago:20241021T180000
DTSTAMP:20260422T200908
CREATED:20240909T013618Z
LAST-MODIFIED:20240909T013618Z
UID:24033-1729530000-1729533600@www.cardunaldogtraining.com
SUMMARY:Advanced Agility Level 4
DESCRIPTION:
URL:https://www.cardunaldogtraining.com/event/advanced-agility-level-4-9/2024-10-21/
LOCATION:CarDunAl Dog Training Club\, 10783 Wolf Dr.\, Huntley\, IL\, 60142\, United States
CATEGORIES:Agility
END:VEVENT
BEGIN:VEVENT
DTSTART;TZID=America/Chicago:20241021T180000
DTEND;TZID=America/Chicago:20241021T190000
DTSTAMP:20260422T200908
CREATED:20240909T011647Z
LAST-MODIFIED:20240909T011647Z
UID:23964-1729533600-1729537200@www.cardunaldogtraining.com
SUMMARY:Agility Foundation Class Level 0
DESCRIPTION:
URL:https://www.cardunaldogtraining.com/event/agility-foundation-class-level-0-4/2024-10-21/
LOCATION:CarDunAl Dog Training Club\, 10783 Wolf Dr.\, Huntley\, IL\, 60142\, United States
CATEGORIES:Agility
END:VEVENT
BEGIN:VEVENT
DTSTART;TZID=America/Chicago:20241021T180000
DTEND;TZID=America/Chicago:20241021T190000
DTSTAMP:20260422T200908
CREATED:20240909T013819Z
LAST-MODIFIED:20240909T013819Z
UID:24044-1729533600-1729537200@www.cardunaldogtraining.com
SUMMARY:Advanced Agility Level 4
DESCRIPTION:
URL:https://www.cardunaldogtraining.com/event/advanced-agility-level-4-10/2024-10-21/
LOCATION:CarDunAl Dog Training Club\, 10783 Wolf Dr.\, Huntley\, IL\, 60142\, United States
CATEGORIES:Agility
END:VEVENT
BEGIN:VEVENT
DTSTART;TZID=America/Chicago:20241021T190000
DTEND;TZID=America/Chicago:20241021T200000
DTSTAMP:20260422T200908
CREATED:20240909T012115Z
LAST-MODIFIED:20240909T012115Z
UID:23986-1729537200-1729540800@www.cardunaldogtraining.com
SUMMARY:Intermediate Agility Level 2
DESCRIPTION:
URL:https://www.cardunaldogtraining.com/event/intermediate-agility-level-2-5/2024-10-21/
LOCATION:CarDunAl Dog Training Club\, 10783 Wolf Dr.\, Huntley\, IL\, 60142\, United States
CATEGORIES:Agility
END:VEVENT
BEGIN:VEVENT
DTSTART;TZID=America/Chicago:20241021T190000
DTEND;TZID=America/Chicago:20241021T200000
DTSTAMP:20260422T200908
CREATED:20240909T013936Z
LAST-MODIFIED:20240909T013936Z
UID:24055-1729537200-1729540800@www.cardunaldogtraining.com
SUMMARY:Advanced Agility Level 5
DESCRIPTION:
URL:https://www.cardunaldogtraining.com/event/advanced-agility-level-5/2024-10-21/
LOCATION:CarDunAl Dog Training Club\, 10783 Wolf Dr.\, Huntley\, IL\, 60142\, United States
CATEGORIES:Agility
END:VEVENT
BEGIN:VEVENT
DTSTART;TZID=America/Chicago:20241021T200000
DTEND;TZID=America/Chicago:20241021T210000
DTSTAMP:20260422T200908
CREATED:20240909T011916Z
LAST-MODIFIED:20240909T011916Z
UID:23975-1729540800-1729544400@www.cardunaldogtraining.com
SUMMARY:Beginner Agility Level 1
DESCRIPTION:
URL:https://www.cardunaldogtraining.com/event/beginner-agility-level-1-5/2024-10-21/
LOCATION:CarDunAl Dog Training Club\, 10783 Wolf Dr.\, Huntley\, IL\, 60142\, United States
CATEGORIES:Agility
END:VEVENT
BEGIN:VEVENT
DTSTART;TZID=America/Chicago:20241021T200000
DTEND;TZID=America/Chicago:20241021T210000
DTSTAMP:20260422T200908
CREATED:20240909T014109Z
LAST-MODIFIED:20240909T014109Z
UID:24066-1729540800-1729544400@www.cardunaldogtraining.com
SUMMARY:Advanced Agility Level 5
DESCRIPTION:
URL:https://www.cardunaldogtraining.com/event/advanced-agility-level-5-2/2024-10-21/
LOCATION:CarDunAl Dog Training Club\, 10783 Wolf Dr.\, Huntley\, IL\, 60142\, United States
CATEGORIES:Agility
END:VEVENT
BEGIN:VEVENT
DTSTART;TZID=America/Chicago:20241022T090000
DTEND;TZID=America/Chicago:20241022T100000
DTSTAMP:20260422T200908
CREATED:20240909T022204Z
LAST-MODIFIED:20240909T022204Z
UID:24218-1729587600-1729591200@www.cardunaldogtraining.com
SUMMARY:Scent Work Level 3
DESCRIPTION:
URL:https://www.cardunaldogtraining.com/event/scent-work-level-3-7/2024-10-22/
LOCATION:CarDunAl Dog Training Club\, 10783 Wolf Dr.\, Huntley\, IL\, 60142\, United States
CATEGORIES:Scent Work
END:VEVENT
BEGIN:VEVENT
DTSTART;TZID=America/Chicago:20241022T100000
DTEND;TZID=America/Chicago:20241022T110000
DTSTAMP:20260422T200908
CREATED:20240909T021521Z
LAST-MODIFIED:20240909T021521Z
UID:24177-1729591200-1729594800@www.cardunaldogtraining.com
SUMMARY:Scent Work Level 3
DESCRIPTION:
URL:https://www.cardunaldogtraining.com/event/scent-work-level-3-5/2024-10-22/
LOCATION:CarDunAl Dog Training Club\, 10783 Wolf Dr.\, Huntley\, IL\, 60142\, United States
CATEGORIES:Scent Work
END:VEVENT
BEGIN:VEVENT
DTSTART;TZID=America/Chicago:20241022T110000
DTEND;TZID=America/Chicago:20241022T120000
DTSTAMP:20260422T200908
CREATED:20240909T021626Z
LAST-MODIFIED:20240909T021711Z
UID:24188-1729594800-1729598400@www.cardunaldogtraining.com
SUMMARY:Scent Work Level 3
DESCRIPTION:
URL:https://www.cardunaldogtraining.com/event/scent-work-level-3-6/2024-10-22/
LOCATION:CarDunAl Dog Training Club\, 10783 Wolf Dr.\, Huntley\, IL\, 60142\, United States
CATEGORIES:Scent Work
END:VEVENT
BEGIN:VEVENT
DTSTART;TZID=America/Chicago:20241022T123000
DTEND;TZID=America/Chicago:20241022T133000
DTSTAMP:20260422T200908
CREATED:20240909T021034Z
LAST-MODIFIED:20240909T022008Z
UID:24144-1729600200-1729603800@www.cardunaldogtraining.com
SUMMARY:Scent Work Level 1 (New Students)
DESCRIPTION:
URL:https://www.cardunaldogtraining.com/event/scent-work-level-1-5/2024-10-22/
LOCATION:CarDunAl Dog Training Club\, 10783 Wolf Dr.\, Huntley\, IL\, 60142\, United States
CATEGORIES:Scent Work
END:VEVENT
BEGIN:VEVENT
DTSTART;TZID=America/Chicago:20241022T140000
DTEND;TZID=America/Chicago:20241022T150000
DTSTAMP:20260422T200908
CREATED:20240909T021221Z
LAST-MODIFIED:20240909T021221Z
UID:24155-1729605600-1729609200@www.cardunaldogtraining.com
SUMMARY:Scent Work Level 2
DESCRIPTION:
URL:https://www.cardunaldogtraining.com/event/scent-work-level-2-4/2024-10-22/
LOCATION:CarDunAl Dog Training Club\, 10783 Wolf Dr.\, Huntley\, IL\, 60142\, United States
CATEGORIES:Scent Work
END:VEVENT
BEGIN:VEVENT
DTSTART;TZID=America/Chicago:20241022T151500
DTEND;TZID=America/Chicago:20241022T161500
DTSTAMP:20260422T200908
CREATED:20240909T021353Z
LAST-MODIFIED:20240909T021353Z
UID:24166-1729610100-1729613700@www.cardunaldogtraining.com
SUMMARY:Scent Work Level 2
DESCRIPTION:
URL:https://www.cardunaldogtraining.com/event/scent-work-level-2-5/2024-10-22/
LOCATION:CarDunAl Dog Training Club\, 10783 Wolf Dr.\, Huntley\, IL\, 60142\, United States
CATEGORIES:Scent Work
END:VEVENT
BEGIN:VEVENT
DTSTART;TZID=America/Chicago:20241022T180000
DTEND;TZID=America/Chicago:20241022T190000
DTSTAMP:20260422T200908
CREATED:20240904T010752Z
LAST-MODIFIED:20240909T013140Z
UID:23746-1729620000-1729623600@www.cardunaldogtraining.com
SUMMARY:Puppy Class Obedience
DESCRIPTION:
URL:https://www.cardunaldogtraining.com/event/puppy-class-obedience-8/2024-10-22/
LOCATION:CarDunAl Dog Training Club\, 10783 Wolf Dr.\, Huntley\, IL\, 60142\, United States
CATEGORIES:AKC Star Puppy / Pre-Beginners Class
END:VEVENT
BEGIN:VEVENT
DTSTART;TZID=America/Chicago:20241022T200000
DTEND;TZID=America/Chicago:20241022T210000
DTSTAMP:20260422T200908
CREATED:20240909T012639Z
LAST-MODIFIED:20240909T012814Z
UID:23997-1729627200-1729630800@www.cardunaldogtraining.com
SUMMARY:Intermediate Agility Level 3
DESCRIPTION:
URL:https://www.cardunaldogtraining.com/event/intermediate-agility-level-3-5/2024-10-22/
LOCATION:CarDunAl Dog Training Club\, 10783 Wolf Dr.\, Huntley\, IL\, 60142\, United States
CATEGORIES:Agility
END:VEVENT
BEGIN:VEVENT
DTSTART;TZID=America/Chicago:20241023T090000
DTEND;TZID=America/Chicago:20241023T100000
DTSTAMP:20260422T200908
CREATED:20240904T012423Z
LAST-MODIFIED:20240904T012423Z
UID:23812-1729674000-1729677600@www.cardunaldogtraining.com
SUMMARY:Open/Utility Obedience – No Instructor
DESCRIPTION:
URL:https://www.cardunaldogtraining.com/event/open-utility-obedience-no-instructor-15/2024-10-23/
LOCATION:CarDunAl Dog Training Club\, 10783 Wolf Dr.\, Huntley\, IL\, 60142\, United States
CATEGORIES:Advanced
END:VEVENT
BEGIN:VEVENT
DTSTART;TZID=America/Chicago:20241023T100000
DTEND;TZID=America/Chicago:20241023T110000
DTSTAMP:20260422T200908
CREATED:20240904T011307Z
LAST-MODIFIED:20240904T011307Z
UID:23768-1729677600-1729681200@www.cardunaldogtraining.com
SUMMARY:Novice Obedience
DESCRIPTION:
URL:https://www.cardunaldogtraining.com/event/novice-obedience-20/2024-10-23/
LOCATION:CarDunAl Dog Training Club\, 10783 Wolf Dr.\, Huntley\, IL\, 60142\, United States
CATEGORIES:Advanced
END:VEVENT
BEGIN:VEVENT
DTSTART;TZID=America/Chicago:20241023T100000
DTEND;TZID=America/Chicago:20241023T110000
DTSTAMP:20260422T200908
CREATED:20240904T020402Z
LAST-MODIFIED:20240904T020402Z
UID:23942-1729677600-1729681200@www.cardunaldogtraining.com
SUMMARY:Open Obedience
DESCRIPTION:
URL:https://www.cardunaldogtraining.com/event/open-obedience-18/2024-10-23/
LOCATION:CarDunAl Dog Training Club\, 10783 Wolf Dr.\, Huntley\, IL\, 60142\, United States
CATEGORIES:Advanced
END:VEVENT
BEGIN:VEVENT
DTSTART;TZID=America/Chicago:20241023T100000
DTEND;TZID=America/Chicago:20241023T120000
DTSTAMP:20260422T200908
CREATED:20231123T003335Z
LAST-MODIFIED:20240910T210702Z
UID:20104-1729677600-1729684800@www.cardunaldogtraining.com
SUMMARY:Drop In Obedience Training
DESCRIPTION:
URL:https://www.cardunaldogtraining.com/event/drop-in-obedience-training-3/2024-10-23/
LOCATION:CarDunAl Dog Training Club\, 10783 Wolf Dr.\, Huntley\, IL\, 60142\, United States
CATEGORIES:Drop In Training
END:VEVENT
BEGIN:VEVENT
DTSTART;TZID=America/Chicago:20241023T113000
DTEND;TZID=America/Chicago:20241023T123000
DTSTAMP:20260422T200908
CREATED:20240904T012837Z
LAST-MODIFIED:20240904T012837Z
UID:23823-1729683000-1729686600@www.cardunaldogtraining.com
SUMMARY:Beginner Obedience
DESCRIPTION:
URL:https://www.cardunaldogtraining.com/event/beginner-obedience-27/2024-10-23/
LOCATION:CarDunAl Dog Training Club\, 10783 Wolf Dr.\, Huntley\, IL\, 60142\, United States
CATEGORIES:Beginners
END:VEVENT
BEGIN:VEVENT
DTSTART;TZID=America/Chicago:20241023T120000
DTEND;TZID=America/Chicago:20241023T133000
DTSTAMP:20260422T200908
CREATED:20240918T222527Z
LAST-MODIFIED:20240918T222527Z
UID:24489-1729684800-1729690200@www.cardunaldogtraining.com
SUMMARY:Drop-in Rally
DESCRIPTION:
URL:https://www.cardunaldogtraining.com/event/drop-in-rally/2024-10-23/
LOCATION:CarDunAl Dog Training Club\, 10783 Wolf Dr.\, Huntley\, IL\, 60142\, United States
CATEGORIES:Drop In Training
END:VEVENT
BEGIN:VEVENT
DTSTART;TZID=America/Chicago:20241023T180000
DTEND;TZID=America/Chicago:20241023T184500
DTSTAMP:20260422T200908
CREATED:20240513T185654Z
LAST-MODIFIED:20240513T185654Z
UID:24590-1729706400-1729709100@www.cardunaldogtraining.com
SUMMARY:Novice Conformation Handling Drop-in Training
DESCRIPTION:This class is designed for novice handlers or handlers who need a little more guidance or for young dogs not quite ready for the regular conformation class
URL:https://www.cardunaldogtraining.com/event/puppy-socialization-conformation/2024-10-23/
LOCATION:CarDunAl Dog Training Club\, 10783 Wolf Dr.\, Huntley\, IL\, 60142\, United States
CATEGORIES:Drop In Training
END:VEVENT
BEGIN:VEVENT
DTSTART;TZID=America/Chicago:20241023T190000
DTEND;TZID=America/Chicago:20241023T200000
DTSTAMP:20260422T200908
CREATED:20240207T020143Z
LAST-MODIFIED:20240910T210833Z
UID:20919-1729710000-1729713600@www.cardunaldogtraining.com
SUMMARY:Drop In Conformation
DESCRIPTION:
URL:https://www.cardunaldogtraining.com/event/drop-in-conformation/2024-10-23/
LOCATION:CarDunAl Dog Training Club\, 10783 Wolf Dr.\, Huntley\, IL\, 60142\, United States
CATEGORIES:Drop In Training
END:VEVENT
END:VCALENDAR