BEGIN:VCALENDAR
VERSION:2.0
PRODID:-//Car-Dun-Al Dog Obedience Training Club - ECPv6.15.17.1//NONSGML v1.0//EN
CALSCALE:GREGORIAN
METHOD:PUBLISH
X-WR-CALNAME:Car-Dun-Al Dog Obedience Training Club
X-ORIGINAL-URL:https://www.cardunaldogtraining.com
X-WR-CALDESC:Events for Car-Dun-Al Dog Obedience Training Club
REFRESH-INTERVAL;VALUE=DURATION:PT1H
X-Robots-Tag:noindex
X-PUBLISHED-TTL:PT1H
BEGIN:VTIMEZONE
TZID:America/Chicago
BEGIN:DAYLIGHT
TZOFFSETFROM:-0600
TZOFFSETTO:-0500
TZNAME:CDT
DTSTART:20250309T080000
END:DAYLIGHT
BEGIN:STANDARD
TZOFFSETFROM:-0500
TZOFFSETTO:-0600
TZNAME:CST
DTSTART:20251102T070000
END:STANDARD
BEGIN:DAYLIGHT
TZOFFSETFROM:-0600
TZOFFSETTO:-0500
TZNAME:CDT
DTSTART:20260308T080000
END:DAYLIGHT
BEGIN:STANDARD
TZOFFSETFROM:-0500
TZOFFSETTO:-0600
TZNAME:CST
DTSTART:20261101T070000
END:STANDARD
BEGIN:DAYLIGHT
TZOFFSETFROM:-0600
TZOFFSETTO:-0500
TZNAME:CDT
DTSTART:20270314T080000
END:DAYLIGHT
BEGIN:STANDARD
TZOFFSETFROM:-0500
TZOFFSETTO:-0600
TZNAME:CST
DTSTART:20271107T070000
END:STANDARD
END:VTIMEZONE
BEGIN:VEVENT
DTSTART;TZID=America/Chicago:20260225T090000
DTEND;TZID=America/Chicago:20260225T100000
DTSTAMP:20260422T192234
CREATED:20251231T002901Z
LAST-MODIFIED:20251231T002901Z
UID:29090-1772010000-1772013600@www.cardunaldogtraining.com
SUMMARY:Open/Utility Obedience – No Instructor
DESCRIPTION:
URL:https://www.cardunaldogtraining.com/event/open-utility-obedience-no-instructor-24/2026-02-25/
LOCATION:CarDunAl Dog Training Club\, 10783 Wolf Dr.\, Huntley\, IL\, 60142\, United States
CATEGORIES:Advanced
END:VEVENT
BEGIN:VEVENT
DTSTART;TZID=America/Chicago:20260224T190000
DTEND;TZID=America/Chicago:20260224T200000
DTSTAMP:20260422T192234
CREATED:20251231T011408Z
LAST-MODIFIED:20251231T011408Z
UID:29219-1771959600-1771963200@www.cardunaldogtraining.com
SUMMARY:Novice Rally Class
DESCRIPTION:
URL:https://www.cardunaldogtraining.com/event/novice-rally-class/2026-02-24/
LOCATION:CarDunAl Dog Training Club\, 10783 Wolf Dr.\, Huntley\, IL\, 60142\, United States
CATEGORIES:Advanced
END:VEVENT
BEGIN:VEVENT
DTSTART;TZID=America/Chicago:20260224T190000
DTEND;TZID=America/Chicago:20260224T200000
DTSTAMP:20260422T192234
CREATED:20251231T002510Z
LAST-MODIFIED:20251231T002510Z
UID:29078-1771959600-1771963200@www.cardunaldogtraining.com
SUMMARY:Competition Agility Level 5
DESCRIPTION:
URL:https://www.cardunaldogtraining.com/event/competition-agility-level-5-14/2026-02-24/
LOCATION:CarDunAl Dog Training Club\, 10783 Wolf Dr.\, Huntley\, IL\, 60142\, United States
CATEGORIES:Agility
END:VEVENT
BEGIN:VEVENT
DTSTART;TZID=America/Chicago:20260224T180000
DTEND;TZID=America/Chicago:20260224T190000
DTSTAMP:20260422T192234
CREATED:20251230T011046Z
LAST-MODIFIED:20251230T011850Z
UID:28730-1771956000-1771959600@www.cardunaldogtraining.com
SUMMARY:Puppy Class Obedience
DESCRIPTION:
URL:https://www.cardunaldogtraining.com/event/puppy-class-obedience-17/2026-02-24/
LOCATION:CarDunAl Dog Training Club\, 10783 Wolf Dr.\, Huntley\, IL\, 60142\, United States
CATEGORIES:AKC Star Puppy / Pre-Beginners Class
END:VEVENT
BEGIN:VEVENT
DTSTART;TZID=America/Chicago:20260224T141500
DTEND;TZID=America/Chicago:20260224T151500
DTSTAMP:20260422T192234
CREATED:20251231T004300Z
LAST-MODIFIED:20251231T004300Z
UID:29156-1771942500-1771946100@www.cardunaldogtraining.com
SUMMARY:Scent Work Level 1
DESCRIPTION:
URL:https://www.cardunaldogtraining.com/event/scent-work-level-1-11/2026-02-24/
LOCATION:CarDunAl Dog Training Club\, 10783 Wolf Dr.\, Huntley\, IL\, 60142\, United States
CATEGORIES:Scent Work
END:VEVENT
BEGIN:VEVENT
DTSTART;TZID=America/Chicago:20260224T130000
DTEND;TZID=America/Chicago:20260224T140000
DTSTAMP:20260422T192234
CREATED:20251231T004141Z
LAST-MODIFIED:20251231T004141Z
UID:29145-1771938000-1771941600@www.cardunaldogtraining.com
SUMMARY:Scent Work Level 2
DESCRIPTION:
URL:https://www.cardunaldogtraining.com/event/scent-work-level-2-9/2026-02-24/
LOCATION:CarDunAl Dog Training Club\, 10783 Wolf Dr.\, Huntley\, IL\, 60142\, United States
CATEGORIES:Scent Work
END:VEVENT
BEGIN:VEVENT
DTSTART;TZID=America/Chicago:20260224T113000
DTEND;TZID=America/Chicago:20260224T123000
DTSTAMP:20260422T192234
CREATED:20251231T003954Z
LAST-MODIFIED:20251231T003954Z
UID:29134-1771932600-1771936200@www.cardunaldogtraining.com
SUMMARY:Scent Work Level 3
DESCRIPTION:
URL:https://www.cardunaldogtraining.com/event/scent-work-level-3-18/2026-02-24/
LOCATION:CarDunAl Dog Training Club\, 10783 Wolf Dr.\, Huntley\, IL\, 60142\, United States
CATEGORIES:Scent Work
END:VEVENT
BEGIN:VEVENT
DTSTART;TZID=America/Chicago:20260224T101500
DTEND;TZID=America/Chicago:20260224T111500
DTSTAMP:20260422T192234
CREATED:20251231T003847Z
LAST-MODIFIED:20251231T003847Z
UID:29123-1771928100-1771931700@www.cardunaldogtraining.com
SUMMARY:Scent Work Level 3
DESCRIPTION:
URL:https://www.cardunaldogtraining.com/event/scent-work-level-3-17/2026-02-24/
LOCATION:CarDunAl Dog Training Club\, 10783 Wolf Dr.\, Huntley\, IL\, 60142\, United States
CATEGORIES:Scent Work
END:VEVENT
BEGIN:VEVENT
DTSTART;TZID=America/Chicago:20260224T090000
DTEND;TZID=America/Chicago:20260224T100000
DTSTAMP:20260422T192234
CREATED:20251231T003732Z
LAST-MODIFIED:20251231T003732Z
UID:29112-1771923600-1771927200@www.cardunaldogtraining.com
SUMMARY:Scent Work Level 3
DESCRIPTION:
URL:https://www.cardunaldogtraining.com/event/scent-work-level-3-16/2026-02-24/
LOCATION:CarDunAl Dog Training Club\, 10783 Wolf Dr.\, Huntley\, IL\, 60142\, United States
CATEGORIES:Advanced,Scent Work
END:VEVENT
BEGIN:VEVENT
DTSTART;TZID=America/Chicago:20260223T200000
DTEND;TZID=America/Chicago:20260223T210000
DTSTAMP:20260422T192234
CREATED:20251231T002155Z
LAST-MODIFIED:20251231T002155Z
UID:29068-1771876800-1771880400@www.cardunaldogtraining.com
SUMMARY:Beginner Agility Level 1
DESCRIPTION:
URL:https://www.cardunaldogtraining.com/event/beginner-agility-level-1-10/2026-02-23/
LOCATION:CarDunAl Dog Training Club\, 10783 Wolf Dr.\, Huntley\, IL\, 60142\, United States
CATEGORIES:Agility
END:VEVENT
BEGIN:VEVENT
DTSTART;TZID=America/Chicago:20260223T200000
DTEND;TZID=America/Chicago:20260223T210000
DTSTAMP:20260422T192234
CREATED:20251231T002033Z
LAST-MODIFIED:20251231T002033Z
UID:29057-1771876800-1771880400@www.cardunaldogtraining.com
SUMMARY:Competition Agility Level 5
DESCRIPTION:
URL:https://www.cardunaldogtraining.com/event/competition-agility-level-5-13/2026-02-23/
LOCATION:CarDunAl Dog Training Club\, 10783 Wolf Dr.\, Huntley\, IL\, 60142\, United States
CATEGORIES:Agility
END:VEVENT
BEGIN:VEVENT
DTSTART;TZID=America/Chicago:20260223T190000
DTEND;TZID=America/Chicago:20260223T200000
DTSTAMP:20260422T192234
CREATED:20251231T001820Z
LAST-MODIFIED:20251231T001820Z
UID:29045-1771873200-1771876800@www.cardunaldogtraining.com
SUMMARY:Intermediate Agility Level 3
DESCRIPTION:
URL:https://www.cardunaldogtraining.com/event/intermediate-agility-level-3-8/2026-02-23/
LOCATION:CarDunAl Dog Training Club\, 10783 Wolf Dr.\, Huntley\, IL\, 60142\, United States
CATEGORIES:Agility
END:VEVENT
BEGIN:VEVENT
DTSTART;TZID=America/Chicago:20260223T190000
DTEND;TZID=America/Chicago:20260223T200000
DTSTAMP:20260422T192234
CREATED:20251231T001629Z
LAST-MODIFIED:20251231T001629Z
UID:29034-1771873200-1771876800@www.cardunaldogtraining.com
SUMMARY:Intermediate Agility Level 2
DESCRIPTION:
URL:https://www.cardunaldogtraining.com/event/intermediate-agility-level-2-10/2026-02-23/
LOCATION:CarDunAl Dog Training Club\, 10783 Wolf Dr.\, Huntley\, IL\, 60142\, United States
CATEGORIES:Agility
END:VEVENT
BEGIN:VEVENT
DTSTART;TZID=America/Chicago:20260223T180000
DTEND;TZID=America/Chicago:20260223T190000
DTSTAMP:20260422T192234
CREATED:20251231T001452Z
LAST-MODIFIED:20251231T001452Z
UID:29023-1771869600-1771873200@www.cardunaldogtraining.com
SUMMARY:Advanced Agility Level 4
DESCRIPTION:
URL:https://www.cardunaldogtraining.com/event/advanced-agility-level-4-20/2026-02-23/
LOCATION:CarDunAl Dog Training Club\, 10783 Wolf Dr.\, Huntley\, IL\, 60142\, United States
CATEGORIES:Agility
END:VEVENT
BEGIN:VEVENT
DTSTART;TZID=America/Chicago:20260223T180000
DTEND;TZID=America/Chicago:20260223T190000
DTSTAMP:20260422T192234
CREATED:20251231T001058Z
LAST-MODIFIED:20251231T001058Z
UID:28990-1771869600-1771873200@www.cardunaldogtraining.com
SUMMARY:Foundation Class Agility
DESCRIPTION:
URL:https://www.cardunaldogtraining.com/event/foundation-class-agility-5/2026-02-23/
LOCATION:CarDunAl Dog Training Club\, 10783 Wolf Dr.\, Huntley\, IL\, 60142\, United States
CATEGORIES:Agility
END:VEVENT
BEGIN:VEVENT
DTSTART;TZID=America/Chicago:20260223T170000
DTEND;TZID=America/Chicago:20260223T180000
DTSTAMP:20260422T192234
CREATED:20251231T001344Z
LAST-MODIFIED:20251231T001344Z
UID:29012-1771866000-1771869600@www.cardunaldogtraining.com
SUMMARY:Advanced Agility Level 4
DESCRIPTION:
URL:https://www.cardunaldogtraining.com/event/advanced-agility-level-4-19/2026-02-23/
LOCATION:CarDunAl Dog Training Club\, 10783 Wolf Dr.\, Huntley\, IL\, 60142\, United States
CATEGORIES:Agility
END:VEVENT
BEGIN:VEVENT
DTSTART;TZID=America/Chicago:20260223T090000
DTEND;TZID=America/Chicago:20260223T100000
DTSTAMP:20260422T192234
CREATED:20251231T001234Z
LAST-MODIFIED:20251231T001234Z
UID:29001-1771837200-1771840800@www.cardunaldogtraining.com
SUMMARY:Master Level 6 Agility
DESCRIPTION:
URL:https://www.cardunaldogtraining.com/event/master-level-6-agility-5/2026-02-23/
LOCATION:CarDunAl Dog Training Club\, 10783 Wolf Dr.\, Huntley\, IL\, 60142\, United States
CATEGORIES:Agility
END:VEVENT
BEGIN:VEVENT
DTSTART;TZID=America/Chicago:20260221T190000
DTEND;TZID=America/Chicago:20260221T210000
DTSTAMP:20260422T192234
CREATED:20251230T015613Z
LAST-MODIFIED:20251230T015613Z
UID:28899-1771700400-1771707600@www.cardunaldogtraining.com
SUMMARY:Members only Drop in Obedience
DESCRIPTION:
URL:https://www.cardunaldogtraining.com/event/members-only-drop-in-obedience-2/
LOCATION:CarDunAl Dog Training Club\, 10783 Wolf Dr.\, Huntley\, IL\, 60142\, United States
CATEGORIES:Drop In Training
END:VEVENT
BEGIN:VEVENT
DTSTART;TZID=America/Chicago:20260219T200000
DTEND;TZID=America/Chicago:20260219T210000
DTSTAMP:20260422T192234
CREATED:20251230T021553Z
LAST-MODIFIED:20251230T021553Z
UID:28930-1771531200-1771534800@www.cardunaldogtraining.com
SUMMARY:Pre-Open Obedience
DESCRIPTION:
URL:https://www.cardunaldogtraining.com/event/pre-open-obedience-19/2026-02-19/
LOCATION:CarDunAl Dog Training Club\, 10783 Wolf Dr.\, Huntley\, IL\, 60142\, United States
CATEGORIES:Advanced
END:VEVENT
BEGIN:VEVENT
DTSTART;TZID=America/Chicago:20260219T200000
DTEND;TZID=America/Chicago:20260219T210000
DTSTAMP:20260422T192234
CREATED:20251230T021414Z
LAST-MODIFIED:20251230T021414Z
UID:28919-1771531200-1771534800@www.cardunaldogtraining.com
SUMMARY:Open Obedience
DESCRIPTION:
URL:https://www.cardunaldogtraining.com/event/open-obedience-28/2026-02-19/
LOCATION:CarDunAl Dog Training Club\, 10783 Wolf Dr.\, Huntley\, IL\, 60142\, United States
CATEGORIES:Advanced
END:VEVENT
BEGIN:VEVENT
DTSTART;TZID=America/Chicago:20260219T190000
DTEND;TZID=America/Chicago:20260219T200000
DTSTAMP:20260422T192234
CREATED:20251230T022338Z
LAST-MODIFIED:20251230T022338Z
UID:28963-1771527600-1771531200@www.cardunaldogtraining.com
SUMMARY:Utility Obedience
DESCRIPTION:
URL:https://www.cardunaldogtraining.com/event/utility-obedience-18/2026-02-19/
LOCATION:CarDunAl Dog Training Club\, 10783 Wolf Dr.\, Huntley\, IL\, 60142\, United States
CATEGORIES:Advanced
END:VEVENT
BEGIN:VEVENT
DTSTART;TZID=America/Chicago:20260219T190000
DTEND;TZID=America/Chicago:20260219T200000
DTSTAMP:20260422T192234
CREATED:20251230T014138Z
LAST-MODIFIED:20251230T014138Z
UID:28891-1771527600-1771531200@www.cardunaldogtraining.com
SUMMARY:Beginner Novice Obedience
DESCRIPTION:
URL:https://www.cardunaldogtraining.com/event/beginner-novice-obedience-20/2026-02-19/
LOCATION:CarDunAl Dog Training Club\, 10783 Wolf Dr.\, Huntley\, IL\, 60142\, United States
CATEGORIES:Advanced
END:VEVENT
BEGIN:VEVENT
DTSTART;TZID=America/Chicago:20260219T190000
DTEND;TZID=America/Chicago:20260219T200000
DTSTAMP:20260422T192234
CREATED:20251230T013822Z
LAST-MODIFIED:20251230T013822Z
UID:28881-1771527600-1771531200@www.cardunaldogtraining.com
SUMMARY:Beginner Obedience
DESCRIPTION:
URL:https://www.cardunaldogtraining.com/event/beginner-obedience-48/2026-02-19/
LOCATION:CarDunAl Dog Training Club\, 10783 Wolf Dr.\, Huntley\, IL\, 60142\, United States
CATEGORIES:Beginners
END:VEVENT
BEGIN:VEVENT
DTSTART;TZID=America/Chicago:20260219T190000
DTEND;TZID=America/Chicago:20260219T200000
DTSTAMP:20260422T192234
CREATED:20251230T012842Z
LAST-MODIFIED:20251230T012842Z
UID:28829-1771527600-1771531200@www.cardunaldogtraining.com
SUMMARY:Novice Obedience
DESCRIPTION:
URL:https://www.cardunaldogtraining.com/event/novice-obedience-34/2026-02-19/
LOCATION:CarDunAl Dog Training Club\, 10783 Wolf Dr.\, Huntley\, IL\, 60142\, United States
CATEGORIES:Advanced
END:VEVENT
BEGIN:VEVENT
DTSTART;TZID=America/Chicago:20260219T180000
DTEND;TZID=America/Chicago:20260219T190000
DTSTAMP:20260422T192234
CREATED:20251230T022234Z
LAST-MODIFIED:20251230T022234Z
UID:28952-1771524000-1771527600@www.cardunaldogtraining.com
SUMMARY:Utility Obedience
DESCRIPTION:
URL:https://www.cardunaldogtraining.com/event/utility-obedience-17/2026-02-19/
LOCATION:CarDunAl Dog Training Club\, 10783 Wolf Dr.\, Huntley\, IL\, 60142\, United States
CATEGORIES:Advanced
END:VEVENT
BEGIN:VEVENT
DTSTART;TZID=America/Chicago:20260219T173000
DTEND;TZID=America/Chicago:20260219T184500
DTSTAMP:20260422T192234
CREATED:20251231T011214Z
LAST-MODIFIED:20251231T021646Z
UID:29206-1771522200-1771526700@www.cardunaldogtraining.com
SUMMARY:Rally Drop-In Class
DESCRIPTION:
URL:https://www.cardunaldogtraining.com/event/rally-drop-in-class-3/2026-02-19/
LOCATION:CarDunAl Dog Training Club\, 10783 Wolf Dr.\, Huntley\, IL\, 60142\, United States
CATEGORIES:Drop In Training
END:VEVENT
BEGIN:VEVENT
DTSTART;TZID=America/Chicago:20260219T173000
DTEND;TZID=America/Chicago:20260219T183000
DTSTAMP:20260422T192234
CREATED:20251231T003107Z
LAST-MODIFIED:20251231T003107Z
UID:29099-1771522200-1771525800@www.cardunaldogtraining.com
SUMMARY:Open/Utility Obedience – No Instructor
DESCRIPTION:
URL:https://www.cardunaldogtraining.com/event/open-utility-obedience-no-instructor-25/2026-02-19/
LOCATION:CarDunAl Dog Training Club\, 10783 Wolf Dr.\, Huntley\, IL\, 60142\, United States
CATEGORIES:Advanced
END:VEVENT
BEGIN:VEVENT
DTSTART;TZID=America/Chicago:20260219T133000
DTEND;TZID=America/Chicago:20260219T143000
DTSTAMP:20260422T192234
CREATED:20251230T013631Z
LAST-MODIFIED:20251230T013631Z
UID:28861-1771507800-1771511400@www.cardunaldogtraining.com
SUMMARY:Beginner Obedience
DESCRIPTION:
URL:https://www.cardunaldogtraining.com/event/beginner-obedience-47/2026-02-19/
LOCATION:CarDunAl Dog Training Club\, 10783 Wolf Dr.\, Huntley\, IL\, 60142\, United States
CATEGORIES:Beginners
END:VEVENT
BEGIN:VEVENT
DTSTART;TZID=America/Chicago:20260219T120000
DTEND;TZID=America/Chicago:20260219T130000
DTSTAMP:20260422T192234
CREATED:20251230T021809Z
LAST-MODIFIED:20251230T021809Z
UID:28942-1771502400-1771506000@www.cardunaldogtraining.com
SUMMARY:Pre-Open Obedience
DESCRIPTION:
URL:https://www.cardunaldogtraining.com/event/pre-open-obedience-20/2026-02-19/
LOCATION:CarDunAl Dog Training Club\, 10783 Wolf Dr.\, Huntley\, IL\, 60142\, United States
CATEGORIES:Advanced
END:VEVENT
BEGIN:VEVENT
DTSTART;TZID=America/Chicago:20260218T190000
DTEND;TZID=America/Chicago:20260218T200000
DTSTAMP:20260422T192234
CREATED:20251231T012254Z
LAST-MODIFIED:20251231T012254Z
UID:29279-1771441200-1771444800@www.cardunaldogtraining.com
SUMMARY:Conformation Drop-In Training
DESCRIPTION:
URL:https://www.cardunaldogtraining.com/event/conformation-drop-in-training-2/2026-02-18/
LOCATION:CarDunAl Dog Training Club\, 10783 Wolf Dr.\, Huntley\, IL\, 60142\, United States
CATEGORIES:Drop In Training
END:VEVENT
END:VCALENDAR