BEGIN:VCALENDAR
VERSION:2.0
PRODID:-//Car-Dun-Al Dog Obedience Training Club - ECPv6.15.17.1//NONSGML v1.0//EN
CALSCALE:GREGORIAN
METHOD:PUBLISH
X-WR-CALNAME:Car-Dun-Al Dog Obedience Training Club
X-ORIGINAL-URL:https://www.cardunaldogtraining.com
X-WR-CALDESC:Events for Car-Dun-Al Dog Obedience Training Club
REFRESH-INTERVAL;VALUE=DURATION:PT1H
X-Robots-Tag:noindex
X-PUBLISHED-TTL:PT1H
BEGIN:VTIMEZONE
TZID:America/Chicago
BEGIN:DAYLIGHT
TZOFFSETFROM:-0600
TZOFFSETTO:-0500
TZNAME:CDT
DTSTART:20230312T080000
END:DAYLIGHT
BEGIN:STANDARD
TZOFFSETFROM:-0500
TZOFFSETTO:-0600
TZNAME:CST
DTSTART:20231105T070000
END:STANDARD
BEGIN:DAYLIGHT
TZOFFSETFROM:-0600
TZOFFSETTO:-0500
TZNAME:CDT
DTSTART:20240310T080000
END:DAYLIGHT
BEGIN:STANDARD
TZOFFSETFROM:-0500
TZOFFSETTO:-0600
TZNAME:CST
DTSTART:20241103T070000
END:STANDARD
BEGIN:DAYLIGHT
TZOFFSETFROM:-0600
TZOFFSETTO:-0500
TZNAME:CDT
DTSTART:20250309T080000
END:DAYLIGHT
BEGIN:STANDARD
TZOFFSETFROM:-0500
TZOFFSETTO:-0600
TZNAME:CST
DTSTART:20251102T070000
END:STANDARD
END:VTIMEZONE
BEGIN:VEVENT
DTSTART;TZID=America/Chicago:20240729T200000
DTEND;TZID=America/Chicago:20240729T210000
DTSTAMP:20260421T193111
CREATED:20240529T013951Z
LAST-MODIFIED:20240701T163209Z
UID:22749-1722283200-1722286800@www.cardunaldogtraining.com
SUMMARY:Competition Agility Level 5
DESCRIPTION:
URL:https://www.cardunaldogtraining.com/event/competition-agility-level-5-9/2024-07-29/
LOCATION:CarDunAl Dog Training Club\, 10783 Wolf Dr.\, Huntley\, IL\, 60142\, United States
CATEGORIES:Agility
END:VEVENT
BEGIN:VEVENT
DTSTART;TZID=America/Chicago:20240729T200000
DTEND;TZID=America/Chicago:20240729T210000
DTSTAMP:20260421T193111
CREATED:20240529T013427Z
LAST-MODIFIED:20240701T163549Z
UID:22694-1722283200-1722286800@www.cardunaldogtraining.com
SUMMARY:Beginner Agility Level 1
DESCRIPTION:
URL:https://www.cardunaldogtraining.com/event/beginner-agility-level-1-4/2024-07-29/
LOCATION:CarDunAl Dog Training Club\, 10783 Wolf Dr.\, Huntley\, IL\, 60142\, United States
CATEGORIES:Agility
END:VEVENT
BEGIN:VEVENT
DTSTART;TZID=America/Chicago:20240729T190000
DTEND;TZID=America/Chicago:20240729T200000
DTSTAMP:20260421T193111
CREATED:20240529T013912Z
LAST-MODIFIED:20240701T163321Z
UID:22738-1722279600-1722283200@www.cardunaldogtraining.com
SUMMARY:Competition Agility Level 5
DESCRIPTION:
URL:https://www.cardunaldogtraining.com/event/competition-agility-level-5-8/2024-07-29/
LOCATION:CarDunAl Dog Training Club\, 10783 Wolf Dr.\, Huntley\, IL\, 60142\, United States
CATEGORIES:Agility
END:VEVENT
BEGIN:VEVENT
DTSTART;TZID=America/Chicago:20240729T190000
DTEND;TZID=America/Chicago:20240729T200000
DTSTAMP:20260421T193111
CREATED:20240529T013755Z
LAST-MODIFIED:20240701T163441Z
UID:22727-1722279600-1722283200@www.cardunaldogtraining.com
SUMMARY:Intermediate Agility Level 2
DESCRIPTION:
URL:https://www.cardunaldogtraining.com/event/intermediate-agility-level-2-4/2024-07-29/
LOCATION:CarDunAl Dog Training Club\, 10783 Wolf Dr.\, Huntley\, IL\, 60142\, United States
CATEGORIES:Agility
END:VEVENT
BEGIN:VEVENT
DTSTART;TZID=America/Chicago:20240729T180000
DTEND;TZID=America/Chicago:20240729T190000
DTSTAMP:20260421T193111
CREATED:20240529T013641Z
LAST-MODIFIED:20240701T162456Z
UID:22716-1722276000-1722279600@www.cardunaldogtraining.com
SUMMARY:Advanced Agility Level 4
DESCRIPTION:
URL:https://www.cardunaldogtraining.com/event/advanced-agility-level-4-8/2024-07-29/
LOCATION:CarDunAl Dog Training Club\, 10783 Wolf Dr.\, Huntley\, IL\, 60142\, United States
CATEGORIES:Agility
END:VEVENT
BEGIN:VEVENT
DTSTART;TZID=America/Chicago:20240729T180000
DTEND;TZID=America/Chicago:20240729T190000
DTSTAMP:20260421T193111
CREATED:20240529T013213Z
LAST-MODIFIED:20240701T163725Z
UID:22683-1722276000-1722279600@www.cardunaldogtraining.com
SUMMARY:Agility Foundation Class Level 0
DESCRIPTION:
URL:https://www.cardunaldogtraining.com/event/agility-foundation-class-level-0-3/2024-07-29/
LOCATION:CarDunAl Dog Training Club\, 10783 Wolf Dr.\, Huntley\, IL\, 60142\, United States
CATEGORIES:Agility
END:VEVENT
BEGIN:VEVENT
DTSTART;TZID=America/Chicago:20240729T170000
DTEND;TZID=America/Chicago:20240729T180000
DTSTAMP:20260421T193111
CREATED:20240529T013551Z
LAST-MODIFIED:20240701T162617Z
UID:22705-1722272400-1722276000@www.cardunaldogtraining.com
SUMMARY:Advanced Agility Level 4
DESCRIPTION:
URL:https://www.cardunaldogtraining.com/event/advanced-agility-level-4-7/2024-07-29/
LOCATION:CarDunAl Dog Training Club\, 10783 Wolf Dr.\, Huntley\, IL\, 60142\, United States
CATEGORIES:Agility
END:VEVENT
BEGIN:VEVENT
DTSTART;TZID=America/Chicago:20240729T090000
DTEND;TZID=America/Chicago:20240729T103000
DTSTAMP:20260421T193111
CREATED:20240529T014046Z
LAST-MODIFIED:20240701T162332Z
UID:22760-1722243600-1722249000@www.cardunaldogtraining.com
SUMMARY:Master Agility Level 6
DESCRIPTION:
URL:https://www.cardunaldogtraining.com/event/master-agility-level-6-2/2024-07-29/
LOCATION:CarDunAl Dog Training Club\, 10783 Wolf Dr.\, Huntley\, IL\, 60142\, United States
CATEGORIES:Agility
END:VEVENT
BEGIN:VEVENT
DTSTART;TZID=America/Chicago:20240725T210000
DTEND;TZID=America/Chicago:20240725T220000
DTSTAMP:20260421T193111
CREATED:20240529T022348Z
LAST-MODIFIED:20240529T022348Z
UID:22880-1721941200-1721944800@www.cardunaldogtraining.com
SUMMARY:Open/Utility Obedience – No Instructor
DESCRIPTION:
URL:https://www.cardunaldogtraining.com/event/open-utility-obedience-no-instructor-12/2024-07-25/
LOCATION:CarDunAl Dog Training Club\, 10783 Wolf Dr.\, Huntley\, IL\, 60142\, United States
CATEGORIES:Advanced
END:VEVENT
BEGIN:VEVENT
DTSTART;TZID=America/Chicago:20240725T200000
DTEND;TZID=America/Chicago:20240725T210000
DTSTAMP:20260421T193111
CREATED:20240524T004337Z
LAST-MODIFIED:20240529T021145Z
UID:22374-1721937600-1721941200@www.cardunaldogtraining.com
SUMMARY:Utility Obedience
DESCRIPTION:
URL:https://www.cardunaldogtraining.com/event/utility-obedience-6/2024-07-25/
LOCATION:CarDunAl Dog Training Club\, 10783 Wolf Dr.\, Huntley\, IL\, 60142\, United States
CATEGORIES:Advanced
END:VEVENT
BEGIN:VEVENT
DTSTART;TZID=America/Chicago:20240725T200000
DTEND;TZID=America/Chicago:20240725T210000
DTSTAMP:20260421T193111
CREATED:20240524T003938Z
LAST-MODIFIED:20240529T021552Z
UID:22349-1721937600-1721941200@www.cardunaldogtraining.com
SUMMARY:Open Obedience
DESCRIPTION:
URL:https://www.cardunaldogtraining.com/event/open-obedience-16/2024-07-25/
LOCATION:CarDunAl Dog Training Club\, 10783 Wolf Dr.\, Huntley\, IL\, 60142\, United States
CATEGORIES:Advanced
END:VEVENT
BEGIN:VEVENT
DTSTART;TZID=America/Chicago:20240725T200000
DTEND;TZID=America/Chicago:20240725T210000
DTSTAMP:20260421T193111
CREATED:20240524T003806Z
LAST-MODIFIED:20240524T012419Z
UID:22337-1721937600-1721941200@www.cardunaldogtraining.com
SUMMARY:Pre-Open Obedience
DESCRIPTION:
URL:https://www.cardunaldogtraining.com/event/pre-open-obedience-13/2024-07-25/
LOCATION:CarDunAl Dog Training Club\, 10783 Wolf Dr.\, Huntley\, IL\, 60142\, United States
CATEGORIES:Advanced
END:VEVENT
BEGIN:VEVENT
DTSTART;TZID=America/Chicago:20240725T200000
DTEND;TZID=America/Chicago:20240725T210000
DTSTAMP:20260421T193111
CREATED:20240522T021034Z
LAST-MODIFIED:20240524T010515Z
UID:22260-1721937600-1721941200@www.cardunaldogtraining.com
SUMMARY:Beginner Obedience
DESCRIPTION:
URL:https://www.cardunaldogtraining.com/event/beginner-obedience-28/2024-07-25/
LOCATION:CarDunAl Dog Training Club\, 10783 Wolf Dr.\, Huntley\, IL\, 60142\, United States
CATEGORIES:Beginners
END:VEVENT
BEGIN:VEVENT
DTSTART;TZID=America/Chicago:20240725T190000
DTEND;TZID=America/Chicago:20240725T200000
DTSTAMP:20260421T193111
CREATED:20240524T004202Z
LAST-MODIFIED:20240529T021332Z
UID:22361-1721934000-1721937600@www.cardunaldogtraining.com
SUMMARY:Utility Obedience
DESCRIPTION:
URL:https://www.cardunaldogtraining.com/event/utility-obedience-5/2024-07-25/
LOCATION:CarDunAl Dog Training Club\, 10783 Wolf Dr.\, Huntley\, IL\, 60142\, United States
CATEGORIES:Advanced
END:VEVENT
BEGIN:VEVENT
DTSTART;TZID=America/Chicago:20240725T190000
DTEND;TZID=America/Chicago:20240725T200000
DTSTAMP:20260421T193111
CREATED:20240524T003315Z
LAST-MODIFIED:20240524T011347Z
UID:22314-1721934000-1721937600@www.cardunaldogtraining.com
SUMMARY:Novice Obedience
DESCRIPTION:
URL:https://www.cardunaldogtraining.com/event/novice-obedience-19/2024-07-25/
LOCATION:CarDunAl Dog Training Club\, 10783 Wolf Dr.\, Huntley\, IL\, 60142\, United States
CATEGORIES:Advanced
END:VEVENT
BEGIN:VEVENT
DTSTART;TZID=America/Chicago:20240725T190000
DTEND;TZID=America/Chicago:20240725T200000
DTSTAMP:20260421T193111
CREATED:20240522T021521Z
LAST-MODIFIED:20240524T011547Z
UID:22284-1721934000-1721937600@www.cardunaldogtraining.com
SUMMARY:Beginner Novice Obedience
DESCRIPTION:
URL:https://www.cardunaldogtraining.com/event/beginner-novice-obedience-10/2024-07-25/
LOCATION:CarDunAl Dog Training Club\, 10783 Wolf Dr.\, Huntley\, IL\, 60142\, United States
CATEGORIES:Advanced
END:VEVENT
BEGIN:VEVENT
DTSTART;TZID=America/Chicago:20240725T180000
DTEND;TZID=America/Chicago:20240725T190000
DTSTAMP:20260421T193111
CREATED:20240529T022232Z
LAST-MODIFIED:20240529T022232Z
UID:22869-1721930400-1721934000@www.cardunaldogtraining.com
SUMMARY:Open/Utility Obedience – No Instructor
DESCRIPTION:
URL:https://www.cardunaldogtraining.com/event/open-utility-obedience-no-instructor-11/2024-07-25/
LOCATION:CarDunAl Dog Training Club\, 10783 Wolf Dr.\, Huntley\, IL\, 60142\, United States
CATEGORIES:Advanced
END:VEVENT
BEGIN:VEVENT
DTSTART;TZID=America/Chicago:20240725T180000
DTEND;TZID=America/Chicago:20240725T190000
DTSTAMP:20260421T193111
CREATED:20240522T021357Z
LAST-MODIFIED:20240524T011844Z
UID:22272-1721930400-1721934000@www.cardunaldogtraining.com
SUMMARY:Beginner Novice Obedience
DESCRIPTION:
URL:https://www.cardunaldogtraining.com/event/beginner-novice-obedience-9/2024-07-25/
LOCATION:CarDunAl Dog Training Club\, 10783 Wolf Dr.\, Huntley\, IL\, 60142\, United States
CATEGORIES:Advanced
END:VEVENT
BEGIN:VEVENT
DTSTART;TZID=America/Chicago:20240725T173000
DTEND;TZID=America/Chicago:20240725T190000
DTSTAMP:20260421T193111
CREATED:20231123T003905Z
LAST-MODIFIED:20240906T232101Z
UID:20141-1721928600-1721934000@www.cardunaldogtraining.com
SUMMARY:Drop In Rally Training
DESCRIPTION:
URL:https://www.cardunaldogtraining.com/event/drop-in-rally-training-2/2024-07-25/
LOCATION:CarDunAl Dog Training Club\, 10783 Wolf Dr.\, Huntley\, IL\, 60142\, United States
END:VEVENT
BEGIN:VEVENT
DTSTART;TZID=America/Chicago:20240725T113000
DTEND;TZID=America/Chicago:20240725T123000
DTSTAMP:20260421T193111
CREATED:20240524T014332Z
LAST-MODIFIED:20240524T014332Z
UID:22500-1721907000-1721910600@www.cardunaldogtraining.com
SUMMARY:Beginner Obedience
DESCRIPTION:
URL:https://www.cardunaldogtraining.com/event/beginner-obedience-26/2024-07-25/
LOCATION:CarDunAl Dog Training Club\, 10783 Wolf Dr.\, Huntley\, IL\, 60142\, United States
CATEGORIES:Beginners
END:VEVENT
BEGIN:VEVENT
DTSTART;TZID=America/Chicago:20240724T190000
DTEND;TZID=America/Chicago:20240724T200000
DTSTAMP:20260421T193111
CREATED:20240207T020143Z
LAST-MODIFIED:20240910T210829Z
UID:20907-1721847600-1721851200@www.cardunaldogtraining.com
SUMMARY:Drop In Conformation
DESCRIPTION:
URL:https://www.cardunaldogtraining.com/event/drop-in-conformation/2024-07-24/
LOCATION:CarDunAl Dog Training Club\, 10783 Wolf Dr.\, Huntley\, IL\, 60142\, United States
CATEGORIES:Drop In Training
END:VEVENT
BEGIN:VEVENT
DTSTART;TZID=America/Chicago:20240724T180000
DTEND;TZID=America/Chicago:20240724T184500
DTSTAMP:20260421T193111
CREATED:20240513T185654Z
LAST-MODIFIED:20240513T185654Z
UID:24579-1721844000-1721846700@www.cardunaldogtraining.com
SUMMARY:Novice Conformation Handling Drop-in Training
DESCRIPTION:This class is designed for novice handlers or handlers who need a little more guidance or for young dogs not quite ready for the regular conformation class
URL:https://www.cardunaldogtraining.com/event/puppy-socialization-conformation/2024-07-24/
LOCATION:CarDunAl Dog Training Club\, 10783 Wolf Dr.\, Huntley\, IL\, 60142\, United States
CATEGORIES:Drop In Training
END:VEVENT
BEGIN:VEVENT
DTSTART;TZID=America/Chicago:20240724T113000
DTEND;TZID=America/Chicago:20240724T123000
DTSTAMP:20260421T193111
CREATED:20240522T020414Z
LAST-MODIFIED:20240701T180853Z
UID:22227-1721820600-1721824200@www.cardunaldogtraining.com
SUMMARY:Beginner Obedience
DESCRIPTION:
URL:https://www.cardunaldogtraining.com/event/beginner-obedience-25/2024-07-24/
LOCATION:CarDunAl Dog Training Club\, 10783 Wolf Dr.\, Huntley\, IL\, 60142\, United States
CATEGORIES:Beginners
END:VEVENT
BEGIN:VEVENT
DTSTART;TZID=America/Chicago:20240724T100000
DTEND;TZID=America/Chicago:20240724T120000
DTSTAMP:20260421T193111
CREATED:20231123T003335Z
LAST-MODIFIED:20240910T210700Z
UID:20091-1721815200-1721822400@www.cardunaldogtraining.com
SUMMARY:Drop In Obedience Training
DESCRIPTION:
URL:https://www.cardunaldogtraining.com/event/drop-in-obedience-training-3/2024-07-24/
LOCATION:CarDunAl Dog Training Club\, 10783 Wolf Dr.\, Huntley\, IL\, 60142\, United States
CATEGORIES:Drop In Training
END:VEVENT
BEGIN:VEVENT
DTSTART;TZID=America/Chicago:20240724T100000
DTEND;TZID=America/Chicago:20240724T110000
DTSTAMP:20260421T193111
CREATED:20240524T003512Z
LAST-MODIFIED:20240701T180614Z
UID:22326-1721815200-1721818800@www.cardunaldogtraining.com
SUMMARY:Open Obedience
DESCRIPTION:
URL:https://www.cardunaldogtraining.com/event/open-obedience-15/2024-07-24/
LOCATION:CarDunAl Dog Training Club\, 10783 Wolf Dr.\, Huntley\, IL\, 60142\, United States
CATEGORIES:Advanced
END:VEVENT
BEGIN:VEVENT
DTSTART;TZID=America/Chicago:20240724T100000
DTEND;TZID=America/Chicago:20240724T110000
DTSTAMP:20260421T193111
CREATED:20240524T003006Z
LAST-MODIFIED:20240701T175055Z
UID:22833-1721815200-1721818800@www.cardunaldogtraining.com
SUMMARY:Novice Obedience
DESCRIPTION:
URL:https://www.cardunaldogtraining.com/event/novice-obedience-18/2024-07-24/
LOCATION:CarDunAl Dog Training Club\, 10783 Wolf Dr.\, Huntley\, IL\, 60142\, United States
CATEGORIES:Advanced
END:VEVENT
BEGIN:VEVENT
DTSTART;TZID=America/Chicago:20240724T090000
DTEND;TZID=America/Chicago:20240724T100000
DTSTAMP:20260421T193111
CREATED:20240524T005018Z
LAST-MODIFIED:20240701T174937Z
UID:22386-1721811600-1721815200@www.cardunaldogtraining.com
SUMMARY:Open Utility Obedience No Instruction
DESCRIPTION:
URL:https://www.cardunaldogtraining.com/event/open-utility-obedience-no-instruction-4/2024-07-24/
LOCATION:CarDunAl Dog Training Club\, 10783 Wolf Dr.\, Huntley\, IL\, 60142\, United States
CATEGORIES:Advanced
END:VEVENT
BEGIN:VEVENT
DTSTART;TZID=America/Chicago:20240723T190000
DTEND;TZID=America/Chicago:20240723T200000
DTSTAMP:20260421T193111
CREATED:20240529T015137Z
LAST-MODIFIED:20240801T232834Z
UID:22790-1721761200-1721764800@www.cardunaldogtraining.com
SUMMARY:Intermediate Agility Level 3
DESCRIPTION:
URL:https://www.cardunaldogtraining.com/event/intermediate-agility-level-3-4/2024-07-23/
LOCATION:CarDunAl Dog Training Club\, 10783 Wolf Dr.\, Huntley\, IL\, 60142\, United States
CATEGORIES:Agility
END:VEVENT
BEGIN:VEVENT
DTSTART;TZID=America/Chicago:20240723T180000
DTEND;TZID=America/Chicago:20240723T190000
DTSTAMP:20260421T193111
CREATED:20240522T020122Z
LAST-MODIFIED:20240701T164915Z
UID:22217-1721757600-1721761200@www.cardunaldogtraining.com
SUMMARY:Puppy Class Obedience
DESCRIPTION:
URL:https://www.cardunaldogtraining.com/event/puppy-class-obedience-7/2024-07-23/
LOCATION:CarDunAl Dog Training Club\, 10783 Wolf Dr.\, Huntley\, IL\, 60142\, United States
CATEGORIES:AKC Star Puppy / Pre-Beginners Class
END:VEVENT
BEGIN:VEVENT
DTSTART;TZID=America/Chicago:20240723T151500
DTEND;TZID=America/Chicago:20240723T161500
DTSTAMP:20260421T193111
CREATED:20240529T020140Z
LAST-MODIFIED:20240701T164552Z
UID:22823-1721747700-1721751300@www.cardunaldogtraining.com
SUMMARY:Scent Work Level 2
DESCRIPTION:
URL:https://www.cardunaldogtraining.com/event/scent-work-level-2-3/2024-07-23/
LOCATION:CarDunAl Dog Training Club\, 10783 Wolf Dr.\, Huntley\, IL\, 60142\, United States
CATEGORIES:Scent Work
END:VEVENT
END:VCALENDAR