BEGIN:VCALENDAR
VERSION:2.0
PRODID:-//Car-Dun-Al Dog Obedience Training Club - ECPv6.15.17.1//NONSGML v1.0//EN
CALSCALE:GREGORIAN
METHOD:PUBLISH
X-WR-CALNAME:Car-Dun-Al Dog Obedience Training Club
X-ORIGINAL-URL:https://www.cardunaldogtraining.com
X-WR-CALDESC:Events for Car-Dun-Al Dog Obedience Training Club
REFRESH-INTERVAL;VALUE=DURATION:PT1H
X-Robots-Tag:noindex
X-PUBLISHED-TTL:PT1H
BEGIN:VTIMEZONE
TZID:America/Chicago
BEGIN:DAYLIGHT
TZOFFSETFROM:-0600
TZOFFSETTO:-0500
TZNAME:CDT
DTSTART:20230312T080000
END:DAYLIGHT
BEGIN:STANDARD
TZOFFSETFROM:-0500
TZOFFSETTO:-0600
TZNAME:CST
DTSTART:20231105T070000
END:STANDARD
BEGIN:DAYLIGHT
TZOFFSETFROM:-0600
TZOFFSETTO:-0500
TZNAME:CDT
DTSTART:20240310T080000
END:DAYLIGHT
BEGIN:STANDARD
TZOFFSETFROM:-0500
TZOFFSETTO:-0600
TZNAME:CST
DTSTART:20241103T070000
END:STANDARD
BEGIN:DAYLIGHT
TZOFFSETFROM:-0600
TZOFFSETTO:-0500
TZNAME:CDT
DTSTART:20250309T080000
END:DAYLIGHT
BEGIN:STANDARD
TZOFFSETFROM:-0500
TZOFFSETTO:-0600
TZNAME:CST
DTSTART:20251102T070000
END:STANDARD
END:VTIMEZONE
BEGIN:VEVENT
DTSTART;TZID=America/Chicago:20240422T180000
DTEND;TZID=America/Chicago:20240422T190000
DTSTAMP:20260421T121010
CREATED:20240307T023523Z
LAST-MODIFIED:20240307T023523Z
UID:21675-1713808800-1713812400@www.cardunaldogtraining.com
SUMMARY:Advanced Agility Level 4
DESCRIPTION:
URL:https://www.cardunaldogtraining.com/event/advanced-agility-level-4-6/2024-04-22/
LOCATION:CarDunAl Dog Training Club\, 10783 Wolf Dr.\, Huntley\, IL\, 60142\, United States
CATEGORIES:Agility
END:VEVENT
BEGIN:VEVENT
DTSTART;TZID=America/Chicago:20240422T190000
DTEND;TZID=America/Chicago:20240422T200000
DTSTAMP:20260421T121010
CREATED:20240307T022845Z
LAST-MODIFIED:20240307T022845Z
UID:21628-1713812400-1713816000@www.cardunaldogtraining.com
SUMMARY:Intermediate Agility Level 2
DESCRIPTION:
URL:https://www.cardunaldogtraining.com/event/intermediate-agility-level-2-3/2024-04-22/
LOCATION:CarDunAl Dog Training Club\, 10783 Wolf Dr.\, Huntley\, IL\, 60142\, United States
CATEGORIES:Agility
END:VEVENT
BEGIN:VEVENT
DTSTART;TZID=America/Chicago:20240422T190000
DTEND;TZID=America/Chicago:20240422T200000
DTSTAMP:20260421T121010
CREATED:20240307T023827Z
LAST-MODIFIED:20240307T023827Z
UID:21686-1713812400-1713816000@www.cardunaldogtraining.com
SUMMARY:Competition Agility Level 5
DESCRIPTION:
URL:https://www.cardunaldogtraining.com/event/competition-agility-level-5-6/2024-04-22/
LOCATION:CarDunAl Dog Training Club\, 10783 Wolf Dr.\, Huntley\, IL\, 60142\, United States
CATEGORIES:Agility
END:VEVENT
BEGIN:VEVENT
DTSTART;TZID=America/Chicago:20240422T200000
DTEND;TZID=America/Chicago:20240422T210000
DTSTAMP:20260421T121010
CREATED:20240307T022706Z
LAST-MODIFIED:20240307T022706Z
UID:21616-1713816000-1713819600@www.cardunaldogtraining.com
SUMMARY:Beginner Agility Level 1
DESCRIPTION:
URL:https://www.cardunaldogtraining.com/event/beginner-agility-level-1-3/2024-04-22/
LOCATION:CarDunAl Dog Training Club\, 10783 Wolf Dr.\, Huntley\, IL\, 60142\, United States
CATEGORIES:Agility
END:VEVENT
BEGIN:VEVENT
DTSTART;TZID=America/Chicago:20240422T200000
DTEND;TZID=America/Chicago:20240422T210000
DTSTAMP:20260421T121010
CREATED:20240307T024026Z
LAST-MODIFIED:20240307T024026Z
UID:21698-1713816000-1713819600@www.cardunaldogtraining.com
SUMMARY:Competition Agility Level 5
DESCRIPTION:
URL:https://www.cardunaldogtraining.com/event/competition-agility-level-5-7/2024-04-22/
LOCATION:CarDunAl Dog Training Club\, 10783 Wolf Dr.\, Huntley\, IL\, 60142\, United States
CATEGORIES:Agility
END:VEVENT
BEGIN:VEVENT
DTSTART;TZID=America/Chicago:20240423T083000
DTEND;TZID=America/Chicago:20240423T093000
DTSTAMP:20260421T121010
CREATED:20240307T030051Z
LAST-MODIFIED:20240307T030051Z
UID:21775-1713861000-1713864600@www.cardunaldogtraining.com
SUMMARY:Scent Work Level 3
DESCRIPTION:
URL:https://www.cardunaldogtraining.com/event/scent-work-level-3-2/2024-04-23/
LOCATION:CarDunAl Dog Training Club\, 10783 Wolf Dr.\, Huntley\, IL\, 60142\, United States
CATEGORIES:Scent Work
END:VEVENT
BEGIN:VEVENT
DTSTART;TZID=America/Chicago:20240423T094500
DTEND;TZID=America/Chicago:20240423T104500
DTSTAMP:20260421T121010
CREATED:20240307T030330Z
LAST-MODIFIED:20240307T030330Z
UID:21786-1713865500-1713869100@www.cardunaldogtraining.com
SUMMARY:Scent Work Level 3
DESCRIPTION:
URL:https://www.cardunaldogtraining.com/event/scent-work-level-3-3/2024-04-23/
LOCATION:CarDunAl Dog Training Club\, 10783 Wolf Dr.\, Huntley\, IL\, 60142\, United States
CATEGORIES:Scent Work
END:VEVENT
BEGIN:VEVENT
DTSTART;TZID=America/Chicago:20240423T110000
DTEND;TZID=America/Chicago:20240423T120000
DTSTAMP:20260421T121010
CREATED:20240307T030534Z
LAST-MODIFIED:20240307T030534Z
UID:21797-1713870000-1713873600@www.cardunaldogtraining.com
SUMMARY:Scent Work Level 3
DESCRIPTION:
URL:https://www.cardunaldogtraining.com/event/scent-work-level-3-4/2024-04-23/
LOCATION:CarDunAl Dog Training Club\, 10783 Wolf Dr.\, Huntley\, IL\, 60142\, United States
CATEGORIES:Scent Work
END:VEVENT
BEGIN:VEVENT
DTSTART;TZID=America/Chicago:20240423T123000
DTEND;TZID=America/Chicago:20240423T133000
DTSTAMP:20260421T121010
CREATED:20240307T025353Z
LAST-MODIFIED:20240307T025353Z
UID:21742-1713875400-1713879000@www.cardunaldogtraining.com
SUMMARY:Scent Work Level 1
DESCRIPTION:
URL:https://www.cardunaldogtraining.com/event/scent-work-level-1/2024-04-23/
LOCATION:CarDunAl Dog Training Club\, 10783 Wolf Dr.\, Huntley\, IL\, 60142\, United States
CATEGORIES:Scent Work
END:VEVENT
BEGIN:VEVENT
DTSTART;TZID=America/Chicago:20240423T134500
DTEND;TZID=America/Chicago:20240423T144500
DTSTAMP:20260421T121010
CREATED:20240307T025637Z
LAST-MODIFIED:20240307T025637Z
UID:21753-1713879900-1713883500@www.cardunaldogtraining.com
SUMMARY:Scent Work Level 1
DESCRIPTION:
URL:https://www.cardunaldogtraining.com/event/scent-work-level-1-2/2024-04-23/
LOCATION:CarDunAl Dog Training Club\, 10783 Wolf Dr.\, Huntley\, IL\, 60142\, United States
CATEGORIES:Scent Work
END:VEVENT
BEGIN:VEVENT
DTSTART;TZID=America/Chicago:20240423T151500
DTEND;TZID=America/Chicago:20240423T161500
DTSTAMP:20260421T121010
CREATED:20240307T025908Z
LAST-MODIFIED:20240307T025908Z
UID:21764-1713885300-1713888900@www.cardunaldogtraining.com
SUMMARY:Scent Work Level 2
DESCRIPTION:
URL:https://www.cardunaldogtraining.com/event/scent-work-level-2-2/2024-04-23/
LOCATION:CarDunAl Dog Training Club\, 10783 Wolf Dr.\, Huntley\, IL\, 60142\, United States
CATEGORIES:Scent Work
END:VEVENT
BEGIN:VEVENT
DTSTART;TZID=America/Chicago:20240423T180000
DTEND;TZID=America/Chicago:20240423T190000
DTSTAMP:20260421T121010
CREATED:20240307T004158Z
LAST-MODIFIED:20240307T004158Z
UID:21391-1713895200-1713898800@www.cardunaldogtraining.com
SUMMARY:Puppy Class Obedience
DESCRIPTION:
URL:https://www.cardunaldogtraining.com/event/puppy-class-obedience-5/2024-04-23/
LOCATION:CarDunAl Dog Training Club\, 10783 Wolf Dr.\, Huntley\, IL\, 60142\, United States
CATEGORIES:AKC Star Puppy / Pre-Beginners Class
END:VEVENT
BEGIN:VEVENT
DTSTART;TZID=America/Chicago:20240423T200000
DTEND;TZID=America/Chicago:20240423T210000
DTSTAMP:20260421T121010
CREATED:20240307T023156Z
LAST-MODIFIED:20240307T023156Z
UID:21640-1713902400-1713906000@www.cardunaldogtraining.com
SUMMARY:Intermediate Agility Level 3
DESCRIPTION:
URL:https://www.cardunaldogtraining.com/event/intermediate-agility-level-3-3/2024-04-23/
LOCATION:CarDunAl Dog Training Club\, 10783 Wolf Dr.\, Huntley\, IL\, 60142\, United States
CATEGORIES:Agility
END:VEVENT
BEGIN:VEVENT
DTSTART;TZID=America/Chicago:20240424T090000
DTEND;TZID=America/Chicago:20240424T100000
DTSTAMP:20260421T121010
CREATED:20240307T005011Z
LAST-MODIFIED:20240307T005011Z
UID:21450-1713949200-1713952800@www.cardunaldogtraining.com
SUMMARY:Open/Utility Obedience - No Instructor
DESCRIPTION:
URL:https://www.cardunaldogtraining.com/event/open-utility-obedience-no-instructor-9/2024-04-24/
LOCATION:CarDunAl Dog Training Club\, 10783 Wolf Dr.\, Huntley\, IL\, 60142\, United States
CATEGORIES:Advanced
END:VEVENT
BEGIN:VEVENT
DTSTART;TZID=America/Chicago:20240424T100000
DTEND;TZID=America/Chicago:20240424T110000
DTSTAMP:20260421T121010
CREATED:20240307T004511Z
LAST-MODIFIED:20240307T004613Z
UID:21415-1713952800-1713956400@www.cardunaldogtraining.com
SUMMARY:Novice Obedience
DESCRIPTION:
URL:https://www.cardunaldogtraining.com/event/novice-wednesday-1000-am/2024-04-24/
LOCATION:CarDunAl Dog Training Club\, 10783 Wolf Dr.\, Huntley\, IL\, 60142\, United States
CATEGORIES:Advanced
END:VEVENT
BEGIN:VEVENT
DTSTART;TZID=America/Chicago:20240424T100000
DTEND;TZID=America/Chicago:20240424T110000
DTSTAMP:20260421T121010
CREATED:20240307T010949Z
LAST-MODIFIED:20240307T010949Z
UID:21537-1713952800-1713956400@www.cardunaldogtraining.com
SUMMARY:Open Obedience
DESCRIPTION:
URL:https://www.cardunaldogtraining.com/event/open-obedience-13/2024-04-24/
LOCATION:CarDunAl Dog Training Club\, 10783 Wolf Dr.\, Huntley\, IL\, 60142\, United States
CATEGORIES:Advanced
END:VEVENT
BEGIN:VEVENT
DTSTART;TZID=America/Chicago:20240424T100000
DTEND;TZID=America/Chicago:20240424T120000
DTSTAMP:20260421T121010
CREATED:20231123T003335Z
LAST-MODIFIED:20240910T210658Z
UID:20079-1713952800-1713960000@www.cardunaldogtraining.com
SUMMARY:Drop In Obedience Training
DESCRIPTION:
URL:https://www.cardunaldogtraining.com/event/drop-in-obedience-training-3/2024-04-24/
LOCATION:CarDunAl Dog Training Club\, 10783 Wolf Dr.\, Huntley\, IL\, 60142\, United States
CATEGORIES:Drop In Training
END:VEVENT
BEGIN:VEVENT
DTSTART;TZID=America/Chicago:20240424T113000
DTEND;TZID=America/Chicago:20240424T123000
DTSTAMP:20260421T121010
CREATED:20240307T005557Z
LAST-MODIFIED:20240307T005557Z
UID:21494-1713958200-1713961800@www.cardunaldogtraining.com
SUMMARY:Beginner Obedience
DESCRIPTION:
URL:https://www.cardunaldogtraining.com/event/beginner-obedience-21/2024-04-24/
LOCATION:CarDunAl Dog Training Club\, 10783 Wolf Dr.\, Huntley\, IL\, 60142\, United States
CATEGORIES:Advanced
END:VEVENT
BEGIN:VEVENT
DTSTART;TZID=America/Chicago:20240424T120000
DTEND;TZID=America/Chicago:20240424T130000
DTSTAMP:20260421T121010
CREATED:20231123T004216Z
LAST-MODIFIED:20240701T181622Z
UID:20178-1713960000-1713963600@www.cardunaldogtraining.com
SUMMARY:Drop In Rally Training
DESCRIPTION:
URL:https://www.cardunaldogtraining.com/event/rally-drop-in-training/2024-04-24/
LOCATION:CarDunAl Dog Training Club\, 10783 Wolf Dr.\, Huntley\, IL\, 60142\, United States
CATEGORIES:Drop In Training
END:VEVENT
BEGIN:VEVENT
DTSTART;TZID=America/Chicago:20240424T190000
DTEND;TZID=America/Chicago:20240424T200000
DTSTAMP:20260421T121010
CREATED:20240207T020143Z
LAST-MODIFIED:20240910T210827Z
UID:20893-1713985200-1713988800@www.cardunaldogtraining.com
SUMMARY:Drop In Conformation
DESCRIPTION:
URL:https://www.cardunaldogtraining.com/event/drop-in-conformation/2024-04-24/
LOCATION:CarDunAl Dog Training Club\, 10783 Wolf Dr.\, Huntley\, IL\, 60142\, United States
CATEGORIES:Drop In Training
END:VEVENT
BEGIN:VEVENT
DTSTART;TZID=America/Chicago:20240425T103000
DTEND;TZID=America/Chicago:20240425T113000
DTSTAMP:20260421T121010
CREATED:20240307T004312Z
LAST-MODIFIED:20240307T004312Z
UID:21403-1714041000-1714044600@www.cardunaldogtraining.com
SUMMARY:Puppy Class Obedience
DESCRIPTION:
URL:https://www.cardunaldogtraining.com/event/puppy-class-obedience-6/2024-04-25/
LOCATION:CarDunAl Dog Training Club\, 10783 Wolf Dr.\, Huntley\, IL\, 60142\, United States
CATEGORIES:AKC Star Puppy / Pre-Beginners Class
END:VEVENT
BEGIN:VEVENT
DTSTART;TZID=America/Chicago:20240425T120000
DTEND;TZID=America/Chicago:20240425T130000
DTSTAMP:20260421T121010
CREATED:20240307T005833Z
LAST-MODIFIED:20240307T010514Z
UID:21506-1714046400-1714050000@www.cardunaldogtraining.com
SUMMARY:Beginner Obedience
DESCRIPTION:
URL:https://www.cardunaldogtraining.com/event/beginner-obedience-22/2024-04-25/
LOCATION:CarDunAl Dog Training Club\, 10783 Wolf Dr.\, Huntley\, IL\, 60142\, United States
CATEGORIES:Advanced
END:VEVENT
BEGIN:VEVENT
DTSTART;TZID=America/Chicago:20240425T173000
DTEND;TZID=America/Chicago:20240425T190000
DTSTAMP:20260421T121010
CREATED:20231123T003905Z
LAST-MODIFIED:20240906T232100Z
UID:20130-1714066200-1714071600@www.cardunaldogtraining.com
SUMMARY:Drop In Rally Training
DESCRIPTION:
URL:https://www.cardunaldogtraining.com/event/drop-in-rally-training-2/2024-04-25/
LOCATION:CarDunAl Dog Training Club\, 10783 Wolf Dr.\, Huntley\, IL\, 60142\, United States
END:VEVENT
BEGIN:VEVENT
DTSTART;TZID=America/Chicago:20240425T180000
DTEND;TZID=America/Chicago:20240425T190000
DTSTAMP:20260421T121010
CREATED:20240307T005128Z
LAST-MODIFIED:20240307T005203Z
UID:21461-1714068000-1714071600@www.cardunaldogtraining.com
SUMMARY:Open/Utility Obedience - No Instructor
DESCRIPTION:
URL:https://www.cardunaldogtraining.com/event/open-utility-no-instructor-5/2024-04-25/
LOCATION:CarDunAl Dog Training Club\, 10783 Wolf Dr.\, Huntley\, IL\, 60142\, United States
CATEGORIES:Advanced
END:VEVENT
BEGIN:VEVENT
DTSTART;TZID=America/Chicago:20240425T180000
DTEND;TZID=America/Chicago:20240425T190000
DTSTAMP:20260421T121010
CREATED:20240307T021617Z
LAST-MODIFIED:20240307T021617Z
UID:21570-1714068000-1714071600@www.cardunaldogtraining.com
SUMMARY:Beginner Novice Obedience
DESCRIPTION:
URL:https://www.cardunaldogtraining.com/event/beginner-novice-obedience-7/2024-04-25/
LOCATION:CarDunAl Dog Training Club\, 10783 Wolf Dr.\, Huntley\, IL\, 60142\, United States
CATEGORIES:Advanced
END:VEVENT
BEGIN:VEVENT
DTSTART;TZID=America/Chicago:20240425T183000
DTEND;TZID=America/Chicago:20240425T193000
DTSTAMP:20260421T121010
CREATED:20240307T010622Z
LAST-MODIFIED:20240307T010622Z
UID:21525-1714069800-1714073400@www.cardunaldogtraining.com
SUMMARY:Beginner Obedience
DESCRIPTION:
URL:https://www.cardunaldogtraining.com/event/beginner-obedience-23/2024-04-25/
LOCATION:CarDunAl Dog Training Club\, 10783 Wolf Dr.\, Huntley\, IL\, 60142\, United States
CATEGORIES:Advanced
END:VEVENT
BEGIN:VEVENT
DTSTART;TZID=America/Chicago:20240425T190000
DTEND;TZID=America/Chicago:20240425T200000
DTSTAMP:20260421T121010
CREATED:20240307T004758Z
LAST-MODIFIED:20240307T004758Z
UID:21438-1714071600-1714075200@www.cardunaldogtraining.com
SUMMARY:Novice Obedience
DESCRIPTION:
URL:https://www.cardunaldogtraining.com/event/novice-obedience-17/2024-04-25/
LOCATION:CarDunAl Dog Training Club\, 10783 Wolf Dr.\, Huntley\, IL\, 60142\, United States
CATEGORIES:Advanced
END:VEVENT
BEGIN:VEVENT
DTSTART;TZID=America/Chicago:20240425T190000
DTEND;TZID=America/Chicago:20240425T200000
DTSTAMP:20260421T121010
CREATED:20240307T021812Z
LAST-MODIFIED:20240307T021812Z
UID:21581-1714071600-1714075200@www.cardunaldogtraining.com
SUMMARY:Beginner Novice Obedience
DESCRIPTION:
URL:https://www.cardunaldogtraining.com/event/beginner-novice-obedience-8/2024-04-25/
LOCATION:CarDunAl Dog Training Club\, 10783 Wolf Dr.\, Huntley\, IL\, 60142\, United States
CATEGORIES:Advanced
END:VEVENT
BEGIN:VEVENT
DTSTART;TZID=America/Chicago:20240425T190000
DTEND;TZID=America/Chicago:20240425T200000
DTSTAMP:20260421T121010
CREATED:20240307T024635Z
LAST-MODIFIED:20240307T024635Z
UID:21721-1714071600-1714075200@www.cardunaldogtraining.com
SUMMARY:Mid-Utility Obedience
DESCRIPTION:
URL:https://www.cardunaldogtraining.com/event/mid-utility-obedience-7/2024-04-25/
LOCATION:CarDunAl Dog Training Club\, 10783 Wolf Dr.\, Huntley\, IL\, 60142\, United States
CATEGORIES:Advanced
END:VEVENT
BEGIN:VEVENT
DTSTART;TZID=America/Chicago:20240425T200000
DTEND;TZID=America/Chicago:20240425T210000
DTSTAMP:20260421T121010
CREATED:20240307T011100Z
LAST-MODIFIED:20240307T011100Z
UID:21548-1714075200-1714078800@www.cardunaldogtraining.com
SUMMARY:Open Obedience
DESCRIPTION:
URL:https://www.cardunaldogtraining.com/event/open-obedience-14/2024-04-25/
LOCATION:CarDunAl Dog Training Club\, 10783 Wolf Dr.\, Huntley\, IL\, 60142\, United States
CATEGORIES:Advanced
END:VEVENT
END:VCALENDAR