BEGIN:VCALENDAR
VERSION:2.0
PRODID:-//Car-Dun-Al Dog Obedience Training Club - ECPv6.15.17.1//NONSGML v1.0//EN
CALSCALE:GREGORIAN
METHOD:PUBLISH
X-WR-CALNAME:Car-Dun-Al Dog Obedience Training Club
X-ORIGINAL-URL:https://www.cardunaldogtraining.com
X-WR-CALDESC:Events for Car-Dun-Al Dog Obedience Training Club
REFRESH-INTERVAL;VALUE=DURATION:PT1H
X-Robots-Tag:noindex
X-PUBLISHED-TTL:PT1H
BEGIN:VTIMEZONE
TZID:America/Chicago
BEGIN:DAYLIGHT
TZOFFSETFROM:-0600
TZOFFSETTO:-0500
TZNAME:CDT
DTSTART:20230312T080000
END:DAYLIGHT
BEGIN:STANDARD
TZOFFSETFROM:-0500
TZOFFSETTO:-0600
TZNAME:CST
DTSTART:20231105T070000
END:STANDARD
BEGIN:DAYLIGHT
TZOFFSETFROM:-0600
TZOFFSETTO:-0500
TZNAME:CDT
DTSTART:20240310T080000
END:DAYLIGHT
BEGIN:STANDARD
TZOFFSETFROM:-0500
TZOFFSETTO:-0600
TZNAME:CST
DTSTART:20241103T070000
END:STANDARD
BEGIN:DAYLIGHT
TZOFFSETFROM:-0600
TZOFFSETTO:-0500
TZNAME:CDT
DTSTART:20250309T080000
END:DAYLIGHT
BEGIN:STANDARD
TZOFFSETFROM:-0500
TZOFFSETTO:-0600
TZNAME:CST
DTSTART:20251102T070000
END:STANDARD
END:VTIMEZONE
BEGIN:VEVENT
DTSTART;TZID=America/Chicago:20240926T180000
DTEND;TZID=America/Chicago:20240926T190000
DTSTAMP:20260422T194304
CREATED:20240909T015026Z
LAST-MODIFIED:20240909T015026Z
UID:24084-1727373600-1727377200@www.cardunaldogtraining.com
SUMMARY:Beginner Novice Obedience
DESCRIPTION:
URL:https://www.cardunaldogtraining.com/event/beginner-novice-obedience-11/2024-09-26/
LOCATION:CarDunAl Dog Training Club\, 10783 Wolf Dr.\, Huntley\, IL\, 60142\, United States
CATEGORIES:Agility
END:VEVENT
BEGIN:VEVENT
DTSTART;TZID=America/Chicago:20240926T180000
DTEND;TZID=America/Chicago:20240926T190000
DTSTAMP:20260422T194304
CREATED:20240909T020348Z
LAST-MODIFIED:20240909T020348Z
UID:24106-1727373600-1727377200@www.cardunaldogtraining.com
SUMMARY:Pre-Utility Obedience
DESCRIPTION:
URL:https://www.cardunaldogtraining.com/event/pre-utility-obedience-3/2024-09-26/
LOCATION:CarDunAl Dog Training Club\, 10783 Wolf Dr.\, Huntley\, IL\, 60142\, United States
CATEGORIES:Agility
END:VEVENT
BEGIN:VEVENT
DTSTART;TZID=America/Chicago:20240926T184500
DTEND;TZID=America/Chicago:20240926T194500
DTSTAMP:20260422T194304
CREATED:20240904T013146Z
LAST-MODIFIED:20240904T013615Z
UID:23845-1727376300-1727379900@www.cardunaldogtraining.com
SUMMARY:Beginner Obedience
DESCRIPTION:
URL:https://www.cardunaldogtraining.com/event/beginner-obedience-30/2024-09-26/
LOCATION:CarDunAl Dog Training Club\, 10783 Wolf Dr.\, Huntley\, IL\, 60142\, United States
CATEGORIES:Beginners
END:VEVENT
BEGIN:VEVENT
DTSTART;TZID=America/Chicago:20240926T190000
DTEND;TZID=America/Chicago:20240926T200000
DTSTAMP:20260422T194304
CREATED:20240904T011513Z
LAST-MODIFIED:20240904T011513Z
UID:23775-1727377200-1727380800@www.cardunaldogtraining.com
SUMMARY:Novice Obedience
DESCRIPTION:
URL:https://www.cardunaldogtraining.com/event/novice-obedience-21/2024-09-26/
LOCATION:CarDunAl Dog Training Club\, 10783 Wolf Dr.\, Huntley\, IL\, 60142\, United States
CATEGORIES:Advanced
END:VEVENT
BEGIN:VEVENT
DTSTART;TZID=America/Chicago:20240926T190000
DTEND;TZID=America/Chicago:20240926T200000
DTSTAMP:20260422T194304
CREATED:20240909T015151Z
LAST-MODIFIED:20240909T015151Z
UID:24095-1727377200-1727380800@www.cardunaldogtraining.com
SUMMARY:Beginner Novice Obedience
DESCRIPTION:
URL:https://www.cardunaldogtraining.com/event/beginner-novice-obedience-12/2024-09-26/
LOCATION:CarDunAl Dog Training Club\, 10783 Wolf Dr.\, Huntley\, IL\, 60142\, United States
CATEGORIES:Agility
END:VEVENT
BEGIN:VEVENT
DTSTART;TZID=America/Chicago:20240926T190000
DTEND;TZID=America/Chicago:20240926T200000
DTSTAMP:20260422T194304
CREATED:20240909T020537Z
LAST-MODIFIED:20240909T020537Z
UID:24118-1727377200-1727380800@www.cardunaldogtraining.com
SUMMARY:Utility Obedience
DESCRIPTION:
URL:https://www.cardunaldogtraining.com/event/utility-obedience-7/2024-09-26/
LOCATION:CarDunAl Dog Training Club\, 10783 Wolf Dr.\, Huntley\, IL\, 60142\, United States
CATEGORIES:Agility
END:VEVENT
BEGIN:VEVENT
DTSTART;TZID=America/Chicago:20240926T200000
DTEND;TZID=America/Chicago:20240926T210000
DTSTAMP:20260422T194304
CREATED:20240904T014025Z
LAST-MODIFIED:20240904T014141Z
UID:23876-1727380800-1727384400@www.cardunaldogtraining.com
SUMMARY:Beginner Obedience
DESCRIPTION:
URL:https://www.cardunaldogtraining.com/event/beginner-obedience-31/2024-09-26/
LOCATION:CarDunAl Dog Training Club\, 10783 Wolf Dr.\, Huntley\, IL\, 60142\, United States
CATEGORIES:Beginners
END:VEVENT
BEGIN:VEVENT
DTSTART;TZID=America/Chicago:20240926T200000
DTEND;TZID=America/Chicago:20240926T210000
DTSTAMP:20260422T194304
CREATED:20240904T020056Z
LAST-MODIFIED:20240904T020056Z
UID:23916-1727380800-1727384400@www.cardunaldogtraining.com
SUMMARY:Pre-Open Obedience
DESCRIPTION:
URL:https://www.cardunaldogtraining.com/event/pre-open-obedience-14/2024-09-26/
LOCATION:CarDunAl Dog Training Club\, 10783 Wolf Dr.\, Huntley\, IL\, 60142\, United States
CATEGORIES:Advanced
END:VEVENT
BEGIN:VEVENT
DTSTART;TZID=America/Chicago:20240926T200000
DTEND;TZID=America/Chicago:20240926T210000
DTSTAMP:20260422T194304
CREATED:20240904T020218Z
LAST-MODIFIED:20240904T020218Z
UID:23927-1727380800-1727384400@www.cardunaldogtraining.com
SUMMARY:Open Obedience
DESCRIPTION:
URL:https://www.cardunaldogtraining.com/event/open-obedience-17/2024-09-26/
LOCATION:CarDunAl Dog Training Club\, 10783 Wolf Dr.\, Huntley\, IL\, 60142\, United States
CATEGORIES:Advanced
END:VEVENT
BEGIN:VEVENT
DTSTART;TZID=America/Chicago:20240926T200000
DTEND;TZID=America/Chicago:20240926T210000
DTSTAMP:20260422T194304
CREATED:20240909T020708Z
LAST-MODIFIED:20240909T020708Z
UID:24129-1727380800-1727384400@www.cardunaldogtraining.com
SUMMARY:Utility Obedience
DESCRIPTION:
URL:https://www.cardunaldogtraining.com/event/utility-obedience-8/2024-09-26/
LOCATION:CarDunAl Dog Training Club\, 10783 Wolf Dr.\, Huntley\, IL\, 60142\, United States
CATEGORIES:Agility
END:VEVENT
BEGIN:VEVENT
DTSTART;TZID=America/Chicago:20240926T210000
DTEND;TZID=America/Chicago:20240926T220000
DTSTAMP:20260422T194304
CREATED:20240904T012156Z
LAST-MODIFIED:20240904T012156Z
UID:23798-1727384400-1727388000@www.cardunaldogtraining.com
SUMMARY:Open/Utility Obedience – No Instructor
DESCRIPTION:
URL:https://www.cardunaldogtraining.com/event/open-utility-obedience-no-instructor-14/2024-09-26/
LOCATION:CarDunAl Dog Training Club\, 10783 Wolf Dr.\, Huntley\, IL\, 60142\, United States
CATEGORIES:Advanced
END:VEVENT
BEGIN:VEVENT
DTSTART;TZID=America/Chicago:20240930T090000
DTEND;TZID=America/Chicago:20240930T100000
DTSTAMP:20260422T194304
CREATED:20240909T014218Z
LAST-MODIFIED:20240909T014218Z
UID:24074-1727686800-1727690400@www.cardunaldogtraining.com
SUMMARY:Advanced Agility Level 6
DESCRIPTION:
URL:https://www.cardunaldogtraining.com/event/advanced-agility-level-6/2024-09-30/
LOCATION:CarDunAl Dog Training Club\, 10783 Wolf Dr.\, Huntley\, IL\, 60142\, United States
CATEGORIES:Agility
END:VEVENT
BEGIN:VEVENT
DTSTART;TZID=America/Chicago:20240930T170000
DTEND;TZID=America/Chicago:20240930T180000
DTSTAMP:20260422T194304
CREATED:20240909T013618Z
LAST-MODIFIED:20240909T013618Z
UID:24030-1727715600-1727719200@www.cardunaldogtraining.com
SUMMARY:Advanced Agility Level 4
DESCRIPTION:
URL:https://www.cardunaldogtraining.com/event/advanced-agility-level-4-9/2024-09-30/
LOCATION:CarDunAl Dog Training Club\, 10783 Wolf Dr.\, Huntley\, IL\, 60142\, United States
CATEGORIES:Agility
END:VEVENT
BEGIN:VEVENT
DTSTART;TZID=America/Chicago:20240930T180000
DTEND;TZID=America/Chicago:20240930T190000
DTSTAMP:20260422T194304
CREATED:20240909T011647Z
LAST-MODIFIED:20240909T011647Z
UID:23961-1727719200-1727722800@www.cardunaldogtraining.com
SUMMARY:Agility Foundation Class Level 0
DESCRIPTION:
URL:https://www.cardunaldogtraining.com/event/agility-foundation-class-level-0-4/2024-09-30/
LOCATION:CarDunAl Dog Training Club\, 10783 Wolf Dr.\, Huntley\, IL\, 60142\, United States
CATEGORIES:Agility
END:VEVENT
BEGIN:VEVENT
DTSTART;TZID=America/Chicago:20240930T180000
DTEND;TZID=America/Chicago:20240930T190000
DTSTAMP:20260422T194304
CREATED:20240909T013819Z
LAST-MODIFIED:20240909T013819Z
UID:24041-1727719200-1727722800@www.cardunaldogtraining.com
SUMMARY:Advanced Agility Level 4
DESCRIPTION:
URL:https://www.cardunaldogtraining.com/event/advanced-agility-level-4-10/2024-09-30/
LOCATION:CarDunAl Dog Training Club\, 10783 Wolf Dr.\, Huntley\, IL\, 60142\, United States
CATEGORIES:Agility
END:VEVENT
BEGIN:VEVENT
DTSTART;TZID=America/Chicago:20240930T190000
DTEND;TZID=America/Chicago:20240930T200000
DTSTAMP:20260422T194304
CREATED:20240909T012115Z
LAST-MODIFIED:20240909T012115Z
UID:23983-1727722800-1727726400@www.cardunaldogtraining.com
SUMMARY:Intermediate Agility Level 2
DESCRIPTION:
URL:https://www.cardunaldogtraining.com/event/intermediate-agility-level-2-5/2024-09-30/
LOCATION:CarDunAl Dog Training Club\, 10783 Wolf Dr.\, Huntley\, IL\, 60142\, United States
CATEGORIES:Agility
END:VEVENT
BEGIN:VEVENT
DTSTART;TZID=America/Chicago:20240930T190000
DTEND;TZID=America/Chicago:20240930T200000
DTSTAMP:20260422T194304
CREATED:20240909T013936Z
LAST-MODIFIED:20240909T013936Z
UID:24052-1727722800-1727726400@www.cardunaldogtraining.com
SUMMARY:Advanced Agility Level 5
DESCRIPTION:
URL:https://www.cardunaldogtraining.com/event/advanced-agility-level-5/2024-09-30/
LOCATION:CarDunAl Dog Training Club\, 10783 Wolf Dr.\, Huntley\, IL\, 60142\, United States
CATEGORIES:Agility
END:VEVENT
BEGIN:VEVENT
DTSTART;TZID=America/Chicago:20240930T200000
DTEND;TZID=America/Chicago:20240930T210000
DTSTAMP:20260422T194304
CREATED:20240909T011916Z
LAST-MODIFIED:20240909T011916Z
UID:23972-1727726400-1727730000@www.cardunaldogtraining.com
SUMMARY:Beginner Agility Level 1
DESCRIPTION:
URL:https://www.cardunaldogtraining.com/event/beginner-agility-level-1-5/2024-09-30/
LOCATION:CarDunAl Dog Training Club\, 10783 Wolf Dr.\, Huntley\, IL\, 60142\, United States
CATEGORIES:Agility
END:VEVENT
BEGIN:VEVENT
DTSTART;TZID=America/Chicago:20240930T200000
DTEND;TZID=America/Chicago:20240930T210000
DTSTAMP:20260422T194304
CREATED:20240909T014109Z
LAST-MODIFIED:20240909T014109Z
UID:24063-1727726400-1727730000@www.cardunaldogtraining.com
SUMMARY:Advanced Agility Level 5
DESCRIPTION:
URL:https://www.cardunaldogtraining.com/event/advanced-agility-level-5-2/2024-09-30/
LOCATION:CarDunAl Dog Training Club\, 10783 Wolf Dr.\, Huntley\, IL\, 60142\, United States
CATEGORIES:Agility
END:VEVENT
BEGIN:VEVENT
DTSTART;TZID=America/Chicago:20241001T090000
DTEND;TZID=America/Chicago:20241001T100000
DTSTAMP:20260422T194304
CREATED:20240909T022204Z
LAST-MODIFIED:20240909T022204Z
UID:24215-1727773200-1727776800@www.cardunaldogtraining.com
SUMMARY:Scent Work Level 3
DESCRIPTION:
URL:https://www.cardunaldogtraining.com/event/scent-work-level-3-7/2024-10-01/
LOCATION:CarDunAl Dog Training Club\, 10783 Wolf Dr.\, Huntley\, IL\, 60142\, United States
CATEGORIES:Scent Work
END:VEVENT
BEGIN:VEVENT
DTSTART;TZID=America/Chicago:20241001T100000
DTEND;TZID=America/Chicago:20241001T110000
DTSTAMP:20260422T194304
CREATED:20240909T021521Z
LAST-MODIFIED:20240909T021521Z
UID:24174-1727776800-1727780400@www.cardunaldogtraining.com
SUMMARY:Scent Work Level 3
DESCRIPTION:
URL:https://www.cardunaldogtraining.com/event/scent-work-level-3-5/2024-10-01/
LOCATION:CarDunAl Dog Training Club\, 10783 Wolf Dr.\, Huntley\, IL\, 60142\, United States
CATEGORIES:Scent Work
END:VEVENT
BEGIN:VEVENT
DTSTART;TZID=America/Chicago:20241001T110000
DTEND;TZID=America/Chicago:20241001T120000
DTSTAMP:20260422T194304
CREATED:20240909T021626Z
LAST-MODIFIED:20240909T021711Z
UID:24185-1727780400-1727784000@www.cardunaldogtraining.com
SUMMARY:Scent Work Level 3
DESCRIPTION:
URL:https://www.cardunaldogtraining.com/event/scent-work-level-3-6/2024-10-01/
LOCATION:CarDunAl Dog Training Club\, 10783 Wolf Dr.\, Huntley\, IL\, 60142\, United States
CATEGORIES:Scent Work
END:VEVENT
BEGIN:VEVENT
DTSTART;TZID=America/Chicago:20241001T123000
DTEND;TZID=America/Chicago:20241001T133000
DTSTAMP:20260422T194304
CREATED:20240909T021034Z
LAST-MODIFIED:20240909T022007Z
UID:24141-1727785800-1727789400@www.cardunaldogtraining.com
SUMMARY:Scent Work Level 1 (New Students)
DESCRIPTION:
URL:https://www.cardunaldogtraining.com/event/scent-work-level-1-5/2024-10-01/
LOCATION:CarDunAl Dog Training Club\, 10783 Wolf Dr.\, Huntley\, IL\, 60142\, United States
CATEGORIES:Scent Work
END:VEVENT
BEGIN:VEVENT
DTSTART;TZID=America/Chicago:20241001T140000
DTEND;TZID=America/Chicago:20241001T150000
DTSTAMP:20260422T194304
CREATED:20240909T021221Z
LAST-MODIFIED:20240909T021221Z
UID:24152-1727791200-1727794800@www.cardunaldogtraining.com
SUMMARY:Scent Work Level 2
DESCRIPTION:
URL:https://www.cardunaldogtraining.com/event/scent-work-level-2-4/2024-10-01/
LOCATION:CarDunAl Dog Training Club\, 10783 Wolf Dr.\, Huntley\, IL\, 60142\, United States
CATEGORIES:Scent Work
END:VEVENT
BEGIN:VEVENT
DTSTART;TZID=America/Chicago:20241001T151500
DTEND;TZID=America/Chicago:20241001T161500
DTSTAMP:20260422T194304
CREATED:20240909T021353Z
LAST-MODIFIED:20240909T021353Z
UID:24163-1727795700-1727799300@www.cardunaldogtraining.com
SUMMARY:Scent Work Level 2
DESCRIPTION:
URL:https://www.cardunaldogtraining.com/event/scent-work-level-2-5/2024-10-01/
LOCATION:CarDunAl Dog Training Club\, 10783 Wolf Dr.\, Huntley\, IL\, 60142\, United States
CATEGORIES:Scent Work
END:VEVENT
BEGIN:VEVENT
DTSTART;TZID=America/Chicago:20241001T180000
DTEND;TZID=America/Chicago:20241001T190000
DTSTAMP:20260422T194304
CREATED:20240904T010752Z
LAST-MODIFIED:20240909T013140Z
UID:23743-1727805600-1727809200@www.cardunaldogtraining.com
SUMMARY:Puppy Class Obedience
DESCRIPTION:
URL:https://www.cardunaldogtraining.com/event/puppy-class-obedience-8/2024-10-01/
LOCATION:CarDunAl Dog Training Club\, 10783 Wolf Dr.\, Huntley\, IL\, 60142\, United States
CATEGORIES:AKC Star Puppy / Pre-Beginners Class
END:VEVENT
BEGIN:VEVENT
DTSTART;TZID=America/Chicago:20241001T200000
DTEND;TZID=America/Chicago:20241001T210000
DTSTAMP:20260422T194304
CREATED:20240909T012639Z
LAST-MODIFIED:20240909T012814Z
UID:23994-1727812800-1727816400@www.cardunaldogtraining.com
SUMMARY:Intermediate Agility Level 3
DESCRIPTION:
URL:https://www.cardunaldogtraining.com/event/intermediate-agility-level-3-5/2024-10-01/
LOCATION:CarDunAl Dog Training Club\, 10783 Wolf Dr.\, Huntley\, IL\, 60142\, United States
CATEGORIES:Agility
END:VEVENT
BEGIN:VEVENT
DTSTART;TZID=America/Chicago:20241002T090000
DTEND;TZID=America/Chicago:20241002T100000
DTSTAMP:20260422T194304
CREATED:20240904T012423Z
LAST-MODIFIED:20240904T012423Z
UID:23809-1727859600-1727863200@www.cardunaldogtraining.com
SUMMARY:Open/Utility Obedience – No Instructor
DESCRIPTION:
URL:https://www.cardunaldogtraining.com/event/open-utility-obedience-no-instructor-15/2024-10-02/
LOCATION:CarDunAl Dog Training Club\, 10783 Wolf Dr.\, Huntley\, IL\, 60142\, United States
CATEGORIES:Advanced
END:VEVENT
BEGIN:VEVENT
DTSTART;TZID=America/Chicago:20241002T100000
DTEND;TZID=America/Chicago:20241002T110000
DTSTAMP:20260422T194304
CREATED:20240904T011307Z
LAST-MODIFIED:20240904T011307Z
UID:23765-1727863200-1727866800@www.cardunaldogtraining.com
SUMMARY:Novice Obedience
DESCRIPTION:
URL:https://www.cardunaldogtraining.com/event/novice-obedience-20/2024-10-02/
LOCATION:CarDunAl Dog Training Club\, 10783 Wolf Dr.\, Huntley\, IL\, 60142\, United States
CATEGORIES:Advanced
END:VEVENT
BEGIN:VEVENT
DTSTART;TZID=America/Chicago:20241002T100000
DTEND;TZID=America/Chicago:20241002T110000
DTSTAMP:20260422T194304
CREATED:20240904T020402Z
LAST-MODIFIED:20240904T020402Z
UID:23939-1727863200-1727866800@www.cardunaldogtraining.com
SUMMARY:Open Obedience
DESCRIPTION:
URL:https://www.cardunaldogtraining.com/event/open-obedience-18/2024-10-02/
LOCATION:CarDunAl Dog Training Club\, 10783 Wolf Dr.\, Huntley\, IL\, 60142\, United States
CATEGORIES:Advanced
END:VEVENT
END:VCALENDAR