BEGIN:VCALENDAR
VERSION:2.0
PRODID:-//Car-Dun-Al Dog Obedience Training Club - ECPv6.15.17.1//NONSGML v1.0//EN
CALSCALE:GREGORIAN
METHOD:PUBLISH
X-WR-CALNAME:Car-Dun-Al Dog Obedience Training Club
X-ORIGINAL-URL:https://www.cardunaldogtraining.com
X-WR-CALDESC:Events for Car-Dun-Al Dog Obedience Training Club
REFRESH-INTERVAL;VALUE=DURATION:PT1H
X-Robots-Tag:noindex
X-PUBLISHED-TTL:PT1H
BEGIN:VTIMEZONE
TZID:America/Chicago
BEGIN:DAYLIGHT
TZOFFSETFROM:-0600
TZOFFSETTO:-0500
TZNAME:CDT
DTSTART:20220313T080000
END:DAYLIGHT
BEGIN:STANDARD
TZOFFSETFROM:-0500
TZOFFSETTO:-0600
TZNAME:CST
DTSTART:20221106T070000
END:STANDARD
BEGIN:DAYLIGHT
TZOFFSETFROM:-0600
TZOFFSETTO:-0500
TZNAME:CDT
DTSTART:20230312T080000
END:DAYLIGHT
BEGIN:STANDARD
TZOFFSETFROM:-0500
TZOFFSETTO:-0600
TZNAME:CST
DTSTART:20231105T070000
END:STANDARD
BEGIN:DAYLIGHT
TZOFFSETFROM:-0600
TZOFFSETTO:-0500
TZNAME:CDT
DTSTART:20240310T080000
END:DAYLIGHT
BEGIN:STANDARD
TZOFFSETFROM:-0500
TZOFFSETTO:-0600
TZNAME:CST
DTSTART:20241103T070000
END:STANDARD
END:VTIMEZONE
BEGIN:VEVENT
DTSTART;TZID=America/Chicago:20230629T180000
DTEND;TZID=America/Chicago:20230629T190000
DTSTAMP:20260422T182302
CREATED:20230602T020409Z
LAST-MODIFIED:20230602T021455Z
UID:17800-1688061600-1688065200@www.cardunaldogtraining.com
SUMMARY:Beginner Novice Obedience
DESCRIPTION:
URL:https://www.cardunaldogtraining.com/event/beginner-novice-obedience-3/2023-06-29/
LOCATION:CarDunAl Dog Training Club\, 10783 Wolf Dr.\, Huntley\, IL\, 60142\, United States
CATEGORIES:Beginners
END:VEVENT
BEGIN:VEVENT
DTSTART;TZID=America/Chicago:20230629T110000
DTEND;TZID=America/Chicago:20230629T120000
DTSTAMP:20260422T182302
CREATED:20230602T014006Z
LAST-MODIFIED:20230602T014006Z
UID:17698-1688036400-1688040000@www.cardunaldogtraining.com
SUMMARY:Puppy Class - Obedience
DESCRIPTION:
URL:https://www.cardunaldogtraining.com/event/puppy-class-obedience-2/2023-06-29/
LOCATION:CarDunAl Dog Training Club\, 10783 Wolf Dr.\, Huntley\, IL\, 60142\, United States
CATEGORIES:AKC Star Puppy / Pre-Beginners Class
END:VEVENT
BEGIN:VEVENT
DTSTART;TZID=America/Chicago:20230628T113000
DTEND;TZID=America/Chicago:20230628T123000
DTSTAMP:20260422T182302
CREATED:20230602T014551Z
LAST-MODIFIED:20230602T014551Z
UID:17721-1687951800-1687955400@www.cardunaldogtraining.com
SUMMARY:Beginner Obedience
DESCRIPTION:
URL:https://www.cardunaldogtraining.com/event/beginner-obedience-11/2023-06-28/
LOCATION:CarDunAl Dog Training Club\, 10783 Wolf Dr.\, Huntley\, IL\, 60142\, United States
CATEGORIES:Beginners
END:VEVENT
BEGIN:VEVENT
DTSTART;TZID=America/Chicago:20230628T100000
DTEND;TZID=America/Chicago:20230628T110000
DTSTAMP:20260422T182302
CREATED:20230602T022002Z
LAST-MODIFIED:20230602T022002Z
UID:17885-1687946400-1687950000@www.cardunaldogtraining.com
SUMMARY:Open Obedience
DESCRIPTION:
URL:https://www.cardunaldogtraining.com/event/open-obedience-8/2023-06-28/
LOCATION:CarDunAl Dog Training Club\, 10783 Wolf Dr.\, Huntley\, IL\, 60142\, United States
CATEGORIES:Advanced
END:VEVENT
BEGIN:VEVENT
DTSTART;TZID=America/Chicago:20230628T100000
DTEND;TZID=America/Chicago:20230628T110000
DTSTAMP:20260422T182302
CREATED:20230602T020614Z
LAST-MODIFIED:20230602T020614Z
UID:17812-1687946400-1687950000@www.cardunaldogtraining.com
SUMMARY:Novice Obedience
DESCRIPTION:
URL:https://www.cardunaldogtraining.com/event/novice-obedience-11/2023-06-28/
LOCATION:CarDunAl Dog Training Club\, 10783 Wolf Dr.\, Huntley\, IL\, 60142\, United States
CATEGORIES:Advanced
END:VEVENT
BEGIN:VEVENT
DTSTART;TZID=America/Chicago:20230628T090000
DTEND;TZID=America/Chicago:20230628T100000
DTSTAMP:20260422T182302
CREATED:20230602T022550Z
LAST-MODIFIED:20230602T022550Z
UID:17919-1687942800-1687946400@www.cardunaldogtraining.com
SUMMARY:Open/Utility - No Instructor
DESCRIPTION:
URL:https://www.cardunaldogtraining.com/event/open-utility-no-instructor/2023-06-28/
LOCATION:CarDunAl Dog Training Club\, 10783 Wolf Dr.\, Huntley\, IL\, 60142\, United States
CATEGORIES:Advanced
END:VEVENT
BEGIN:VEVENT
DTSTART;TZID=America/Chicago:20230627T190000
DTEND;TZID=America/Chicago:20230627T203000
DTSTAMP:20260422T182302
CREATED:20230207T214825Z
LAST-MODIFIED:20230623T000152Z
UID:16441-1687892400-1687897800@www.cardunaldogtraining.com
SUMMARY:Obedience Correction Clinic - CANCELLED
DESCRIPTION:
URL:https://www.cardunaldogtraining.com/event/obedience-correction-clinic-2/
LOCATION:CarDunAl Dog Training Club\, 10783 Wolf Dr.\, Huntley\, IL\, 60142\, United States
CATEGORIES:Correction Clinic
END:VEVENT
BEGIN:VEVENT
DTSTART;TZID=America/Chicago:20230627T190000
DTEND;TZID=America/Chicago:20230627T200000
DTSTAMP:20260422T182302
CREATED:20230524T015352Z
LAST-MODIFIED:20230602T015708Z
UID:17616-1687892400-1687896000@www.cardunaldogtraining.com
SUMMARY:Intermediate II 3 Agility 7 PM
DESCRIPTION:
URL:https://www.cardunaldogtraining.com/event/intermediate-ii-3-agility-7-pm/2023-06-27/
LOCATION:CarDunAl Dog Training Club\, 10783 Wolf Dr.\, Huntley\, IL\, 60142\, United States
CATEGORIES:Agility
END:VEVENT
BEGIN:VEVENT
DTSTART;TZID=America/Chicago:20230627T180000
DTEND;TZID=America/Chicago:20230627T190000
DTSTAMP:20260422T182302
CREATED:20230602T013534Z
LAST-MODIFIED:20230602T015310Z
UID:17686-1687888800-1687892400@www.cardunaldogtraining.com
SUMMARY:Puppy Class - Obedience
DESCRIPTION:
URL:https://www.cardunaldogtraining.com/event/puppy-class-obedience/2023-06-27/
LOCATION:CarDunAl Dog Training Club\, 10783 Wolf Dr.\, Huntley\, IL\, 60142\, United States
CATEGORIES:AKC Star Puppy / Pre-Beginners Class
END:VEVENT
BEGIN:VEVENT
DTSTART;TZID=America/Chicago:20230627T180000
DTEND;TZID=America/Chicago:20230627T190000
DTSTAMP:20260422T182302
CREATED:20230524T014707Z
LAST-MODIFIED:20230602T015544Z
UID:17595-1687888800-1687892400@www.cardunaldogtraining.com
SUMMARY:Intermediate 2 Agility 6 PM
DESCRIPTION:
URL:https://www.cardunaldogtraining.com/event/intermediate-2-agility-6-pm/2023-06-27/
LOCATION:CarDunAl Dog Training Club\, 10783 Wolf Dr.\, Huntley\, IL\, 60142\, United States
CATEGORIES:Agility
END:VEVENT
BEGIN:VEVENT
DTSTART;TZID=America/Chicago:20230627T143000
DTEND;TZID=America/Chicago:20230627T153000
DTSTAMP:20260422T182302
CREATED:20230602T023149Z
LAST-MODIFIED:20230602T023149Z
UID:17953-1687876200-1687879800@www.cardunaldogtraining.com
SUMMARY:Scentwork Level 1
DESCRIPTION:
URL:https://www.cardunaldogtraining.com/event/scentwork-level-1-2/2023-06-27/
LOCATION:CarDunAl Dog Training Club\, 10783 Wolf Dr.\, Huntley\, IL\, 60142\, United States
CATEGORIES:Scent Work
END:VEVENT
BEGIN:VEVENT
DTSTART;TZID=America/Chicago:20230627T130000
DTEND;TZID=America/Chicago:20230627T140000
DTSTAMP:20260422T182302
CREATED:20230524T020159Z
LAST-MODIFIED:20230602T015425Z
UID:17628-1687870800-1687874400@www.cardunaldogtraining.com
SUMMARY:Beginner Scentwork
DESCRIPTION:
URL:https://www.cardunaldogtraining.com/event/beginner-scentwork/2023-06-27/
LOCATION:CarDunAl Dog Training Club\, 10783 Wolf Dr.\, Huntley\, IL\, 60142\, United States
CATEGORIES:Scent Work
END:VEVENT
BEGIN:VEVENT
DTSTART;TZID=America/Chicago:20230626T200000
DTEND;TZID=America/Chicago:20230626T210000
DTSTAMP:20260422T182302
CREATED:20230524T014435Z
LAST-MODIFIED:20230627T000605Z
UID:17583-1687809600-1687813200@www.cardunaldogtraining.com
SUMMARY:Competition 5 Agility 8 PM
DESCRIPTION:
URL:https://www.cardunaldogtraining.com/event/competition-5-agility-8-pm/2023-06-26/
LOCATION:CarDunAl Dog Training Club\, 10783 Wolf Dr.\, Huntley\, IL\, 60142\, United States
CATEGORIES:Agility
END:VEVENT
BEGIN:VEVENT
DTSTART;TZID=America/Chicago:20230626T200000
DTEND;TZID=America/Chicago:20230626T210000
DTSTAMP:20260422T182302
CREATED:20230524T012747Z
LAST-MODIFIED:20230627T000123Z
UID:17535-1687809600-1687813200@www.cardunaldogtraining.com
SUMMARY:Beginner Agility 1
DESCRIPTION:
URL:https://www.cardunaldogtraining.com/event/beginner-agility-1/2023-06-26/
LOCATION:CarDunAl Dog Training Club\, 10783 Wolf Dr.\, Huntley\, IL\, 60142\, United States
CATEGORIES:Agility
END:VEVENT
BEGIN:VEVENT
DTSTART;TZID=America/Chicago:20230626T190000
DTEND;TZID=America/Chicago:20230626T200000
DTSTAMP:20260422T182302
CREATED:20230524T014212Z
LAST-MODIFIED:20230627T000508Z
UID:17571-1687806000-1687809600@www.cardunaldogtraining.com
SUMMARY:Competition 5 Agility 7 PM
DESCRIPTION:
URL:https://www.cardunaldogtraining.com/event/competition-5-agility-7-pm/2023-06-26/
LOCATION:CarDunAl Dog Training Club\, 10783 Wolf Dr.\, Huntley\, IL\, 60142\, United States
CATEGORIES:Agility
END:VEVENT
BEGIN:VEVENT
DTSTART;TZID=America/Chicago:20230626T184500
DTEND;TZID=America/Chicago:20230626T193000
DTSTAMP:20260422T182302
CREATED:20230524T012305Z
LAST-MODIFIED:20230626T235953Z
UID:17445-1687805100-1687807800@www.cardunaldogtraining.com
SUMMARY:Beginner Agility 0
DESCRIPTION:
URL:https://www.cardunaldogtraining.com/event/beginner-agility-0/2023-06-26/
LOCATION:CarDunAl Dog Training Club\, 10783 Wolf Dr.\, Huntley\, IL\, 60142\, United States
CATEGORIES:Agility
END:VEVENT
BEGIN:VEVENT
DTSTART;TZID=America/Chicago:20230626T180000
DTEND;TZID=America/Chicago:20230626T190000
DTSTAMP:20260422T182302
CREATED:20230524T013756Z
LAST-MODIFIED:20230626T235851Z
UID:17559-1687802400-1687806000@www.cardunaldogtraining.com
SUMMARY:Advanced 4 Agility 6 PM
DESCRIPTION:
URL:https://www.cardunaldogtraining.com/event/advanced-4-agility-6-pm/2023-06-26/
LOCATION:IL\, United States
CATEGORIES:Agility
END:VEVENT
BEGIN:VEVENT
DTSTART;TZID=America/Chicago:20230626T170000
DTEND;TZID=America/Chicago:20230626T180000
DTSTAMP:20260422T182302
CREATED:20230524T013504Z
LAST-MODIFIED:20230627T000349Z
UID:17547-1687798800-1687802400@www.cardunaldogtraining.com
SUMMARY:Advanced 4 Agility 5PM
DESCRIPTION:
URL:https://www.cardunaldogtraining.com/event/advanced-4-agility-5pm/2023-06-26/
LOCATION:CarDunAl Dog Training Club\, 10783 Wolf Dr.\, Huntley\, IL\, 60142\, United States
CATEGORIES:Agility
END:VEVENT
BEGIN:VEVENT
DTSTART;TZID=America/Chicago:20230626T090000
DTEND;TZID=America/Chicago:20230626T103000
DTSTAMP:20260422T182302
CREATED:20230524T012534Z
LAST-MODIFIED:20230626T171114Z
UID:17457-1687770000-1687775400@www.cardunaldogtraining.com
SUMMARY:Master Competition - Agility
DESCRIPTION:
URL:https://www.cardunaldogtraining.com/event/master-competition-agility/2023-06-26/
LOCATION:CarDunAl Dog Training Club\, 10783 Wolf Dr.\, Huntley\, IL\, 60142\, United States
CATEGORIES:Agility
END:VEVENT
BEGIN:VEVENT
DTSTART;TZID=America/Chicago:20230608T193000
DTEND;TZID=America/Chicago:20230608T210000
DTSTAMP:20260422T182302
CREATED:20221019T234446Z
LAST-MODIFIED:20221019T234446Z
UID:15405-1686252600-1686258000@www.cardunaldogtraining.com
SUMMARY:Car Dun Al General Meeting
DESCRIPTION:
URL:https://www.cardunaldogtraining.com/event/car-dun-al-general-meeting-3/
LOCATION:CarDunAl Dog Training Club\, 10783 Wolf Dr.\, Huntley\, IL\, 60142\, United States
CATEGORIES:Meeting
END:VEVENT
BEGIN:VEVENT
DTSTART;TZID=America/Chicago:20230605T190000
DTEND;TZID=America/Chicago:20230605T210000
DTSTAMP:20260422T182302
CREATED:20221019T234352Z
LAST-MODIFIED:20221019T234352Z
UID:15403-1685991600-1685998800@www.cardunaldogtraining.com
SUMMARY:Car Dun Al Board Meeting
DESCRIPTION:
URL:https://www.cardunaldogtraining.com/event/car-dun-al-board-meeting-3/
LOCATION:CarDunAl Dog Training Club\, 10783 Wolf Dr.\, Huntley\, IL\, 60142\, United States
CATEGORIES:Meeting
END:VEVENT
BEGIN:VEVENT
DTSTART;VALUE=DATE:20230602
DTEND;VALUE=DATE:20230603
DTSTAMP:20260422T182302
CREATED:20221019T234253Z
LAST-MODIFIED:20221019T234253Z
UID:15401-1685664000-1685750399@www.cardunaldogtraining.com
SUMMARY:Mat Cleaning
DESCRIPTION:
URL:https://www.cardunaldogtraining.com/event/mat-cleaning-10/
LOCATION:CarDunAl Dog Training Club\, 10783 Wolf Dr.\, Huntley\, IL\, 60142\, United States
CATEGORIES:Meeting
END:VEVENT
BEGIN:VEVENT
DTSTART;VALUE=DATE:20230521
DTEND;VALUE=DATE:20230522
DTSTAMP:20260422T182302
CREATED:20221019T234157Z
LAST-MODIFIED:20221019T234157Z
UID:15399-1684627200-1684713599@www.cardunaldogtraining.com
SUMMARY:Agility Ability Agility Trial
DESCRIPTION:
URL:https://www.cardunaldogtraining.com/event/agility-ability-agility-trial-2/
LOCATION:CarDunAl Dog Training Club\, 10783 Wolf Dr.\, Huntley\, IL\, 60142\, United States
CATEGORIES:Trials
END:VEVENT
BEGIN:VEVENT
DTSTART;VALUE=DATE:20230520
DTEND;VALUE=DATE:20230521
DTSTAMP:20260422T182302
CREATED:20221019T234108Z
LAST-MODIFIED:20221019T234108Z
UID:15397-1684540800-1684627199@www.cardunaldogtraining.com
SUMMARY:Agility Ability Agility Trial
DESCRIPTION:
URL:https://www.cardunaldogtraining.com/event/agility-ability-agility-trial/
LOCATION:CarDunAl Dog Training Club\, 10783 Wolf Dr.\, Huntley\, IL\, 60142\, United States
CATEGORIES:Trials
END:VEVENT
BEGIN:VEVENT
DTSTART;VALUE=DATE:20230507
DTEND;VALUE=DATE:20230508
DTSTAMP:20260422T182302
CREATED:20221019T233919Z
LAST-MODIFIED:20221019T233919Z
UID:15395-1683417600-1683503999@www.cardunaldogtraining.com
SUMMARY:Greater DeKalb Agility Trial
DESCRIPTION:
URL:https://www.cardunaldogtraining.com/event/greater-dekalb-agility-trial-4/
LOCATION:CarDunAl Dog Training Club\, 10783 Wolf Dr.\, Huntley\, IL\, 60142\, United States
CATEGORIES:Trials
END:VEVENT
BEGIN:VEVENT
DTSTART;VALUE=DATE:20230506
DTEND;VALUE=DATE:20230507
DTSTAMP:20260422T182302
CREATED:20221019T233848Z
LAST-MODIFIED:20221019T233848Z
UID:15393-1683331200-1683417599@www.cardunaldogtraining.com
SUMMARY:Greater DeKalb Agility Trial
DESCRIPTION:
URL:https://www.cardunaldogtraining.com/event/greater-dekalb-agility-trial-3/
LOCATION:CarDunAl Dog Training Club\, 10783 Wolf Dr.\, Huntley\, IL\, 60142\, United States
CATEGORIES:Trials
END:VEVENT
BEGIN:VEVENT
DTSTART;VALUE=DATE:20230505
DTEND;VALUE=DATE:20230506
DTSTAMP:20260422T182302
CREATED:20221019T233747Z
LAST-MODIFIED:20221019T233801Z
UID:15390-1683244800-1683331199@www.cardunaldogtraining.com
SUMMARY:Greater DeKalb Agility Trial
DESCRIPTION:
URL:https://www.cardunaldogtraining.com/event/greater-dekalb-agility-4/
LOCATION:CarDunAl Dog Training Club\, 10783 Wolf Dr.\, Huntley\, IL\, 60142\, United States
CATEGORIES:Trials
END:VEVENT
BEGIN:VEVENT
DTSTART;VALUE=DATE:20230430
DTEND;VALUE=DATE:20230501
DTSTAMP:20260422T182302
CREATED:20221019T233612Z
LAST-MODIFIED:20221019T233612Z
UID:15388-1682812800-1682899199@www.cardunaldogtraining.com
SUMMARY:Car Dun Al Agility Trial
DESCRIPTION:
URL:https://www.cardunaldogtraining.com/event/car-dun-al-agility-trial-3/
LOCATION:CarDunAl Dog Training Club\, 10783 Wolf Dr.\, Huntley\, IL\, 60142\, United States
CATEGORIES:Trials
END:VEVENT
BEGIN:VEVENT
DTSTART;VALUE=DATE:20230429
DTEND;VALUE=DATE:20230430
DTSTAMP:20260422T182302
CREATED:20221019T233544Z
LAST-MODIFIED:20221019T233544Z
UID:15386-1682726400-1682812799@www.cardunaldogtraining.com
SUMMARY:Car Dun Al Agility Trial
DESCRIPTION:
URL:https://www.cardunaldogtraining.com/event/car-dun-al-agility-trial-2/
LOCATION:CarDunAl Dog Training Club\, 10783 Wolf Dr.\, Huntley\, IL\, 60142\, United States
CATEGORIES:Trials
END:VEVENT
BEGIN:VEVENT
DTSTART;VALUE=DATE:20230428
DTEND;VALUE=DATE:20230429
DTSTAMP:20260422T182302
CREATED:20221019T233416Z
LAST-MODIFIED:20221019T233416Z
UID:15384-1682640000-1682726399@www.cardunaldogtraining.com
SUMMARY:Greater DeKalb Agility Trial
DESCRIPTION:
URL:https://www.cardunaldogtraining.com/event/greater-dekalb-agility-trial-2/
LOCATION:CarDunAl Dog Training Club\, 10783 Wolf Dr.\, Huntley\, IL\, 60142\, United States
CATEGORIES:Trials
END:VEVENT
END:VCALENDAR