BEGIN:VCALENDAR
VERSION:2.0
PRODID:-//Car-Dun-Al Dog Obedience Training Club - ECPv6.15.17.1//NONSGML v1.0//EN
CALSCALE:GREGORIAN
METHOD:PUBLISH
X-WR-CALNAME:Car-Dun-Al Dog Obedience Training Club
X-ORIGINAL-URL:https://www.cardunaldogtraining.com
X-WR-CALDESC:Events for Car-Dun-Al Dog Obedience Training Club
REFRESH-INTERVAL;VALUE=DURATION:PT1H
X-Robots-Tag:noindex
X-PUBLISHED-TTL:PT1H
BEGIN:VTIMEZONE
TZID:America/Chicago
BEGIN:DAYLIGHT
TZOFFSETFROM:-0600
TZOFFSETTO:-0500
TZNAME:CDT
DTSTART:20250309T080000
END:DAYLIGHT
BEGIN:STANDARD
TZOFFSETFROM:-0500
TZOFFSETTO:-0600
TZNAME:CST
DTSTART:20251102T070000
END:STANDARD
BEGIN:DAYLIGHT
TZOFFSETFROM:-0600
TZOFFSETTO:-0500
TZNAME:CDT
DTSTART:20260308T080000
END:DAYLIGHT
BEGIN:STANDARD
TZOFFSETFROM:-0500
TZOFFSETTO:-0600
TZNAME:CST
DTSTART:20261101T070000
END:STANDARD
BEGIN:DAYLIGHT
TZOFFSETFROM:-0600
TZOFFSETTO:-0500
TZNAME:CDT
DTSTART:20270314T080000
END:DAYLIGHT
BEGIN:STANDARD
TZOFFSETFROM:-0500
TZOFFSETTO:-0600
TZNAME:CST
DTSTART:20271107T070000
END:STANDARD
END:VTIMEZONE
BEGIN:VEVENT
DTSTART;VALUE=DATE:20260308
DTEND;VALUE=DATE:20260309
DTSTAMP:20260423T004241
CREATED:20251120T020841Z
LAST-MODIFIED:20251120T020841Z
UID:28485-1772928000-1773014399@www.cardunaldogtraining.com
SUMMARY:Great Lakes Belgian Tervuren Club Specialty
DESCRIPTION:
URL:https://www.cardunaldogtraining.com/event/great-lakes-belgian-tervuren-club-specialty-3/
LOCATION:CarDunAl Dog Training Club\, 10783 Wolf Dr.\, Huntley\, IL\, 60142\, United States
CATEGORIES:Trials
END:VEVENT
BEGIN:VEVENT
DTSTART;VALUE=DATE:20260307
DTEND;VALUE=DATE:20260308
DTSTAMP:20260423T004241
CREATED:20251120T020806Z
LAST-MODIFIED:20251120T020806Z
UID:28483-1772841600-1772927999@www.cardunaldogtraining.com
SUMMARY:Great Lakes Belgian Tervuren Club Specialty
DESCRIPTION:
URL:https://www.cardunaldogtraining.com/event/great-lakes-belgian-tervuren-club-specialty-2/
LOCATION:CarDunAl Dog Training Club\, 10783 Wolf Dr.\, Huntley\, IL\, 60142\, United States
CATEGORIES:Trials
END:VEVENT
BEGIN:VEVENT
DTSTART;VALUE=DATE:20260306
DTEND;VALUE=DATE:20260307
DTSTAMP:20260423T004241
CREATED:20251120T020704Z
LAST-MODIFIED:20251120T021220Z
UID:28481-1772755200-1772841599@www.cardunaldogtraining.com
SUMMARY:Great Lakes Belgian Tervuren Club Specialty
DESCRIPTION:
URL:https://www.cardunaldogtraining.com/event/great-lakes-belgian-tervuren-club-specialty/
LOCATION:CarDunAl Dog Training Club\, 10783 Wolf Dr.\, Huntley\, IL\, 60142\, United States
CATEGORIES:Trials
END:VEVENT
BEGIN:VEVENT
DTSTART;TZID=America/Chicago:20260305T200000
DTEND;TZID=America/Chicago:20260305T210000
DTSTAMP:20260423T004241
CREATED:20251230T021553Z
LAST-MODIFIED:20251230T021553Z
UID:28932-1772740800-1772744400@www.cardunaldogtraining.com
SUMMARY:Pre-Open Obedience
DESCRIPTION:
URL:https://www.cardunaldogtraining.com/event/pre-open-obedience-19/2026-03-05/
LOCATION:CarDunAl Dog Training Club\, 10783 Wolf Dr.\, Huntley\, IL\, 60142\, United States
CATEGORIES:Advanced
END:VEVENT
BEGIN:VEVENT
DTSTART;TZID=America/Chicago:20260305T200000
DTEND;TZID=America/Chicago:20260305T210000
DTSTAMP:20260423T004241
CREATED:20251230T021414Z
LAST-MODIFIED:20251230T021414Z
UID:28921-1772740800-1772744400@www.cardunaldogtraining.com
SUMMARY:Open Obedience
DESCRIPTION:
URL:https://www.cardunaldogtraining.com/event/open-obedience-28/2026-03-05/
LOCATION:CarDunAl Dog Training Club\, 10783 Wolf Dr.\, Huntley\, IL\, 60142\, United States
CATEGORIES:Advanced
END:VEVENT
BEGIN:VEVENT
DTSTART;TZID=America/Chicago:20260305T190000
DTEND;TZID=America/Chicago:20260305T200000
DTSTAMP:20260423T004241
CREATED:20251230T022338Z
LAST-MODIFIED:20251230T022338Z
UID:28965-1772737200-1772740800@www.cardunaldogtraining.com
SUMMARY:Utility Obedience
DESCRIPTION:
URL:https://www.cardunaldogtraining.com/event/utility-obedience-18/2026-03-05/
LOCATION:CarDunAl Dog Training Club\, 10783 Wolf Dr.\, Huntley\, IL\, 60142\, United States
CATEGORIES:Advanced
END:VEVENT
BEGIN:VEVENT
DTSTART;TZID=America/Chicago:20260305T190000
DTEND;TZID=America/Chicago:20260305T200000
DTSTAMP:20260423T004241
CREATED:20251230T014138Z
LAST-MODIFIED:20251230T014138Z
UID:28893-1772737200-1772740800@www.cardunaldogtraining.com
SUMMARY:Beginner Novice Obedience
DESCRIPTION:
URL:https://www.cardunaldogtraining.com/event/beginner-novice-obedience-20/2026-03-05/
LOCATION:CarDunAl Dog Training Club\, 10783 Wolf Dr.\, Huntley\, IL\, 60142\, United States
CATEGORIES:Advanced
END:VEVENT
BEGIN:VEVENT
DTSTART;TZID=America/Chicago:20260305T190000
DTEND;TZID=America/Chicago:20260305T200000
DTSTAMP:20260423T004241
CREATED:20251230T013822Z
LAST-MODIFIED:20251230T013822Z
UID:28883-1772737200-1772740800@www.cardunaldogtraining.com
SUMMARY:Beginner Obedience
DESCRIPTION:
URL:https://www.cardunaldogtraining.com/event/beginner-obedience-48/2026-03-05/
LOCATION:CarDunAl Dog Training Club\, 10783 Wolf Dr.\, Huntley\, IL\, 60142\, United States
CATEGORIES:Beginners
END:VEVENT
BEGIN:VEVENT
DTSTART;TZID=America/Chicago:20260305T190000
DTEND;TZID=America/Chicago:20260305T200000
DTSTAMP:20260423T004241
CREATED:20251230T012842Z
LAST-MODIFIED:20251230T012842Z
UID:28831-1772737200-1772740800@www.cardunaldogtraining.com
SUMMARY:Novice Obedience
DESCRIPTION:
URL:https://www.cardunaldogtraining.com/event/novice-obedience-34/2026-03-05/
LOCATION:CarDunAl Dog Training Club\, 10783 Wolf Dr.\, Huntley\, IL\, 60142\, United States
CATEGORIES:Advanced
END:VEVENT
BEGIN:VEVENT
DTSTART;TZID=America/Chicago:20260305T180000
DTEND;TZID=America/Chicago:20260305T190000
DTSTAMP:20260423T004241
CREATED:20251230T022234Z
LAST-MODIFIED:20251230T022234Z
UID:28954-1772733600-1772737200@www.cardunaldogtraining.com
SUMMARY:Utility Obedience
DESCRIPTION:
URL:https://www.cardunaldogtraining.com/event/utility-obedience-17/2026-03-05/
LOCATION:CarDunAl Dog Training Club\, 10783 Wolf Dr.\, Huntley\, IL\, 60142\, United States
CATEGORIES:Advanced
END:VEVENT
BEGIN:VEVENT
DTSTART;TZID=America/Chicago:20260305T173000
DTEND;TZID=America/Chicago:20260305T184500
DTSTAMP:20260423T004241
CREATED:20251231T011214Z
LAST-MODIFIED:20251231T021646Z
UID:29208-1772731800-1772736300@www.cardunaldogtraining.com
SUMMARY:Rally Drop-In Class
DESCRIPTION:
URL:https://www.cardunaldogtraining.com/event/rally-drop-in-class-3/2026-03-05/
LOCATION:CarDunAl Dog Training Club\, 10783 Wolf Dr.\, Huntley\, IL\, 60142\, United States
CATEGORIES:Drop In Training
END:VEVENT
BEGIN:VEVENT
DTSTART;TZID=America/Chicago:20260305T173000
DTEND;TZID=America/Chicago:20260305T183000
DTSTAMP:20260423T004241
CREATED:20251231T003107Z
LAST-MODIFIED:20251231T003107Z
UID:29101-1772731800-1772735400@www.cardunaldogtraining.com
SUMMARY:Open/Utility Obedience – No Instructor
DESCRIPTION:
URL:https://www.cardunaldogtraining.com/event/open-utility-obedience-no-instructor-25/2026-03-05/
LOCATION:CarDunAl Dog Training Club\, 10783 Wolf Dr.\, Huntley\, IL\, 60142\, United States
CATEGORIES:Advanced
END:VEVENT
BEGIN:VEVENT
DTSTART;TZID=America/Chicago:20260305T133000
DTEND;TZID=America/Chicago:20260305T143000
DTSTAMP:20260423T004241
CREATED:20251230T013631Z
LAST-MODIFIED:20251230T013631Z
UID:28863-1772717400-1772721000@www.cardunaldogtraining.com
SUMMARY:Beginner Obedience
DESCRIPTION:
URL:https://www.cardunaldogtraining.com/event/beginner-obedience-47/2026-03-05/
LOCATION:CarDunAl Dog Training Club\, 10783 Wolf Dr.\, Huntley\, IL\, 60142\, United States
CATEGORIES:Beginners
END:VEVENT
BEGIN:VEVENT
DTSTART;TZID=America/Chicago:20260305T120000
DTEND;TZID=America/Chicago:20260305T130000
DTSTAMP:20260423T004241
CREATED:20251230T021809Z
LAST-MODIFIED:20251230T021809Z
UID:28944-1772712000-1772715600@www.cardunaldogtraining.com
SUMMARY:Pre-Open Obedience
DESCRIPTION:
URL:https://www.cardunaldogtraining.com/event/pre-open-obedience-20/2026-03-05/
LOCATION:CarDunAl Dog Training Club\, 10783 Wolf Dr.\, Huntley\, IL\, 60142\, United States
CATEGORIES:Advanced
END:VEVENT
BEGIN:VEVENT
DTSTART;TZID=America/Chicago:20260304T190000
DTEND;TZID=America/Chicago:20260304T200000
DTSTAMP:20260423T004241
CREATED:20251231T012254Z
LAST-MODIFIED:20251231T012254Z
UID:29281-1772650800-1772654400@www.cardunaldogtraining.com
SUMMARY:Conformation Drop-In Training
DESCRIPTION:
URL:https://www.cardunaldogtraining.com/event/conformation-drop-in-training-2/2026-03-04/
LOCATION:CarDunAl Dog Training Club\, 10783 Wolf Dr.\, Huntley\, IL\, 60142\, United States
CATEGORIES:Drop In Training
END:VEVENT
BEGIN:VEVENT
DTSTART;TZID=America/Chicago:20260304T180000
DTEND;TZID=America/Chicago:20260304T184500
DTSTAMP:20260423T004241
CREATED:20251231T012028Z
LAST-MODIFIED:20251231T012028Z
UID:29231-1772647200-1772649900@www.cardunaldogtraining.com
SUMMARY:Novice Conformation Handling Class Drop-In Training
DESCRIPTION:
URL:https://www.cardunaldogtraining.com/event/novice-conformation-handling-class-drop-in-training/2026-03-04/
LOCATION:CarDunAl Dog Training Club\, 10783 Wolf Dr.\, Huntley\, IL\, 60142\, United States
END:VEVENT
BEGIN:VEVENT
DTSTART;TZID=America/Chicago:20260304T120000
DTEND;TZID=America/Chicago:20260304T133000
DTSTAMP:20260423T004241
CREATED:20251231T005740Z
LAST-MODIFIED:20260101T022927Z
UID:29176-1772625600-1772631000@www.cardunaldogtraining.com
SUMMARY:Rally Drop-In
DESCRIPTION:
URL:https://www.cardunaldogtraining.com/event/rally-drop-in-class/2026-03-04/
LOCATION:CarDunAl Dog Training Club\, 10783 Wolf Dr.\, Huntley\, IL\, 60142\, United States
CATEGORIES:Drop In Training
END:VEVENT
BEGIN:VEVENT
DTSTART;TZID=America/Chicago:20260304T120000
DTEND;TZID=America/Chicago:20260304T130000
DTSTAMP:20260423T004241
CREATED:20251230T013454Z
LAST-MODIFIED:20251230T013454Z
UID:28852-1772625600-1772629200@www.cardunaldogtraining.com
SUMMARY:Beginner Obedience
DESCRIPTION:
URL:https://www.cardunaldogtraining.com/event/beginner-obedience-46/2026-03-04/
LOCATION:CarDunAl Dog Training Club\, 10783 Wolf Dr.\, Huntley\, IL\, 60142\, United States
CATEGORIES:Beginners
END:VEVENT
BEGIN:VEVENT
DTSTART;TZID=America/Chicago:20260304T110000
DTEND;TZID=America/Chicago:20260304T120000
DTSTAMP:20260423T004241
CREATED:20251230T012457Z
LAST-MODIFIED:20251230T013117Z
UID:28816-1772622000-1772625600@www.cardunaldogtraining.com
SUMMARY:Novice Obedience
DESCRIPTION:
URL:https://www.cardunaldogtraining.com/event/novice-obedience-33/2026-03-04/
LOCATION:CarDunAl Dog Training Club\, 10783 Wolf Dr.\, Huntley\, IL\, 60142\, United States
CATEGORIES:Advanced
END:VEVENT
BEGIN:VEVENT
DTSTART;TZID=America/Chicago:20260304T100000
DTEND;TZID=America/Chicago:20260304T120000
DTSTAMP:20260423T004241
CREATED:20251231T012521Z
LAST-MODIFIED:20251231T012521Z
UID:29331-1772618400-1772625600@www.cardunaldogtraining.com
SUMMARY:Obedience Drop-In Training
DESCRIPTION:
URL:https://www.cardunaldogtraining.com/event/obedience-drop-in-training-3/2026-03-04/
LOCATION:CarDunAl Dog Training Club\, 10783 Wolf Dr.\, Huntley\, IL\, 60142\, United States
CATEGORIES:Drop In Training
END:VEVENT
BEGIN:VEVENT
DTSTART;TZID=America/Chicago:20260304T100000
DTEND;TZID=America/Chicago:20260304T110000
DTSTAMP:20260423T004241
CREATED:20251230T021220Z
LAST-MODIFIED:20251230T021220Z
UID:28911-1772618400-1772622000@www.cardunaldogtraining.com
SUMMARY:Open Obedience
DESCRIPTION:
URL:https://www.cardunaldogtraining.com/event/open-obedience-27/2026-03-04/
LOCATION:CarDunAl Dog Training Club\, 10783 Wolf Dr.\, Huntley\, IL\, 60142\, United States
CATEGORIES:Advanced
END:VEVENT
BEGIN:VEVENT
DTSTART;TZID=America/Chicago:20260304T100000
DTEND;TZID=America/Chicago:20260304T110000
DTSTAMP:20260423T004241
CREATED:20251230T012327Z
LAST-MODIFIED:20251230T012327Z
UID:28756-1772618400-1772622000@www.cardunaldogtraining.com
SUMMARY:Novice Obedience
DESCRIPTION:
URL:https://www.cardunaldogtraining.com/event/novice-obedience-32/2026-03-04/
LOCATION:CarDunAl Dog Training Club\, 10783 Wolf Dr.\, Huntley\, IL\, 60142\, United States
CATEGORIES:Advanced
END:VEVENT
BEGIN:VEVENT
DTSTART;TZID=America/Chicago:20260304T090000
DTEND;TZID=America/Chicago:20260304T100000
DTSTAMP:20260423T004241
CREATED:20251231T002901Z
LAST-MODIFIED:20251231T002901Z
UID:29091-1772614800-1772618400@www.cardunaldogtraining.com
SUMMARY:Open/Utility Obedience – No Instructor
DESCRIPTION:
URL:https://www.cardunaldogtraining.com/event/open-utility-obedience-no-instructor-24/2026-03-04/
LOCATION:CarDunAl Dog Training Club\, 10783 Wolf Dr.\, Huntley\, IL\, 60142\, United States
CATEGORIES:Advanced
END:VEVENT
BEGIN:VEVENT
DTSTART;TZID=America/Chicago:20260303T190000
DTEND;TZID=America/Chicago:20260303T200000
DTSTAMP:20260423T004241
CREATED:20251231T011408Z
LAST-MODIFIED:20251231T011408Z
UID:29220-1772564400-1772568000@www.cardunaldogtraining.com
SUMMARY:Novice Rally Class
DESCRIPTION:
URL:https://www.cardunaldogtraining.com/event/novice-rally-class/2026-03-03/
LOCATION:CarDunAl Dog Training Club\, 10783 Wolf Dr.\, Huntley\, IL\, 60142\, United States
CATEGORIES:Advanced
END:VEVENT
BEGIN:VEVENT
DTSTART;TZID=America/Chicago:20260303T190000
DTEND;TZID=America/Chicago:20260303T200000
DTSTAMP:20260423T004241
CREATED:20251231T002510Z
LAST-MODIFIED:20251231T002510Z
UID:29079-1772564400-1772568000@www.cardunaldogtraining.com
SUMMARY:Competition Agility Level 5
DESCRIPTION:
URL:https://www.cardunaldogtraining.com/event/competition-agility-level-5-14/2026-03-03/
LOCATION:CarDunAl Dog Training Club\, 10783 Wolf Dr.\, Huntley\, IL\, 60142\, United States
CATEGORIES:Agility
END:VEVENT
BEGIN:VEVENT
DTSTART;TZID=America/Chicago:20260303T180000
DTEND;TZID=America/Chicago:20260303T190000
DTSTAMP:20260423T004241
CREATED:20251230T011046Z
LAST-MODIFIED:20251230T011850Z
UID:28731-1772560800-1772564400@www.cardunaldogtraining.com
SUMMARY:Puppy Class Obedience
DESCRIPTION:
URL:https://www.cardunaldogtraining.com/event/puppy-class-obedience-17/2026-03-03/
LOCATION:CarDunAl Dog Training Club\, 10783 Wolf Dr.\, Huntley\, IL\, 60142\, United States
CATEGORIES:AKC Star Puppy / Pre-Beginners Class
END:VEVENT
BEGIN:VEVENT
DTSTART;TZID=America/Chicago:20260303T141500
DTEND;TZID=America/Chicago:20260303T151500
DTSTAMP:20260423T004241
CREATED:20251231T004300Z
LAST-MODIFIED:20251231T004300Z
UID:29157-1772547300-1772550900@www.cardunaldogtraining.com
SUMMARY:Scent Work Level 1
DESCRIPTION:
URL:https://www.cardunaldogtraining.com/event/scent-work-level-1-11/2026-03-03/
LOCATION:CarDunAl Dog Training Club\, 10783 Wolf Dr.\, Huntley\, IL\, 60142\, United States
CATEGORIES:Scent Work
END:VEVENT
BEGIN:VEVENT
DTSTART;TZID=America/Chicago:20260303T130000
DTEND;TZID=America/Chicago:20260303T140000
DTSTAMP:20260423T004241
CREATED:20251231T004141Z
LAST-MODIFIED:20251231T004141Z
UID:29146-1772542800-1772546400@www.cardunaldogtraining.com
SUMMARY:Scent Work Level 2
DESCRIPTION:
URL:https://www.cardunaldogtraining.com/event/scent-work-level-2-9/2026-03-03/
LOCATION:CarDunAl Dog Training Club\, 10783 Wolf Dr.\, Huntley\, IL\, 60142\, United States
CATEGORIES:Scent Work
END:VEVENT
BEGIN:VEVENT
DTSTART;TZID=America/Chicago:20260303T113000
DTEND;TZID=America/Chicago:20260303T123000
DTSTAMP:20260423T004241
CREATED:20251231T003954Z
LAST-MODIFIED:20251231T003954Z
UID:29135-1772537400-1772541000@www.cardunaldogtraining.com
SUMMARY:Scent Work Level 3
DESCRIPTION:
URL:https://www.cardunaldogtraining.com/event/scent-work-level-3-18/2026-03-03/
LOCATION:CarDunAl Dog Training Club\, 10783 Wolf Dr.\, Huntley\, IL\, 60142\, United States
CATEGORIES:Scent Work
END:VEVENT
BEGIN:VEVENT
DTSTART;TZID=America/Chicago:20260303T101500
DTEND;TZID=America/Chicago:20260303T111500
DTSTAMP:20260423T004241
CREATED:20251231T003847Z
LAST-MODIFIED:20251231T003847Z
UID:29124-1772532900-1772536500@www.cardunaldogtraining.com
SUMMARY:Scent Work Level 3
DESCRIPTION:
URL:https://www.cardunaldogtraining.com/event/scent-work-level-3-17/2026-03-03/
LOCATION:CarDunAl Dog Training Club\, 10783 Wolf Dr.\, Huntley\, IL\, 60142\, United States
CATEGORIES:Scent Work
END:VEVENT
END:VCALENDAR