BEGIN:VCALENDAR
VERSION:2.0
PRODID:-//Car-Dun-Al Dog Obedience Training Club - ECPv6.15.17.1//NONSGML v1.0//EN
CALSCALE:GREGORIAN
METHOD:PUBLISH
X-WR-CALNAME:Car-Dun-Al Dog Obedience Training Club
X-ORIGINAL-URL:https://www.cardunaldogtraining.com
X-WR-CALDESC:Events for Car-Dun-Al Dog Obedience Training Club
REFRESH-INTERVAL;VALUE=DURATION:PT1H
X-Robots-Tag:noindex
X-PUBLISHED-TTL:PT1H
BEGIN:VTIMEZONE
TZID:America/Chicago
BEGIN:DAYLIGHT
TZOFFSETFROM:-0600
TZOFFSETTO:-0500
TZNAME:CDT
DTSTART:20230312T080000
END:DAYLIGHT
BEGIN:STANDARD
TZOFFSETFROM:-0500
TZOFFSETTO:-0600
TZNAME:CST
DTSTART:20231105T070000
END:STANDARD
BEGIN:DAYLIGHT
TZOFFSETFROM:-0600
TZOFFSETTO:-0500
TZNAME:CDT
DTSTART:20240310T080000
END:DAYLIGHT
BEGIN:STANDARD
TZOFFSETFROM:-0500
TZOFFSETTO:-0600
TZNAME:CST
DTSTART:20241103T070000
END:STANDARD
BEGIN:DAYLIGHT
TZOFFSETFROM:-0600
TZOFFSETTO:-0500
TZNAME:CDT
DTSTART:20250309T080000
END:DAYLIGHT
BEGIN:STANDARD
TZOFFSETFROM:-0500
TZOFFSETTO:-0600
TZNAME:CST
DTSTART:20251102T070000
END:STANDARD
END:VTIMEZONE
BEGIN:VEVENT
DTSTART;TZID=America/Chicago:20241003T133000
DTEND;TZID=America/Chicago:20241003T143000
DTSTAMP:20260422T232253
CREATED:20240904T013005Z
LAST-MODIFIED:20240904T013005Z
UID:23907-1727962200-1727965800@www.cardunaldogtraining.com
SUMMARY:Beginner Obedience
DESCRIPTION:
URL:https://www.cardunaldogtraining.com/event/beginner-obedience-29/2024-10-03/
LOCATION:CarDunAl Dog Training Club\, 10783 Wolf Dr.\, Huntley\, IL\, 60142\, United States
CATEGORIES:Beginners
END:VEVENT
BEGIN:VEVENT
DTSTART;TZID=America/Chicago:20241003T173000
DTEND;TZID=America/Chicago:20241003T190000
DTSTAMP:20260422T232253
CREATED:20231123T003905Z
LAST-MODIFIED:20240906T232110Z
UID:20150-1727976600-1727982000@www.cardunaldogtraining.com
SUMMARY:Drop In Rally Training
DESCRIPTION:
URL:https://www.cardunaldogtraining.com/event/drop-in-rally-training-2/2024-10-03/
LOCATION:CarDunAl Dog Training Club\, 10783 Wolf Dr.\, Huntley\, IL\, 60142\, United States
END:VEVENT
BEGIN:VEVENT
DTSTART;TZID=America/Chicago:20241003T174500
DTEND;TZID=America/Chicago:20241003T184500
DTSTAMP:20260422T232253
CREATED:20240904T012028Z
LAST-MODIFIED:20240904T012028Z
UID:23787-1727977500-1727981100@www.cardunaldogtraining.com
SUMMARY:Open/Utility Obedience – No Instructor
DESCRIPTION:
URL:https://www.cardunaldogtraining.com/event/open-utility-obedience-no-instructor-13/2024-10-03/
LOCATION:CarDunAl Dog Training Club\, 10783 Wolf Dr.\, Huntley\, IL\, 60142\, United States
CATEGORIES:Advanced
END:VEVENT
BEGIN:VEVENT
DTSTART;TZID=America/Chicago:20241003T180000
DTEND;TZID=America/Chicago:20241003T190000
DTSTAMP:20260422T232253
CREATED:20240909T015026Z
LAST-MODIFIED:20240909T015026Z
UID:24085-1727978400-1727982000@www.cardunaldogtraining.com
SUMMARY:Beginner Novice Obedience
DESCRIPTION:
URL:https://www.cardunaldogtraining.com/event/beginner-novice-obedience-11/2024-10-03/
LOCATION:CarDunAl Dog Training Club\, 10783 Wolf Dr.\, Huntley\, IL\, 60142\, United States
CATEGORIES:Agility
END:VEVENT
BEGIN:VEVENT
DTSTART;TZID=America/Chicago:20241003T180000
DTEND;TZID=America/Chicago:20241003T190000
DTSTAMP:20260422T232253
CREATED:20240909T020348Z
LAST-MODIFIED:20240909T020348Z
UID:24107-1727978400-1727982000@www.cardunaldogtraining.com
SUMMARY:Pre-Utility Obedience
DESCRIPTION:
URL:https://www.cardunaldogtraining.com/event/pre-utility-obedience-3/2024-10-03/
LOCATION:CarDunAl Dog Training Club\, 10783 Wolf Dr.\, Huntley\, IL\, 60142\, United States
CATEGORIES:Agility
END:VEVENT
BEGIN:VEVENT
DTSTART;TZID=America/Chicago:20241003T184500
DTEND;TZID=America/Chicago:20241003T194500
DTSTAMP:20260422T232253
CREATED:20240904T013146Z
LAST-MODIFIED:20240904T013615Z
UID:23846-1727981100-1727984700@www.cardunaldogtraining.com
SUMMARY:Beginner Obedience
DESCRIPTION:
URL:https://www.cardunaldogtraining.com/event/beginner-obedience-30/2024-10-03/
LOCATION:CarDunAl Dog Training Club\, 10783 Wolf Dr.\, Huntley\, IL\, 60142\, United States
CATEGORIES:Beginners
END:VEVENT
BEGIN:VEVENT
DTSTART;TZID=America/Chicago:20241003T190000
DTEND;TZID=America/Chicago:20241003T200000
DTSTAMP:20260422T232253
CREATED:20240904T011513Z
LAST-MODIFIED:20240904T011513Z
UID:23776-1727982000-1727985600@www.cardunaldogtraining.com
SUMMARY:Novice Obedience
DESCRIPTION:
URL:https://www.cardunaldogtraining.com/event/novice-obedience-21/2024-10-03/
LOCATION:CarDunAl Dog Training Club\, 10783 Wolf Dr.\, Huntley\, IL\, 60142\, United States
CATEGORIES:Advanced
END:VEVENT
BEGIN:VEVENT
DTSTART;TZID=America/Chicago:20241003T190000
DTEND;TZID=America/Chicago:20241003T200000
DTSTAMP:20260422T232253
CREATED:20240909T015151Z
LAST-MODIFIED:20240909T015151Z
UID:24096-1727982000-1727985600@www.cardunaldogtraining.com
SUMMARY:Beginner Novice Obedience
DESCRIPTION:
URL:https://www.cardunaldogtraining.com/event/beginner-novice-obedience-12/2024-10-03/
LOCATION:CarDunAl Dog Training Club\, 10783 Wolf Dr.\, Huntley\, IL\, 60142\, United States
CATEGORIES:Agility
END:VEVENT
BEGIN:VEVENT
DTSTART;TZID=America/Chicago:20241003T190000
DTEND;TZID=America/Chicago:20241003T200000
DTSTAMP:20260422T232253
CREATED:20240909T020537Z
LAST-MODIFIED:20240909T020537Z
UID:24119-1727982000-1727985600@www.cardunaldogtraining.com
SUMMARY:Utility Obedience
DESCRIPTION:
URL:https://www.cardunaldogtraining.com/event/utility-obedience-7/2024-10-03/
LOCATION:CarDunAl Dog Training Club\, 10783 Wolf Dr.\, Huntley\, IL\, 60142\, United States
CATEGORIES:Agility
END:VEVENT
BEGIN:VEVENT
DTSTART;TZID=America/Chicago:20241003T200000
DTEND;TZID=America/Chicago:20241003T210000
DTSTAMP:20260422T232253
CREATED:20240904T014025Z
LAST-MODIFIED:20240904T014142Z
UID:23877-1727985600-1727989200@www.cardunaldogtraining.com
SUMMARY:Beginner Obedience
DESCRIPTION:
URL:https://www.cardunaldogtraining.com/event/beginner-obedience-31/2024-10-03/
LOCATION:CarDunAl Dog Training Club\, 10783 Wolf Dr.\, Huntley\, IL\, 60142\, United States
CATEGORIES:Beginners
END:VEVENT
BEGIN:VEVENT
DTSTART;TZID=America/Chicago:20241003T200000
DTEND;TZID=America/Chicago:20241003T210000
DTSTAMP:20260422T232253
CREATED:20240904T020056Z
LAST-MODIFIED:20240904T020056Z
UID:23917-1727985600-1727989200@www.cardunaldogtraining.com
SUMMARY:Pre-Open Obedience
DESCRIPTION:
URL:https://www.cardunaldogtraining.com/event/pre-open-obedience-14/2024-10-03/
LOCATION:CarDunAl Dog Training Club\, 10783 Wolf Dr.\, Huntley\, IL\, 60142\, United States
CATEGORIES:Advanced
END:VEVENT
BEGIN:VEVENT
DTSTART;TZID=America/Chicago:20241003T200000
DTEND;TZID=America/Chicago:20241003T210000
DTSTAMP:20260422T232253
CREATED:20240904T020218Z
LAST-MODIFIED:20240904T020218Z
UID:23928-1727985600-1727989200@www.cardunaldogtraining.com
SUMMARY:Open Obedience
DESCRIPTION:
URL:https://www.cardunaldogtraining.com/event/open-obedience-17/2024-10-03/
LOCATION:CarDunAl Dog Training Club\, 10783 Wolf Dr.\, Huntley\, IL\, 60142\, United States
CATEGORIES:Advanced
END:VEVENT
BEGIN:VEVENT
DTSTART;TZID=America/Chicago:20241003T200000
DTEND;TZID=America/Chicago:20241003T210000
DTSTAMP:20260422T232253
CREATED:20240909T020708Z
LAST-MODIFIED:20240909T020708Z
UID:24130-1727985600-1727989200@www.cardunaldogtraining.com
SUMMARY:Utility Obedience
DESCRIPTION:
URL:https://www.cardunaldogtraining.com/event/utility-obedience-8/2024-10-03/
LOCATION:CarDunAl Dog Training Club\, 10783 Wolf Dr.\, Huntley\, IL\, 60142\, United States
CATEGORIES:Agility
END:VEVENT
BEGIN:VEVENT
DTSTART;TZID=America/Chicago:20241003T210000
DTEND;TZID=America/Chicago:20241003T220000
DTSTAMP:20260422T232253
CREATED:20240904T012156Z
LAST-MODIFIED:20240904T012156Z
UID:23799-1727989200-1727992800@www.cardunaldogtraining.com
SUMMARY:Open/Utility Obedience – No Instructor
DESCRIPTION:
URL:https://www.cardunaldogtraining.com/event/open-utility-obedience-no-instructor-14/2024-10-03/
LOCATION:CarDunAl Dog Training Club\, 10783 Wolf Dr.\, Huntley\, IL\, 60142\, United States
CATEGORIES:Advanced
END:VEVENT
BEGIN:VEVENT
DTSTART;VALUE=DATE:20241005
DTEND;VALUE=DATE:20241006
DTSTAMP:20260422T232253
CREATED:20231019T021207Z
LAST-MODIFIED:20231023T182018Z
UID:19375-1728086400-1728172799@www.cardunaldogtraining.com
SUMMARY:Keeshond Specialty
DESCRIPTION:
URL:https://www.cardunaldogtraining.com/event/keeshond-specialty/
LOCATION:CarDunAl Dog Training Club\, 10783 Wolf Dr.\, Huntley\, IL\, 60142\, United States
CATEGORIES:Trials
END:VEVENT
BEGIN:VEVENT
DTSTART;VALUE=DATE:20241006
DTEND;VALUE=DATE:20241007
DTSTAMP:20260422T232253
CREATED:20231019T021253Z
LAST-MODIFIED:20231023T181941Z
UID:19377-1728172800-1728259199@www.cardunaldogtraining.com
SUMMARY:Keeshond Specialty
DESCRIPTION:
URL:https://www.cardunaldogtraining.com/event/keeshond-specialty-2/
LOCATION:CarDunAl Dog Training Club\, 10783 Wolf Dr.\, Huntley\, IL\, 60142\, United States
CATEGORIES:Trials
END:VEVENT
BEGIN:VEVENT
DTSTART;TZID=America/Chicago:20241007T090000
DTEND;TZID=America/Chicago:20241007T100000
DTSTAMP:20260422T232253
CREATED:20240909T014218Z
LAST-MODIFIED:20240909T014218Z
UID:24075-1728291600-1728295200@www.cardunaldogtraining.com
SUMMARY:Advanced Agility Level 6
DESCRIPTION:
URL:https://www.cardunaldogtraining.com/event/advanced-agility-level-6/2024-10-07/
LOCATION:CarDunAl Dog Training Club\, 10783 Wolf Dr.\, Huntley\, IL\, 60142\, United States
CATEGORIES:Agility
END:VEVENT
BEGIN:VEVENT
DTSTART;TZID=America/Chicago:20241007T170000
DTEND;TZID=America/Chicago:20241007T180000
DTSTAMP:20260422T232253
CREATED:20240909T013618Z
LAST-MODIFIED:20240909T013618Z
UID:24031-1728320400-1728324000@www.cardunaldogtraining.com
SUMMARY:Advanced Agility Level 4
DESCRIPTION:
URL:https://www.cardunaldogtraining.com/event/advanced-agility-level-4-9/2024-10-07/
LOCATION:CarDunAl Dog Training Club\, 10783 Wolf Dr.\, Huntley\, IL\, 60142\, United States
CATEGORIES:Agility
END:VEVENT
BEGIN:VEVENT
DTSTART;TZID=America/Chicago:20241007T180000
DTEND;TZID=America/Chicago:20241007T190000
DTSTAMP:20260422T232253
CREATED:20240909T011647Z
LAST-MODIFIED:20240909T011647Z
UID:23962-1728324000-1728327600@www.cardunaldogtraining.com
SUMMARY:Agility Foundation Class Level 0
DESCRIPTION:
URL:https://www.cardunaldogtraining.com/event/agility-foundation-class-level-0-4/2024-10-07/
LOCATION:CarDunAl Dog Training Club\, 10783 Wolf Dr.\, Huntley\, IL\, 60142\, United States
CATEGORIES:Agility
END:VEVENT
BEGIN:VEVENT
DTSTART;TZID=America/Chicago:20241007T180000
DTEND;TZID=America/Chicago:20241007T190000
DTSTAMP:20260422T232253
CREATED:20240909T013819Z
LAST-MODIFIED:20240909T013819Z
UID:24042-1728324000-1728327600@www.cardunaldogtraining.com
SUMMARY:Advanced Agility Level 4
DESCRIPTION:
URL:https://www.cardunaldogtraining.com/event/advanced-agility-level-4-10/2024-10-07/
LOCATION:CarDunAl Dog Training Club\, 10783 Wolf Dr.\, Huntley\, IL\, 60142\, United States
CATEGORIES:Agility
END:VEVENT
BEGIN:VEVENT
DTSTART;TZID=America/Chicago:20241007T190000
DTEND;TZID=America/Chicago:20241007T200000
DTSTAMP:20260422T232253
CREATED:20240909T012115Z
LAST-MODIFIED:20240909T012115Z
UID:23984-1728327600-1728331200@www.cardunaldogtraining.com
SUMMARY:Intermediate Agility Level 2
DESCRIPTION:
URL:https://www.cardunaldogtraining.com/event/intermediate-agility-level-2-5/2024-10-07/
LOCATION:CarDunAl Dog Training Club\, 10783 Wolf Dr.\, Huntley\, IL\, 60142\, United States
CATEGORIES:Agility
END:VEVENT
BEGIN:VEVENT
DTSTART;TZID=America/Chicago:20241007T190000
DTEND;TZID=America/Chicago:20241007T200000
DTSTAMP:20260422T232253
CREATED:20240909T013936Z
LAST-MODIFIED:20240909T013936Z
UID:24053-1728327600-1728331200@www.cardunaldogtraining.com
SUMMARY:Advanced Agility Level 5
DESCRIPTION:
URL:https://www.cardunaldogtraining.com/event/advanced-agility-level-5/2024-10-07/
LOCATION:CarDunAl Dog Training Club\, 10783 Wolf Dr.\, Huntley\, IL\, 60142\, United States
CATEGORIES:Agility
END:VEVENT
BEGIN:VEVENT
DTSTART;TZID=America/Chicago:20241007T190000
DTEND;TZID=America/Chicago:20241007T210000
DTSTAMP:20260422T232253
CREATED:20231019T021556Z
LAST-MODIFIED:20231019T021556Z
UID:19379-1728327600-1728334800@www.cardunaldogtraining.com
SUMMARY:Board Meeting
DESCRIPTION:
URL:https://www.cardunaldogtraining.com/event/board-meeting-5/
LOCATION:CarDunAl Dog Training Club\, 10783 Wolf Dr.\, Huntley\, IL\, 60142\, United States
CATEGORIES:Meeting
END:VEVENT
BEGIN:VEVENT
DTSTART;TZID=America/Chicago:20241007T200000
DTEND;TZID=America/Chicago:20241007T210000
DTSTAMP:20260422T232253
CREATED:20240909T011916Z
LAST-MODIFIED:20240909T011916Z
UID:23973-1728331200-1728334800@www.cardunaldogtraining.com
SUMMARY:Beginner Agility Level 1
DESCRIPTION:
URL:https://www.cardunaldogtraining.com/event/beginner-agility-level-1-5/2024-10-07/
LOCATION:CarDunAl Dog Training Club\, 10783 Wolf Dr.\, Huntley\, IL\, 60142\, United States
CATEGORIES:Agility
END:VEVENT
BEGIN:VEVENT
DTSTART;TZID=America/Chicago:20241007T200000
DTEND;TZID=America/Chicago:20241007T210000
DTSTAMP:20260422T232253
CREATED:20240909T014109Z
LAST-MODIFIED:20240909T014109Z
UID:24064-1728331200-1728334800@www.cardunaldogtraining.com
SUMMARY:Advanced Agility Level 5
DESCRIPTION:
URL:https://www.cardunaldogtraining.com/event/advanced-agility-level-5-2/2024-10-07/
LOCATION:CarDunAl Dog Training Club\, 10783 Wolf Dr.\, Huntley\, IL\, 60142\, United States
CATEGORIES:Agility
END:VEVENT
BEGIN:VEVENT
DTSTART;TZID=America/Chicago:20241008T090000
DTEND;TZID=America/Chicago:20241008T100000
DTSTAMP:20260422T232253
CREATED:20240909T022204Z
LAST-MODIFIED:20240909T022204Z
UID:24216-1728378000-1728381600@www.cardunaldogtraining.com
SUMMARY:Scent Work Level 3
DESCRIPTION:
URL:https://www.cardunaldogtraining.com/event/scent-work-level-3-7/2024-10-08/
LOCATION:CarDunAl Dog Training Club\, 10783 Wolf Dr.\, Huntley\, IL\, 60142\, United States
CATEGORIES:Scent Work
END:VEVENT
BEGIN:VEVENT
DTSTART;TZID=America/Chicago:20241008T100000
DTEND;TZID=America/Chicago:20241008T110000
DTSTAMP:20260422T232253
CREATED:20240909T021521Z
LAST-MODIFIED:20240909T021521Z
UID:24175-1728381600-1728385200@www.cardunaldogtraining.com
SUMMARY:Scent Work Level 3
DESCRIPTION:
URL:https://www.cardunaldogtraining.com/event/scent-work-level-3-5/2024-10-08/
LOCATION:CarDunAl Dog Training Club\, 10783 Wolf Dr.\, Huntley\, IL\, 60142\, United States
CATEGORIES:Scent Work
END:VEVENT
BEGIN:VEVENT
DTSTART;TZID=America/Chicago:20241008T110000
DTEND;TZID=America/Chicago:20241008T120000
DTSTAMP:20260422T232253
CREATED:20240909T021626Z
LAST-MODIFIED:20240909T021711Z
UID:24186-1728385200-1728388800@www.cardunaldogtraining.com
SUMMARY:Scent Work Level 3
DESCRIPTION:
URL:https://www.cardunaldogtraining.com/event/scent-work-level-3-6/2024-10-08/
LOCATION:CarDunAl Dog Training Club\, 10783 Wolf Dr.\, Huntley\, IL\, 60142\, United States
CATEGORIES:Scent Work
END:VEVENT
BEGIN:VEVENT
DTSTART;TZID=America/Chicago:20241008T123000
DTEND;TZID=America/Chicago:20241008T133000
DTSTAMP:20260422T232253
CREATED:20240909T021034Z
LAST-MODIFIED:20240909T022008Z
UID:24142-1728390600-1728394200@www.cardunaldogtraining.com
SUMMARY:Scent Work Level 1 (New Students)
DESCRIPTION:
URL:https://www.cardunaldogtraining.com/event/scent-work-level-1-5/2024-10-08/
LOCATION:CarDunAl Dog Training Club\, 10783 Wolf Dr.\, Huntley\, IL\, 60142\, United States
CATEGORIES:Scent Work
END:VEVENT
BEGIN:VEVENT
DTSTART;TZID=America/Chicago:20241008T140000
DTEND;TZID=America/Chicago:20241008T150000
DTSTAMP:20260422T232253
CREATED:20240909T021221Z
LAST-MODIFIED:20240909T021221Z
UID:24153-1728396000-1728399600@www.cardunaldogtraining.com
SUMMARY:Scent Work Level 2
DESCRIPTION:
URL:https://www.cardunaldogtraining.com/event/scent-work-level-2-4/2024-10-08/
LOCATION:CarDunAl Dog Training Club\, 10783 Wolf Dr.\, Huntley\, IL\, 60142\, United States
CATEGORIES:Scent Work
END:VEVENT
END:VCALENDAR