BEGIN:VCALENDAR
VERSION:2.0
PRODID:-//Car-Dun-Al Dog Obedience Training Club - ECPv6.15.17.1//NONSGML v1.0//EN
CALSCALE:GREGORIAN
METHOD:PUBLISH
X-WR-CALNAME:Car-Dun-Al Dog Obedience Training Club
X-ORIGINAL-URL:https://www.cardunaldogtraining.com
X-WR-CALDESC:Events for Car-Dun-Al Dog Obedience Training Club
REFRESH-INTERVAL;VALUE=DURATION:PT1H
X-Robots-Tag:noindex
X-PUBLISHED-TTL:PT1H
BEGIN:VTIMEZONE
TZID:America/Chicago
BEGIN:DAYLIGHT
TZOFFSETFROM:-0600
TZOFFSETTO:-0500
TZNAME:CDT
DTSTART:20220313T080000
END:DAYLIGHT
BEGIN:STANDARD
TZOFFSETFROM:-0500
TZOFFSETTO:-0600
TZNAME:CST
DTSTART:20221106T070000
END:STANDARD
BEGIN:DAYLIGHT
TZOFFSETFROM:-0600
TZOFFSETTO:-0500
TZNAME:CDT
DTSTART:20230312T080000
END:DAYLIGHT
BEGIN:STANDARD
TZOFFSETFROM:-0500
TZOFFSETTO:-0600
TZNAME:CST
DTSTART:20231105T070000
END:STANDARD
BEGIN:DAYLIGHT
TZOFFSETFROM:-0600
TZOFFSETTO:-0500
TZNAME:CDT
DTSTART:20240310T080000
END:DAYLIGHT
BEGIN:STANDARD
TZOFFSETFROM:-0500
TZOFFSETTO:-0600
TZNAME:CST
DTSTART:20241103T070000
END:STANDARD
END:VTIMEZONE
BEGIN:VEVENT
DTSTART;TZID=America/Chicago:20230329T100000
DTEND;TZID=America/Chicago:20230329T110000
DTSTAMP:20260422T233538
CREATED:20230328T142413Z
LAST-MODIFIED:20230328T142413Z
UID:16967-1680084000-1680087600@www.cardunaldogtraining.com
SUMMARY:Open Obedience
DESCRIPTION:
URL:https://www.cardunaldogtraining.com/event/open-obedience-5/2023-03-29/
LOCATION:CarDunAl Dog Training Club\, 10783 Wolf Dr.\, Huntley\, IL\, 60142\, United States
CATEGORIES:Advanced
END:VEVENT
BEGIN:VEVENT
DTSTART;TZID=America/Chicago:20230329T100000
DTEND;TZID=America/Chicago:20230329T110000
DTSTAMP:20260422T233538
CREATED:20230328T140734Z
LAST-MODIFIED:20230328T140734Z
UID:16872-1680084000-1680087600@www.cardunaldogtraining.com
SUMMARY:Novice Obedience
DESCRIPTION:
URL:https://www.cardunaldogtraining.com/event/novice-obedience-9/2023-03-29/
LOCATION:CarDunAl Dog Training Club\, 10783 Wolf Dr.\, Huntley\, IL\, 60142\, United States
CATEGORIES:Advanced
END:VEVENT
BEGIN:VEVENT
DTSTART;TZID=America/Chicago:20230329T090000
DTEND;TZID=America/Chicago:20230329T100000
DTSTAMP:20260422T233538
CREATED:20230328T141217Z
LAST-MODIFIED:20230328T141217Z
UID:16893-1680080400-1680084000@www.cardunaldogtraining.com
SUMMARY:Open/Utility Obedience - No Instructor
DESCRIPTION:
URL:https://www.cardunaldogtraining.com/event/open-utility-obedience-no-instructor-4/2023-03-29/
LOCATION:CarDunAl Dog Training Club\, 10783 Wolf Dr.\, Huntley\, IL\, 60142\, United States
CATEGORIES:Advanced
END:VEVENT
BEGIN:VEVENT
DTSTART;TZID=America/Chicago:20230328T180000
DTEND;TZID=America/Chicago:20230328T190000
DTSTAMP:20260422T233538
CREATED:20230328T140250Z
LAST-MODIFIED:20230328T140250Z
UID:16850-1680026400-1680030000@www.cardunaldogtraining.com
SUMMARY:Puppy Class
DESCRIPTION:
URL:https://www.cardunaldogtraining.com/event/puppy-class-10/2023-03-28/
LOCATION:CarDunAl Dog Training Club\, 10783 Wolf Dr.\, Huntley\, IL\, 60142\, United States
CATEGORIES:AKC Star Puppy / Pre-Beginners Class
END:VEVENT
BEGIN:VEVENT
DTSTART;TZID=America/Chicago:20230328T140000
DTEND;TZID=America/Chicago:20230328T150000
DTSTAMP:20260422T233538
CREATED:20230328T145757Z
LAST-MODIFIED:20230328T145757Z
UID:17151-1680012000-1680015600@www.cardunaldogtraining.com
SUMMARY:Scentwork Level 1
DESCRIPTION:
URL:https://www.cardunaldogtraining.com/event/scentwork-level-1/2023-03-28/
LOCATION:CarDunAl Dog Training Club\, 10783 Wolf Dr.\, Huntley\, IL\, 60142\, United States
CATEGORIES:Scent Work
END:VEVENT
BEGIN:VEVENT
DTSTART;TZID=America/Chicago:20230328T103000
DTEND;TZID=America/Chicago:20230328T120000
DTSTAMP:20260422T233538
CREATED:20230328T145654Z
LAST-MODIFIED:20230328T145654Z
UID:17140-1679999400-1680004800@www.cardunaldogtraining.com
SUMMARY:Scentwork Level 3B
DESCRIPTION:
URL:https://www.cardunaldogtraining.com/event/scentwork-level-3b/2023-03-28/
LOCATION:CarDunAl Dog Training Club\, 10783 Wolf Dr.\, Huntley\, IL\, 60142\, United States
CATEGORIES:Scent Work
END:VEVENT
BEGIN:VEVENT
DTSTART;TZID=America/Chicago:20230328T083000
DTEND;TZID=America/Chicago:20230328T100000
DTSTAMP:20260422T233538
CREATED:20230328T145551Z
LAST-MODIFIED:20230328T145551Z
UID:17129-1679992200-1679997600@www.cardunaldogtraining.com
SUMMARY:Scentwork Level 3A
DESCRIPTION:
URL:https://www.cardunaldogtraining.com/event/scentwork-level-3a/2023-03-28/
LOCATION:CarDunAl Dog Training Club\, 10783 Wolf Dr.\, Huntley\, IL\, 60142\, United States
CATEGORIES:Scent Work
END:VEVENT
BEGIN:VEVENT
DTSTART;TZID=America/Chicago:20230327T200000
DTEND;TZID=America/Chicago:20230327T210000
DTSTAMP:20260422T233538
CREATED:20230328T144226Z
LAST-MODIFIED:20230328T144226Z
UID:17098-1679947200-1679950800@www.cardunaldogtraining.com
SUMMARY:Level 5 Competition Agility
DESCRIPTION:
URL:https://www.cardunaldogtraining.com/event/level-5-competition-agility-4/2023-03-27/
LOCATION:CarDunAl Dog Training Club\, 10783 Wolf Dr.\, Huntley\, IL\, 60142\, United States
CATEGORIES:Agility
END:VEVENT
BEGIN:VEVENT
DTSTART;TZID=America/Chicago:20230327T200000
DTEND;TZID=America/Chicago:20230327T210000
DTSTAMP:20260422T233538
CREATED:20230328T143753Z
LAST-MODIFIED:20230328T143753Z
UID:17054-1679947200-1679950800@www.cardunaldogtraining.com
SUMMARY:Level 2 Intermediate Agility
DESCRIPTION:
URL:https://www.cardunaldogtraining.com/event/level-2-intermediate-agility-4/2023-03-27/
LOCATION:CarDunAl Dog Training Club\, 10783 Wolf Dr.\, Huntley\, IL\, 60142\, United States
CATEGORIES:Agility
END:VEVENT
BEGIN:VEVENT
DTSTART;TZID=America/Chicago:20230327T190000
DTEND;TZID=America/Chicago:20230327T200000
DTSTAMP:20260422T233538
CREATED:20230328T212941Z
LAST-MODIFIED:20230328T212941Z
UID:14080-1679943600-1679947200@www.cardunaldogtraining.com
SUMMARY:Level 1 Beginner Agility
DESCRIPTION:
URL:https://www.cardunaldogtraining.com/event/level-1-beginner-agility-3/2023-03-27/
LOCATION:IL\, United States
CATEGORIES:Agility
END:VEVENT
BEGIN:VEVENT
DTSTART;TZID=America/Chicago:20230327T190000
DTEND;TZID=America/Chicago:20230327T200000
DTSTAMP:20260422T233538
CREATED:20230328T144130Z
LAST-MODIFIED:20230328T144130Z
UID:17087-1679943600-1679947200@www.cardunaldogtraining.com
SUMMARY:Level 5 Competition Agility
DESCRIPTION:
URL:https://www.cardunaldogtraining.com/event/level-5-competition-agility-3/2023-03-27/
LOCATION:CarDunAl Dog Training Club\, 10783 Wolf Dr.\, Huntley\, IL\, 60142\, United States
CATEGORIES:Agility
END:VEVENT
BEGIN:VEVENT
DTSTART;TZID=America/Chicago:20230327T180000
DTEND;TZID=America/Chicago:20230327T190000
DTSTAMP:20260422T233538
CREATED:20230328T144022Z
LAST-MODIFIED:20230328T144022Z
UID:17076-1679940000-1679943600@www.cardunaldogtraining.com
SUMMARY:Level 4 Advanced Agility
DESCRIPTION:
URL:https://www.cardunaldogtraining.com/event/level-4-advanced-agility-5/2023-03-27/
LOCATION:CarDunAl Dog Training Club\, 10783 Wolf Dr.\, Huntley\, IL\, 60142\, United States
CATEGORIES:Agility
END:VEVENT
BEGIN:VEVENT
DTSTART;TZID=America/Chicago:20230327T090000
DTEND;TZID=America/Chicago:20230327T103000
DTSTAMP:20260422T233538
CREATED:20230328T144318Z
LAST-MODIFIED:20230328T144318Z
UID:17109-1679907600-1679913000@www.cardunaldogtraining.com
SUMMARY:Level 6 Master Competition Agility
DESCRIPTION:
URL:https://www.cardunaldogtraining.com/event/level-6-master-competition-agility-3/2023-03-27/
LOCATION:CarDunAl Dog Training Club\, 10783 Wolf Dr.\, Huntley\, IL\, 60142\, United States
CATEGORIES:Advanced
END:VEVENT
BEGIN:VEVENT
DTSTART;TZID=America/Chicago:20230326T190000
DTEND;TZID=America/Chicago:20230326T200000
DTSTAMP:20260422T233538
CREATED:20230328T143921Z
LAST-MODIFIED:20230328T143921Z
UID:17065-1679857200-1679860800@www.cardunaldogtraining.com
SUMMARY:Level 3 Intermediate II Agility
DESCRIPTION:
URL:https://www.cardunaldogtraining.com/event/level-3-intermediate-ii-agility/2023-03-26/
LOCATION:CarDunAl Dog Training Club\, 10783 Wolf Dr.\, Huntley\, IL\, 60142\, United States
CATEGORIES:Agility
END:VEVENT
BEGIN:VEVENT
DTSTART;VALUE=DATE:20230319
DTEND;VALUE=DATE:20230320
DTSTAMP:20260422T233538
CREATED:20221019T232237Z
LAST-MODIFIED:20221019T232237Z
UID:15371-1679184000-1679270399@www.cardunaldogtraining.com
SUMMARY:Car Dun Al Agility
DESCRIPTION:
URL:https://www.cardunaldogtraining.com/event/car-dun-al-agility-5/
LOCATION:CarDunAl Dog Training Club\, 10783 Wolf Dr.\, Huntley\, IL\, 60142\, United States
CATEGORIES:Trials
END:VEVENT
BEGIN:VEVENT
DTSTART;VALUE=DATE:20230318
DTEND;VALUE=DATE:20230319
DTSTAMP:20260422T233538
CREATED:20221019T232208Z
LAST-MODIFIED:20221019T232208Z
UID:15369-1679097600-1679183999@www.cardunaldogtraining.com
SUMMARY:Car Dun Al Agility
DESCRIPTION:
URL:https://www.cardunaldogtraining.com/event/car-dun-al-agility-4/
LOCATION:CarDunAl Dog Training Club\, 10783 Wolf Dr.\, Huntley\, IL\, 60142\, United States
CATEGORIES:Trials
END:VEVENT
BEGIN:VEVENT
DTSTART;VALUE=DATE:20230317
DTEND;VALUE=DATE:20230318
DTSTAMP:20260422T233538
CREATED:20221019T232124Z
LAST-MODIFIED:20221019T232124Z
UID:15367-1679011200-1679097599@www.cardunaldogtraining.com
SUMMARY:BMDC Agility
DESCRIPTION:
URL:https://www.cardunaldogtraining.com/event/bmdc-agility-2/
LOCATION:CarDunAl Dog Training Club\, 10783 Wolf Dr.\, Huntley\, IL\, 60142\, United States
CATEGORIES:Trials
END:VEVENT
BEGIN:VEVENT
DTSTART;VALUE=DATE:20230312
DTEND;VALUE=DATE:20230313
DTSTAMP:20260422T233538
CREATED:20221019T232024Z
LAST-MODIFIED:20221019T232024Z
UID:15365-1678579200-1678665599@www.cardunaldogtraining.com
SUMMARY:Great Lakes Belgian Tervuren Club
DESCRIPTION:
URL:https://www.cardunaldogtraining.com/event/great-lakes-belgian-tervuren-club-3/
LOCATION:CarDunAl Dog Training Club\, 10783 Wolf Dr.\, Huntley\, IL\, 60142\, United States
CATEGORIES:Trials
END:VEVENT
BEGIN:VEVENT
DTSTART;VALUE=DATE:20230311
DTEND;VALUE=DATE:20230312
DTSTAMP:20260422T233538
CREATED:20221019T231954Z
LAST-MODIFIED:20221019T231954Z
UID:15363-1678492800-1678579199@www.cardunaldogtraining.com
SUMMARY:Great Lakes Belgian Tervuren Club
DESCRIPTION:
URL:https://www.cardunaldogtraining.com/event/great-lakes-belgian-tervuren-club-2/
LOCATION:CarDunAl Dog Training Club\, 10783 Wolf Dr.\, Huntley\, IL\, 60142\, United States
CATEGORIES:Trials
END:VEVENT
BEGIN:VEVENT
DTSTART;VALUE=DATE:20230310
DTEND;VALUE=DATE:20230311
DTSTAMP:20260422T233538
CREATED:20221019T231923Z
LAST-MODIFIED:20221019T231923Z
UID:15361-1678406400-1678492799@www.cardunaldogtraining.com
SUMMARY:Great Lakes Belgian Tervuren Club
DESCRIPTION:
URL:https://www.cardunaldogtraining.com/event/great-lakes-belgian-tervuren-club/
LOCATION:CarDunAl Dog Training Club\, 10783 Wolf Dr.\, Huntley\, IL\, 60142\, United States
CATEGORIES:Trials
END:VEVENT
BEGIN:VEVENT
DTSTART;VALUE=DATE:20230305
DTEND;VALUE=DATE:20230306
DTSTAMP:20260422T233538
CREATED:20221226T033222Z
LAST-MODIFIED:20221226T033222Z
UID:16242-1677974400-1678060799@www.cardunaldogtraining.com
SUMMARY:CDA Scent Work Trial
DESCRIPTION:
URL:https://www.cardunaldogtraining.com/event/cda-scent-work-trial-4/
LOCATION:CarDunAl Dog Training Club\, 10783 Wolf Dr.\, Huntley\, IL\, 60142\, United States
CATEGORIES:Trials
END:VEVENT
BEGIN:VEVENT
DTSTART;VALUE=DATE:20230304
DTEND;VALUE=DATE:20230305
DTSTAMP:20260422T233538
CREATED:20221226T033133Z
LAST-MODIFIED:20221226T033133Z
UID:16240-1677888000-1677974399@www.cardunaldogtraining.com
SUMMARY:CDA Scent Work Trial
DESCRIPTION:
URL:https://www.cardunaldogtraining.com/event/cda-scent-work-trial-3/
LOCATION:CarDunAl Dog Training Club\, 10783 Wolf Dr.\, Huntley\, IL\, 60142\, United States
CATEGORIES:Trials
END:VEVENT
BEGIN:VEVENT
DTSTART;VALUE=DATE:20230303
DTEND;VALUE=DATE:20230304
DTSTAMP:20260422T233538
CREATED:20221019T231822Z
LAST-MODIFIED:20221019T231822Z
UID:15359-1677801600-1677887999@www.cardunaldogtraining.com
SUMMARY:Mat Cleaning
DESCRIPTION:
URL:https://www.cardunaldogtraining.com/event/mat-cleaning-9/
LOCATION:CarDunAl Dog Training Club\, 10783 Wolf Dr.\, Huntley\, IL\, 60142\, United States
CATEGORIES:Meeting
END:VEVENT
BEGIN:VEVENT
DTSTART;VALUE=DATE:20230225
DTEND;VALUE=DATE:20230226
DTSTAMP:20260422T233538
CREATED:20230129T023243Z
LAST-MODIFIED:20230209T031135Z
UID:16394-1677283200-1677369599@www.cardunaldogtraining.com
SUMMARY:Agility Run Thru
DESCRIPTION:Doors open at 8:30 AM – First Run 9:00 AM \nRunning order:  Tall (20 – 24)     2 Run limit. \nAll “Tall” will run before starting “Small”. \nSmall (4 – 16)      2 Run limit. \nSmall dog walk will start at 10:15 AM or after the completion of Tall.
URL:https://www.cardunaldogtraining.com/event/agility-run-thru-7/
LOCATION:CarDunAl Dog Training Club\, 10783 Wolf Dr.\, Huntley\, IL\, 60142\, United States
CATEGORIES:Events
END:VEVENT
BEGIN:VEVENT
DTSTART;TZID=America/Chicago:20230209T193000
DTEND;TZID=America/Chicago:20230209T210000
DTSTAMP:20260422T233538
CREATED:20221019T231654Z
LAST-MODIFIED:20221019T231654Z
UID:15357-1675971000-1675976400@www.cardunaldogtraining.com
SUMMARY:Car Dun Al General Meeting
DESCRIPTION:
URL:https://www.cardunaldogtraining.com/event/car-dun-al-general-meeting/
LOCATION:CarDunAl Dog Training Club\, 10783 Wolf Dr.\, Huntley\, IL\, 60142\, United States
CATEGORIES:Meeting
END:VEVENT
BEGIN:VEVENT
DTSTART;TZID=America/Chicago:20230206T190000
DTEND;TZID=America/Chicago:20230206T210000
DTSTAMP:20260422T233538
CREATED:20221019T231606Z
LAST-MODIFIED:20221019T231606Z
UID:15355-1675710000-1675717200@www.cardunaldogtraining.com
SUMMARY:Car Dun Al Board Meeting
DESCRIPTION:
URL:https://www.cardunaldogtraining.com/event/car-dun-al-board-meeting/
LOCATION:CarDunAl Dog Training Club\, 10783 Wolf Dr.\, Huntley\, IL\, 60142\, United States
CATEGORIES:Meeting
END:VEVENT
BEGIN:VEVENT
DTSTART;VALUE=DATE:20230205
DTEND;VALUE=DATE:20230206
DTSTAMP:20260422T233538
CREATED:20221019T225331Z
LAST-MODIFIED:20221019T225331Z
UID:15353-1675555200-1675641599@www.cardunaldogtraining.com
SUMMARY:Car Dun Al Obedience/Rally
DESCRIPTION:
URL:https://www.cardunaldogtraining.com/event/car-dun-al-obedience-rally-2/
LOCATION:CarDunAl Dog Training Club\, 10783 Wolf Dr.\, Huntley\, IL\, 60142\, United States
CATEGORIES:Trials
END:VEVENT
BEGIN:VEVENT
DTSTART;VALUE=DATE:20230204
DTEND;VALUE=DATE:20230205
DTSTAMP:20260422T233538
CREATED:20221019T225259Z
LAST-MODIFIED:20221019T225259Z
UID:15351-1675468800-1675555199@www.cardunaldogtraining.com
SUMMARY:Car Dun Al Obedience/Rally
DESCRIPTION:
URL:https://www.cardunaldogtraining.com/event/car-dun-al-obedience-rally/
LOCATION:CarDunAl Dog Training Club\, 10783 Wolf Dr.\, Huntley\, IL\, 60142\, United States
CATEGORIES:Trials
END:VEVENT
BEGIN:VEVENT
DTSTART;TZID=America/Chicago:20230131T190000
DTEND;TZID=America/Chicago:20230131T203000
DTSTAMP:20260422T233538
CREATED:20230102T035217Z
LAST-MODIFIED:20230102T035217Z
UID:16278-1675191600-1675197000@www.cardunaldogtraining.com
SUMMARY:Obedience Correction Clinic
DESCRIPTION:
URL:https://www.cardunaldogtraining.com/event/obedience-correction-clinic/
LOCATION:CarDunAl Dog Training Club\, 10783 Wolf Dr.\, Huntley\, IL\, 60142\, United States
CATEGORIES:Correction Clinic
END:VEVENT
BEGIN:VEVENT
DTSTART;VALUE=DATE:20230129
DTEND;VALUE=DATE:20230130
DTSTAMP:20260422T233538
CREATED:20221019T225123Z
LAST-MODIFIED:20221019T225143Z
UID:15349-1674950400-1675036799@www.cardunaldogtraining.com
SUMMARY:Glenbard Agility Trial
DESCRIPTION:
URL:https://www.cardunaldogtraining.com/event/glenbard-agility-trial-2/
LOCATION:CarDunAl Dog Training Club\, 10783 Wolf Dr.\, Huntley\, IL\, 60142\, United States
CATEGORIES:Trials
END:VEVENT
END:VCALENDAR