BEGIN:VCALENDAR
VERSION:2.0
PRODID:-//Car-Dun-Al Dog Obedience Training Club - ECPv6.15.17.1//NONSGML v1.0//EN
CALSCALE:GREGORIAN
METHOD:PUBLISH
X-WR-CALNAME:Car-Dun-Al Dog Obedience Training Club
X-ORIGINAL-URL:https://www.cardunaldogtraining.com
X-WR-CALDESC:Events for Car-Dun-Al Dog Obedience Training Club
REFRESH-INTERVAL;VALUE=DURATION:PT1H
X-Robots-Tag:noindex
X-PUBLISHED-TTL:PT1H
BEGIN:VTIMEZONE
TZID:America/Chicago
BEGIN:DAYLIGHT
TZOFFSETFROM:-0600
TZOFFSETTO:-0500
TZNAME:CDT
DTSTART:20230312T080000
END:DAYLIGHT
BEGIN:STANDARD
TZOFFSETFROM:-0500
TZOFFSETTO:-0600
TZNAME:CST
DTSTART:20231105T070000
END:STANDARD
BEGIN:DAYLIGHT
TZOFFSETFROM:-0600
TZOFFSETTO:-0500
TZNAME:CDT
DTSTART:20240310T080000
END:DAYLIGHT
BEGIN:STANDARD
TZOFFSETFROM:-0500
TZOFFSETTO:-0600
TZNAME:CST
DTSTART:20241103T070000
END:STANDARD
BEGIN:DAYLIGHT
TZOFFSETFROM:-0600
TZOFFSETTO:-0500
TZNAME:CDT
DTSTART:20250309T080000
END:DAYLIGHT
BEGIN:STANDARD
TZOFFSETFROM:-0500
TZOFFSETTO:-0600
TZNAME:CST
DTSTART:20251102T070000
END:STANDARD
END:VTIMEZONE
BEGIN:VEVENT
DTSTART;TZID=America/Chicago:20241121T173000
DTEND;TZID=America/Chicago:20241121T190000
DTSTAMP:20260423T070212
CREATED:20231123T003905Z
LAST-MODIFIED:20240906T232111Z
UID:20156-1732210200-1732215600@www.cardunaldogtraining.com
SUMMARY:Drop In Rally Training
DESCRIPTION:
URL:https://www.cardunaldogtraining.com/event/drop-in-rally-training-2/2024-11-21/
LOCATION:CarDunAl Dog Training Club\, 10783 Wolf Dr.\, Huntley\, IL\, 60142\, United States
END:VEVENT
BEGIN:VEVENT
DTSTART;TZID=America/Chicago:20241121T174500
DTEND;TZID=America/Chicago:20241121T184500
DTSTAMP:20260423T070212
CREATED:20240904T012028Z
LAST-MODIFIED:20240904T012028Z
UID:23793-1732211100-1732214700@www.cardunaldogtraining.com
SUMMARY:Open/Utility Obedience – No Instructor
DESCRIPTION:
URL:https://www.cardunaldogtraining.com/event/open-utility-obedience-no-instructor-13/2024-11-21/
LOCATION:CarDunAl Dog Training Club\, 10783 Wolf Dr.\, Huntley\, IL\, 60142\, United States
CATEGORIES:Advanced
END:VEVENT
BEGIN:VEVENT
DTSTART;TZID=America/Chicago:20241121T180000
DTEND;TZID=America/Chicago:20241121T190000
DTSTAMP:20260423T070212
CREATED:20240909T015026Z
LAST-MODIFIED:20240909T015026Z
UID:24091-1732212000-1732215600@www.cardunaldogtraining.com
SUMMARY:Beginner Novice Obedience
DESCRIPTION:
URL:https://www.cardunaldogtraining.com/event/beginner-novice-obedience-11/2024-11-21/
LOCATION:CarDunAl Dog Training Club\, 10783 Wolf Dr.\, Huntley\, IL\, 60142\, United States
CATEGORIES:Agility
END:VEVENT
BEGIN:VEVENT
DTSTART;TZID=America/Chicago:20241121T180000
DTEND;TZID=America/Chicago:20241121T190000
DTSTAMP:20260423T070212
CREATED:20240909T020348Z
LAST-MODIFIED:20240909T020348Z
UID:24113-1732212000-1732215600@www.cardunaldogtraining.com
SUMMARY:Pre-Utility Obedience
DESCRIPTION:
URL:https://www.cardunaldogtraining.com/event/pre-utility-obedience-3/2024-11-21/
LOCATION:CarDunAl Dog Training Club\, 10783 Wolf Dr.\, Huntley\, IL\, 60142\, United States
CATEGORIES:Agility
END:VEVENT
BEGIN:VEVENT
DTSTART;TZID=America/Chicago:20241121T184500
DTEND;TZID=America/Chicago:20241121T194500
DTSTAMP:20260423T070212
CREATED:20240904T013146Z
LAST-MODIFIED:20240904T013615Z
UID:23852-1732214700-1732218300@www.cardunaldogtraining.com
SUMMARY:Beginner Obedience
DESCRIPTION:
URL:https://www.cardunaldogtraining.com/event/beginner-obedience-30/2024-11-21/
LOCATION:CarDunAl Dog Training Club\, 10783 Wolf Dr.\, Huntley\, IL\, 60142\, United States
CATEGORIES:Beginners
END:VEVENT
BEGIN:VEVENT
DTSTART;TZID=America/Chicago:20241121T190000
DTEND;TZID=America/Chicago:20241121T200000
DTSTAMP:20260423T070212
CREATED:20240904T011513Z
LAST-MODIFIED:20240904T011513Z
UID:23782-1732215600-1732219200@www.cardunaldogtraining.com
SUMMARY:Novice Obedience
DESCRIPTION:
URL:https://www.cardunaldogtraining.com/event/novice-obedience-21/2024-11-21/
LOCATION:CarDunAl Dog Training Club\, 10783 Wolf Dr.\, Huntley\, IL\, 60142\, United States
CATEGORIES:Advanced
END:VEVENT
BEGIN:VEVENT
DTSTART;TZID=America/Chicago:20241121T190000
DTEND;TZID=America/Chicago:20241121T200000
DTSTAMP:20260423T070212
CREATED:20240909T015151Z
LAST-MODIFIED:20240909T015151Z
UID:24102-1732215600-1732219200@www.cardunaldogtraining.com
SUMMARY:Beginner Novice Obedience
DESCRIPTION:
URL:https://www.cardunaldogtraining.com/event/beginner-novice-obedience-12/2024-11-21/
LOCATION:CarDunAl Dog Training Club\, 10783 Wolf Dr.\, Huntley\, IL\, 60142\, United States
CATEGORIES:Agility
END:VEVENT
BEGIN:VEVENT
DTSTART;TZID=America/Chicago:20241121T190000
DTEND;TZID=America/Chicago:20241121T200000
DTSTAMP:20260423T070212
CREATED:20240909T020537Z
LAST-MODIFIED:20240909T020537Z
UID:24125-1732215600-1732219200@www.cardunaldogtraining.com
SUMMARY:Utility Obedience
DESCRIPTION:
URL:https://www.cardunaldogtraining.com/event/utility-obedience-7/2024-11-21/
LOCATION:CarDunAl Dog Training Club\, 10783 Wolf Dr.\, Huntley\, IL\, 60142\, United States
CATEGORIES:Agility
END:VEVENT
BEGIN:VEVENT
DTSTART;TZID=America/Chicago:20241121T200000
DTEND;TZID=America/Chicago:20241121T210000
DTSTAMP:20260423T070212
CREATED:20240904T014025Z
LAST-MODIFIED:20240904T014142Z
UID:23883-1732219200-1732222800@www.cardunaldogtraining.com
SUMMARY:Beginner Obedience
DESCRIPTION:
URL:https://www.cardunaldogtraining.com/event/beginner-obedience-31/2024-11-21/
LOCATION:CarDunAl Dog Training Club\, 10783 Wolf Dr.\, Huntley\, IL\, 60142\, United States
CATEGORIES:Beginners
END:VEVENT
BEGIN:VEVENT
DTSTART;TZID=America/Chicago:20241121T200000
DTEND;TZID=America/Chicago:20241121T210000
DTSTAMP:20260423T070212
CREATED:20240904T020056Z
LAST-MODIFIED:20240904T020056Z
UID:23923-1732219200-1732222800@www.cardunaldogtraining.com
SUMMARY:Pre-Open Obedience
DESCRIPTION:
URL:https://www.cardunaldogtraining.com/event/pre-open-obedience-14/2024-11-21/
LOCATION:CarDunAl Dog Training Club\, 10783 Wolf Dr.\, Huntley\, IL\, 60142\, United States
CATEGORIES:Advanced
END:VEVENT
BEGIN:VEVENT
DTSTART;TZID=America/Chicago:20241121T200000
DTEND;TZID=America/Chicago:20241121T210000
DTSTAMP:20260423T070212
CREATED:20240904T020218Z
LAST-MODIFIED:20240904T020218Z
UID:23934-1732219200-1732222800@www.cardunaldogtraining.com
SUMMARY:Open Obedience
DESCRIPTION:
URL:https://www.cardunaldogtraining.com/event/open-obedience-17/2024-11-21/
LOCATION:CarDunAl Dog Training Club\, 10783 Wolf Dr.\, Huntley\, IL\, 60142\, United States
CATEGORIES:Advanced
END:VEVENT
BEGIN:VEVENT
DTSTART;TZID=America/Chicago:20241121T200000
DTEND;TZID=America/Chicago:20241121T210000
DTSTAMP:20260423T070212
CREATED:20240909T020708Z
LAST-MODIFIED:20240909T020708Z
UID:24136-1732219200-1732222800@www.cardunaldogtraining.com
SUMMARY:Utility Obedience
DESCRIPTION:
URL:https://www.cardunaldogtraining.com/event/utility-obedience-8/2024-11-21/
LOCATION:CarDunAl Dog Training Club\, 10783 Wolf Dr.\, Huntley\, IL\, 60142\, United States
CATEGORIES:Agility
END:VEVENT
BEGIN:VEVENT
DTSTART;TZID=America/Chicago:20241121T210000
DTEND;TZID=America/Chicago:20241121T220000
DTSTAMP:20260423T070212
CREATED:20240904T012156Z
LAST-MODIFIED:20240904T012156Z
UID:23805-1732222800-1732226400@www.cardunaldogtraining.com
SUMMARY:Open/Utility Obedience – No Instructor
DESCRIPTION:
URL:https://www.cardunaldogtraining.com/event/open-utility-obedience-no-instructor-14/2024-11-21/
LOCATION:CarDunAl Dog Training Club\, 10783 Wolf Dr.\, Huntley\, IL\, 60142\, United States
CATEGORIES:Advanced
END:VEVENT
BEGIN:VEVENT
DTSTART;TZID=America/Chicago:20241127T100000
DTEND;TZID=America/Chicago:20241127T120000
DTSTAMP:20260423T070212
CREATED:20231123T003335Z
LAST-MODIFIED:20240910T210703Z
UID:20109-1732701600-1732708800@www.cardunaldogtraining.com
SUMMARY:Drop In Obedience Training
DESCRIPTION:
URL:https://www.cardunaldogtraining.com/event/drop-in-obedience-training-3/2024-11-27/
LOCATION:CarDunAl Dog Training Club\, 10783 Wolf Dr.\, Huntley\, IL\, 60142\, United States
CATEGORIES:Drop In Training
END:VEVENT
BEGIN:VEVENT
DTSTART;TZID=America/Chicago:20241204T100000
DTEND;TZID=America/Chicago:20241204T120000
DTSTAMP:20260423T070212
CREATED:20231123T003335Z
LAST-MODIFIED:20240910T210703Z
UID:20110-1733306400-1733313600@www.cardunaldogtraining.com
SUMMARY:Drop In Obedience Training
DESCRIPTION:
URL:https://www.cardunaldogtraining.com/event/drop-in-obedience-training-3/2024-12-04/
LOCATION:CarDunAl Dog Training Club\, 10783 Wolf Dr.\, Huntley\, IL\, 60142\, United States
CATEGORIES:Drop In Training
END:VEVENT
BEGIN:VEVENT
DTSTART;TZID=America/Chicago:20241204T180000
DTEND;TZID=America/Chicago:20241204T184500
DTSTAMP:20260423T070212
CREATED:20240513T185654Z
LAST-MODIFIED:20240513T185654Z
UID:24595-1733335200-1733337900@www.cardunaldogtraining.com
SUMMARY:Novice Conformation Handling Drop-in Training
DESCRIPTION:This class is designed for novice handlers or handlers who need a little more guidance or for young dogs not quite ready for the regular conformation class
URL:https://www.cardunaldogtraining.com/event/puppy-socialization-conformation/2024-12-04/
LOCATION:CarDunAl Dog Training Club\, 10783 Wolf Dr.\, Huntley\, IL\, 60142\, United States
CATEGORIES:Drop In Training
END:VEVENT
BEGIN:VEVENT
DTSTART;TZID=America/Chicago:20241204T190000
DTEND;TZID=America/Chicago:20241204T200000
DTSTAMP:20260423T070212
CREATED:20240207T020143Z
LAST-MODIFIED:20240910T210833Z
UID:20924-1733338800-1733342400@www.cardunaldogtraining.com
SUMMARY:Drop In Conformation
DESCRIPTION:
URL:https://www.cardunaldogtraining.com/event/drop-in-conformation/2024-12-04/
LOCATION:CarDunAl Dog Training Club\, 10783 Wolf Dr.\, Huntley\, IL\, 60142\, United States
CATEGORIES:Drop In Training
END:VEVENT
BEGIN:VEVENT
DTSTART;TZID=America/Chicago:20241205T133000
DTEND;TZID=America/Chicago:20241205T143000
DTSTAMP:20260423T070212
CREATED:20240904T013005Z
LAST-MODIFIED:20240904T013005Z
UID:23914-1733405400-1733409000@www.cardunaldogtraining.com
SUMMARY:Beginner Obedience
DESCRIPTION:
URL:https://www.cardunaldogtraining.com/event/beginner-obedience-29/2024-12-05/
LOCATION:CarDunAl Dog Training Club\, 10783 Wolf Dr.\, Huntley\, IL\, 60142\, United States
CATEGORIES:Beginners
END:VEVENT
BEGIN:VEVENT
DTSTART;TZID=America/Chicago:20241205T173000
DTEND;TZID=America/Chicago:20241205T190000
DTSTAMP:20260423T070212
CREATED:20231123T003905Z
LAST-MODIFIED:20240906T232111Z
UID:20158-1733419800-1733425200@www.cardunaldogtraining.com
SUMMARY:Drop In Rally Training
DESCRIPTION:
URL:https://www.cardunaldogtraining.com/event/drop-in-rally-training-2/2024-12-05/
LOCATION:CarDunAl Dog Training Club\, 10783 Wolf Dr.\, Huntley\, IL\, 60142\, United States
END:VEVENT
BEGIN:VEVENT
DTSTART;TZID=America/Chicago:20241205T174500
DTEND;TZID=America/Chicago:20241205T184500
DTSTAMP:20260423T070212
CREATED:20240904T012028Z
LAST-MODIFIED:20240904T012028Z
UID:23794-1733420700-1733424300@www.cardunaldogtraining.com
SUMMARY:Open/Utility Obedience – No Instructor
DESCRIPTION:
URL:https://www.cardunaldogtraining.com/event/open-utility-obedience-no-instructor-13/2024-12-05/
LOCATION:CarDunAl Dog Training Club\, 10783 Wolf Dr.\, Huntley\, IL\, 60142\, United States
CATEGORIES:Advanced
END:VEVENT
BEGIN:VEVENT
DTSTART;TZID=America/Chicago:20241205T180000
DTEND;TZID=America/Chicago:20241205T190000
DTSTAMP:20260423T070212
CREATED:20240909T015026Z
LAST-MODIFIED:20240909T015026Z
UID:24092-1733421600-1733425200@www.cardunaldogtraining.com
SUMMARY:Beginner Novice Obedience
DESCRIPTION:
URL:https://www.cardunaldogtraining.com/event/beginner-novice-obedience-11/2024-12-05/
LOCATION:CarDunAl Dog Training Club\, 10783 Wolf Dr.\, Huntley\, IL\, 60142\, United States
CATEGORIES:Agility
END:VEVENT
BEGIN:VEVENT
DTSTART;TZID=America/Chicago:20241205T180000
DTEND;TZID=America/Chicago:20241205T190000
DTSTAMP:20260423T070212
CREATED:20240909T020348Z
LAST-MODIFIED:20240909T020348Z
UID:24114-1733421600-1733425200@www.cardunaldogtraining.com
SUMMARY:Pre-Utility Obedience
DESCRIPTION:
URL:https://www.cardunaldogtraining.com/event/pre-utility-obedience-3/2024-12-05/
LOCATION:CarDunAl Dog Training Club\, 10783 Wolf Dr.\, Huntley\, IL\, 60142\, United States
CATEGORIES:Agility
END:VEVENT
BEGIN:VEVENT
DTSTART;TZID=America/Chicago:20241205T184500
DTEND;TZID=America/Chicago:20241205T194500
DTSTAMP:20260423T070212
CREATED:20240904T013146Z
LAST-MODIFIED:20240904T013615Z
UID:23853-1733424300-1733427900@www.cardunaldogtraining.com
SUMMARY:Beginner Obedience
DESCRIPTION:
URL:https://www.cardunaldogtraining.com/event/beginner-obedience-30/2024-12-05/
LOCATION:CarDunAl Dog Training Club\, 10783 Wolf Dr.\, Huntley\, IL\, 60142\, United States
CATEGORIES:Beginners
END:VEVENT
BEGIN:VEVENT
DTSTART;TZID=America/Chicago:20241205T190000
DTEND;TZID=America/Chicago:20241205T200000
DTSTAMP:20260423T070212
CREATED:20240904T011513Z
LAST-MODIFIED:20240904T011513Z
UID:23783-1733425200-1733428800@www.cardunaldogtraining.com
SUMMARY:Novice Obedience
DESCRIPTION:
URL:https://www.cardunaldogtraining.com/event/novice-obedience-21/2024-12-05/
LOCATION:CarDunAl Dog Training Club\, 10783 Wolf Dr.\, Huntley\, IL\, 60142\, United States
CATEGORIES:Advanced
END:VEVENT
BEGIN:VEVENT
DTSTART;TZID=America/Chicago:20241205T190000
DTEND;TZID=America/Chicago:20241205T200000
DTSTAMP:20260423T070212
CREATED:20240909T015151Z
LAST-MODIFIED:20240909T015151Z
UID:24103-1733425200-1733428800@www.cardunaldogtraining.com
SUMMARY:Beginner Novice Obedience
DESCRIPTION:
URL:https://www.cardunaldogtraining.com/event/beginner-novice-obedience-12/2024-12-05/
LOCATION:CarDunAl Dog Training Club\, 10783 Wolf Dr.\, Huntley\, IL\, 60142\, United States
CATEGORIES:Agility
END:VEVENT
BEGIN:VEVENT
DTSTART;TZID=America/Chicago:20241205T190000
DTEND;TZID=America/Chicago:20241205T200000
DTSTAMP:20260423T070212
CREATED:20240909T020537Z
LAST-MODIFIED:20240909T020537Z
UID:24126-1733425200-1733428800@www.cardunaldogtraining.com
SUMMARY:Utility Obedience
DESCRIPTION:
URL:https://www.cardunaldogtraining.com/event/utility-obedience-7/2024-12-05/
LOCATION:CarDunAl Dog Training Club\, 10783 Wolf Dr.\, Huntley\, IL\, 60142\, United States
CATEGORIES:Agility
END:VEVENT
BEGIN:VEVENT
DTSTART;TZID=America/Chicago:20241205T200000
DTEND;TZID=America/Chicago:20241205T210000
DTSTAMP:20260423T070212
CREATED:20240904T014025Z
LAST-MODIFIED:20240904T014142Z
UID:23884-1733428800-1733432400@www.cardunaldogtraining.com
SUMMARY:Beginner Obedience
DESCRIPTION:
URL:https://www.cardunaldogtraining.com/event/beginner-obedience-31/2024-12-05/
LOCATION:CarDunAl Dog Training Club\, 10783 Wolf Dr.\, Huntley\, IL\, 60142\, United States
CATEGORIES:Beginners
END:VEVENT
BEGIN:VEVENT
DTSTART;TZID=America/Chicago:20241205T200000
DTEND;TZID=America/Chicago:20241205T210000
DTSTAMP:20260423T070212
CREATED:20240904T020056Z
LAST-MODIFIED:20240904T020056Z
UID:23924-1733428800-1733432400@www.cardunaldogtraining.com
SUMMARY:Pre-Open Obedience
DESCRIPTION:
URL:https://www.cardunaldogtraining.com/event/pre-open-obedience-14/2024-12-05/
LOCATION:CarDunAl Dog Training Club\, 10783 Wolf Dr.\, Huntley\, IL\, 60142\, United States
CATEGORIES:Advanced
END:VEVENT
BEGIN:VEVENT
DTSTART;TZID=America/Chicago:20241205T200000
DTEND;TZID=America/Chicago:20241205T210000
DTSTAMP:20260423T070212
CREATED:20240904T020218Z
LAST-MODIFIED:20240904T020218Z
UID:23935-1733428800-1733432400@www.cardunaldogtraining.com
SUMMARY:Open Obedience
DESCRIPTION:
URL:https://www.cardunaldogtraining.com/event/open-obedience-17/2024-12-05/
LOCATION:CarDunAl Dog Training Club\, 10783 Wolf Dr.\, Huntley\, IL\, 60142\, United States
CATEGORIES:Advanced
END:VEVENT
BEGIN:VEVENT
DTSTART;TZID=America/Chicago:20241205T200000
DTEND;TZID=America/Chicago:20241205T210000
DTSTAMP:20260423T070212
CREATED:20240909T020708Z
LAST-MODIFIED:20240909T020708Z
UID:24137-1733428800-1733432400@www.cardunaldogtraining.com
SUMMARY:Utility Obedience
DESCRIPTION:
URL:https://www.cardunaldogtraining.com/event/utility-obedience-8/2024-12-05/
LOCATION:CarDunAl Dog Training Club\, 10783 Wolf Dr.\, Huntley\, IL\, 60142\, United States
CATEGORIES:Agility
END:VEVENT
END:VCALENDAR