BEGIN:VCALENDAR
VERSION:2.0
PRODID:-//Car-Dun-Al Dog Obedience Training Club - ECPv6.15.17.1//NONSGML v1.0//EN
CALSCALE:GREGORIAN
METHOD:PUBLISH
X-WR-CALNAME:Car-Dun-Al Dog Obedience Training Club
X-ORIGINAL-URL:https://www.cardunaldogtraining.com
X-WR-CALDESC:Events for Car-Dun-Al Dog Obedience Training Club
REFRESH-INTERVAL;VALUE=DURATION:PT1H
X-Robots-Tag:noindex
X-PUBLISHED-TTL:PT1H
BEGIN:VTIMEZONE
TZID:America/Chicago
BEGIN:DAYLIGHT
TZOFFSETFROM:-0600
TZOFFSETTO:-0500
TZNAME:CDT
DTSTART:20230312T080000
END:DAYLIGHT
BEGIN:STANDARD
TZOFFSETFROM:-0500
TZOFFSETTO:-0600
TZNAME:CST
DTSTART:20231105T070000
END:STANDARD
BEGIN:DAYLIGHT
TZOFFSETFROM:-0600
TZOFFSETTO:-0500
TZNAME:CDT
DTSTART:20240310T080000
END:DAYLIGHT
BEGIN:STANDARD
TZOFFSETFROM:-0500
TZOFFSETTO:-0600
TZNAME:CST
DTSTART:20241103T070000
END:STANDARD
BEGIN:DAYLIGHT
TZOFFSETFROM:-0600
TZOFFSETTO:-0500
TZNAME:CDT
DTSTART:20250309T080000
END:DAYLIGHT
BEGIN:STANDARD
TZOFFSETFROM:-0500
TZOFFSETTO:-0600
TZNAME:CST
DTSTART:20251102T070000
END:STANDARD
END:VTIMEZONE
BEGIN:VEVENT
DTSTART;TZID=America/Chicago:20240506T090000
DTEND;TZID=America/Chicago:20240506T103000
DTSTAMP:20260421T150753
CREATED:20240307T024233Z
LAST-MODIFIED:20240307T024233Z
UID:21712-1714986000-1714991400@www.cardunaldogtraining.com
SUMMARY:Master Agility Level 6
DESCRIPTION:
URL:https://www.cardunaldogtraining.com/event/master-agility-level-6/2024-05-06/
LOCATION:CarDunAl Dog Training Club\, 10783 Wolf Dr.\, Huntley\, IL\, 60142\, United States
CATEGORIES:Agility
END:VEVENT
BEGIN:VEVENT
DTSTART;TZID=America/Chicago:20240506T170000
DTEND;TZID=America/Chicago:20240506T180000
DTSTAMP:20260421T150753
CREATED:20240307T023332Z
LAST-MODIFIED:20240307T023332Z
UID:21654-1715014800-1715018400@www.cardunaldogtraining.com
SUMMARY:Advanced Agility Level 4
DESCRIPTION:
URL:https://www.cardunaldogtraining.com/event/advanced-agility-level-4-5/2024-05-06/
LOCATION:CarDunAl Dog Training Club\, 10783 Wolf Dr.\, Huntley\, IL\, 60142\, United States
CATEGORIES:Agility
END:VEVENT
BEGIN:VEVENT
DTSTART;TZID=America/Chicago:20240506T180000
DTEND;TZID=America/Chicago:20240506T190000
DTSTAMP:20260421T150753
CREATED:20240307T022524Z
LAST-MODIFIED:20240307T022524Z
UID:21606-1715018400-1715022000@www.cardunaldogtraining.com
SUMMARY:Agility Foundation Class Level 0
DESCRIPTION:
URL:https://www.cardunaldogtraining.com/event/agility-foundation-class-level-0-2/2024-05-06/
LOCATION:CarDunAl Dog Training Club\, 10783 Wolf Dr.\, Huntley\, IL\, 60142\, United States
CATEGORIES:Agility
END:VEVENT
BEGIN:VEVENT
DTSTART;TZID=America/Chicago:20240506T180000
DTEND;TZID=America/Chicago:20240506T190000
DTSTAMP:20260421T150753
CREATED:20240307T023523Z
LAST-MODIFIED:20240307T023523Z
UID:21677-1715018400-1715022000@www.cardunaldogtraining.com
SUMMARY:Advanced Agility Level 4
DESCRIPTION:
URL:https://www.cardunaldogtraining.com/event/advanced-agility-level-4-6/2024-05-06/
LOCATION:CarDunAl Dog Training Club\, 10783 Wolf Dr.\, Huntley\, IL\, 60142\, United States
CATEGORIES:Agility
END:VEVENT
BEGIN:VEVENT
DTSTART;TZID=America/Chicago:20240506T190000
DTEND;TZID=America/Chicago:20240506T200000
DTSTAMP:20260421T150753
CREATED:20240307T022845Z
LAST-MODIFIED:20240307T022845Z
UID:21630-1715022000-1715025600@www.cardunaldogtraining.com
SUMMARY:Intermediate Agility Level 2
DESCRIPTION:
URL:https://www.cardunaldogtraining.com/event/intermediate-agility-level-2-3/2024-05-06/
LOCATION:CarDunAl Dog Training Club\, 10783 Wolf Dr.\, Huntley\, IL\, 60142\, United States
CATEGORIES:Agility
END:VEVENT
BEGIN:VEVENT
DTSTART;TZID=America/Chicago:20240506T190000
DTEND;TZID=America/Chicago:20240506T200000
DTSTAMP:20260421T150753
CREATED:20240307T023827Z
LAST-MODIFIED:20240307T023827Z
UID:21688-1715022000-1715025600@www.cardunaldogtraining.com
SUMMARY:Competition Agility Level 5
DESCRIPTION:
URL:https://www.cardunaldogtraining.com/event/competition-agility-level-5-6/2024-05-06/
LOCATION:CarDunAl Dog Training Club\, 10783 Wolf Dr.\, Huntley\, IL\, 60142\, United States
CATEGORIES:Agility
END:VEVENT
BEGIN:VEVENT
DTSTART;TZID=America/Chicago:20240506T200000
DTEND;TZID=America/Chicago:20240506T210000
DTSTAMP:20260421T150753
CREATED:20240307T022706Z
LAST-MODIFIED:20240307T022706Z
UID:21618-1715025600-1715029200@www.cardunaldogtraining.com
SUMMARY:Beginner Agility Level 1
DESCRIPTION:
URL:https://www.cardunaldogtraining.com/event/beginner-agility-level-1-3/2024-05-06/
LOCATION:CarDunAl Dog Training Club\, 10783 Wolf Dr.\, Huntley\, IL\, 60142\, United States
CATEGORIES:Agility
END:VEVENT
BEGIN:VEVENT
DTSTART;TZID=America/Chicago:20240506T200000
DTEND;TZID=America/Chicago:20240506T210000
DTSTAMP:20260421T150753
CREATED:20240307T024026Z
LAST-MODIFIED:20240307T024026Z
UID:21700-1715025600-1715029200@www.cardunaldogtraining.com
SUMMARY:Competition Agility Level 5
DESCRIPTION:
URL:https://www.cardunaldogtraining.com/event/competition-agility-level-5-7/2024-05-06/
LOCATION:CarDunAl Dog Training Club\, 10783 Wolf Dr.\, Huntley\, IL\, 60142\, United States
CATEGORIES:Agility
END:VEVENT
BEGIN:VEVENT
DTSTART;TZID=America/Chicago:20240507T083000
DTEND;TZID=America/Chicago:20240507T093000
DTSTAMP:20260421T150753
CREATED:20240307T030051Z
LAST-MODIFIED:20240307T030051Z
UID:21777-1715070600-1715074200@www.cardunaldogtraining.com
SUMMARY:Scent Work Level 3
DESCRIPTION:
URL:https://www.cardunaldogtraining.com/event/scent-work-level-3-2/2024-05-07/
LOCATION:CarDunAl Dog Training Club\, 10783 Wolf Dr.\, Huntley\, IL\, 60142\, United States
CATEGORIES:Scent Work
END:VEVENT
BEGIN:VEVENT
DTSTART;TZID=America/Chicago:20240507T094500
DTEND;TZID=America/Chicago:20240507T104500
DTSTAMP:20260421T150753
CREATED:20240307T030330Z
LAST-MODIFIED:20240307T030330Z
UID:21788-1715075100-1715078700@www.cardunaldogtraining.com
SUMMARY:Scent Work Level 3
DESCRIPTION:
URL:https://www.cardunaldogtraining.com/event/scent-work-level-3-3/2024-05-07/
LOCATION:CarDunAl Dog Training Club\, 10783 Wolf Dr.\, Huntley\, IL\, 60142\, United States
CATEGORIES:Scent Work
END:VEVENT
BEGIN:VEVENT
DTSTART;TZID=America/Chicago:20240507T110000
DTEND;TZID=America/Chicago:20240507T120000
DTSTAMP:20260421T150753
CREATED:20240307T030534Z
LAST-MODIFIED:20240307T030534Z
UID:21799-1715079600-1715083200@www.cardunaldogtraining.com
SUMMARY:Scent Work Level 3
DESCRIPTION:
URL:https://www.cardunaldogtraining.com/event/scent-work-level-3-4/2024-05-07/
LOCATION:CarDunAl Dog Training Club\, 10783 Wolf Dr.\, Huntley\, IL\, 60142\, United States
CATEGORIES:Scent Work
END:VEVENT
BEGIN:VEVENT
DTSTART;TZID=America/Chicago:20240507T123000
DTEND;TZID=America/Chicago:20240507T133000
DTSTAMP:20260421T150753
CREATED:20240307T025353Z
LAST-MODIFIED:20240307T025353Z
UID:21744-1715085000-1715088600@www.cardunaldogtraining.com
SUMMARY:Scent Work Level 1
DESCRIPTION:
URL:https://www.cardunaldogtraining.com/event/scent-work-level-1/2024-05-07/
LOCATION:CarDunAl Dog Training Club\, 10783 Wolf Dr.\, Huntley\, IL\, 60142\, United States
CATEGORIES:Scent Work
END:VEVENT
BEGIN:VEVENT
DTSTART;TZID=America/Chicago:20240507T134500
DTEND;TZID=America/Chicago:20240507T144500
DTSTAMP:20260421T150753
CREATED:20240307T025637Z
LAST-MODIFIED:20240307T025637Z
UID:21755-1715089500-1715093100@www.cardunaldogtraining.com
SUMMARY:Scent Work Level 1
DESCRIPTION:
URL:https://www.cardunaldogtraining.com/event/scent-work-level-1-2/2024-05-07/
LOCATION:CarDunAl Dog Training Club\, 10783 Wolf Dr.\, Huntley\, IL\, 60142\, United States
CATEGORIES:Scent Work
END:VEVENT
BEGIN:VEVENT
DTSTART;TZID=America/Chicago:20240507T151500
DTEND;TZID=America/Chicago:20240507T161500
DTSTAMP:20260421T150753
CREATED:20240307T025908Z
LAST-MODIFIED:20240307T025908Z
UID:21766-1715094900-1715098500@www.cardunaldogtraining.com
SUMMARY:Scent Work Level 2
DESCRIPTION:
URL:https://www.cardunaldogtraining.com/event/scent-work-level-2-2/2024-05-07/
LOCATION:CarDunAl Dog Training Club\, 10783 Wolf Dr.\, Huntley\, IL\, 60142\, United States
CATEGORIES:Scent Work
END:VEVENT
BEGIN:VEVENT
DTSTART;TZID=America/Chicago:20240507T180000
DTEND;TZID=America/Chicago:20240507T190000
DTSTAMP:20260421T150753
CREATED:20240307T004158Z
LAST-MODIFIED:20240307T004158Z
UID:21393-1715104800-1715108400@www.cardunaldogtraining.com
SUMMARY:Puppy Class Obedience
DESCRIPTION:
URL:https://www.cardunaldogtraining.com/event/puppy-class-obedience-5/2024-05-07/
LOCATION:CarDunAl Dog Training Club\, 10783 Wolf Dr.\, Huntley\, IL\, 60142\, United States
CATEGORIES:AKC Star Puppy / Pre-Beginners Class
END:VEVENT
BEGIN:VEVENT
DTSTART;TZID=America/Chicago:20240507T200000
DTEND;TZID=America/Chicago:20240507T210000
DTSTAMP:20260421T150753
CREATED:20240307T023156Z
LAST-MODIFIED:20240307T023156Z
UID:21642-1715112000-1715115600@www.cardunaldogtraining.com
SUMMARY:Intermediate Agility Level 3
DESCRIPTION:
URL:https://www.cardunaldogtraining.com/event/intermediate-agility-level-3-3/2024-05-07/
LOCATION:CarDunAl Dog Training Club\, 10783 Wolf Dr.\, Huntley\, IL\, 60142\, United States
CATEGORIES:Agility
END:VEVENT
BEGIN:VEVENT
DTSTART;TZID=America/Chicago:20240508T090000
DTEND;TZID=America/Chicago:20240508T100000
DTSTAMP:20260421T150753
CREATED:20240307T005011Z
LAST-MODIFIED:20240307T005011Z
UID:21452-1715158800-1715162400@www.cardunaldogtraining.com
SUMMARY:Open/Utility Obedience - No Instructor
DESCRIPTION:
URL:https://www.cardunaldogtraining.com/event/open-utility-obedience-no-instructor-9/2024-05-08/
LOCATION:CarDunAl Dog Training Club\, 10783 Wolf Dr.\, Huntley\, IL\, 60142\, United States
CATEGORIES:Advanced
END:VEVENT
BEGIN:VEVENT
DTSTART;TZID=America/Chicago:20240508T100000
DTEND;TZID=America/Chicago:20240508T110000
DTSTAMP:20260421T150753
CREATED:20240307T004511Z
LAST-MODIFIED:20240307T004613Z
UID:21417-1715162400-1715166000@www.cardunaldogtraining.com
SUMMARY:Novice Obedience
DESCRIPTION:
URL:https://www.cardunaldogtraining.com/event/novice-wednesday-1000-am/2024-05-08/
LOCATION:CarDunAl Dog Training Club\, 10783 Wolf Dr.\, Huntley\, IL\, 60142\, United States
CATEGORIES:Advanced
END:VEVENT
BEGIN:VEVENT
DTSTART;TZID=America/Chicago:20240508T100000
DTEND;TZID=America/Chicago:20240508T110000
DTSTAMP:20260421T150753
CREATED:20240307T010949Z
LAST-MODIFIED:20240307T010949Z
UID:21539-1715162400-1715166000@www.cardunaldogtraining.com
SUMMARY:Open Obedience
DESCRIPTION:
URL:https://www.cardunaldogtraining.com/event/open-obedience-13/2024-05-08/
LOCATION:CarDunAl Dog Training Club\, 10783 Wolf Dr.\, Huntley\, IL\, 60142\, United States
CATEGORIES:Advanced
END:VEVENT
BEGIN:VEVENT
DTSTART;TZID=America/Chicago:20240508T100000
DTEND;TZID=America/Chicago:20240508T120000
DTSTAMP:20260421T150753
CREATED:20231123T003335Z
LAST-MODIFIED:20240910T210659Z
UID:20081-1715162400-1715169600@www.cardunaldogtraining.com
SUMMARY:Drop In Obedience Training
DESCRIPTION:
URL:https://www.cardunaldogtraining.com/event/drop-in-obedience-training-3/2024-05-08/
LOCATION:CarDunAl Dog Training Club\, 10783 Wolf Dr.\, Huntley\, IL\, 60142\, United States
CATEGORIES:Drop In Training
END:VEVENT
BEGIN:VEVENT
DTSTART;TZID=America/Chicago:20240508T113000
DTEND;TZID=America/Chicago:20240508T123000
DTSTAMP:20260421T150753
CREATED:20240307T005557Z
LAST-MODIFIED:20240307T005557Z
UID:21496-1715167800-1715171400@www.cardunaldogtraining.com
SUMMARY:Beginner Obedience
DESCRIPTION:
URL:https://www.cardunaldogtraining.com/event/beginner-obedience-21/2024-05-08/
LOCATION:CarDunAl Dog Training Club\, 10783 Wolf Dr.\, Huntley\, IL\, 60142\, United States
CATEGORIES:Advanced
END:VEVENT
BEGIN:VEVENT
DTSTART;TZID=America/Chicago:20240508T120000
DTEND;TZID=America/Chicago:20240508T130000
DTSTAMP:20260421T150753
CREATED:20231123T004216Z
LAST-MODIFIED:20240701T181622Z
UID:20180-1715169600-1715173200@www.cardunaldogtraining.com
SUMMARY:Drop In Rally Training
DESCRIPTION:
URL:https://www.cardunaldogtraining.com/event/rally-drop-in-training/2024-05-08/
LOCATION:CarDunAl Dog Training Club\, 10783 Wolf Dr.\, Huntley\, IL\, 60142\, United States
CATEGORIES:Drop In Training
END:VEVENT
BEGIN:VEVENT
DTSTART;TZID=America/Chicago:20240508T190000
DTEND;TZID=America/Chicago:20240508T200000
DTSTAMP:20260421T150753
CREATED:20240207T020143Z
LAST-MODIFIED:20240910T210828Z
UID:20896-1715194800-1715198400@www.cardunaldogtraining.com
SUMMARY:Drop In Conformation
DESCRIPTION:
URL:https://www.cardunaldogtraining.com/event/drop-in-conformation/2024-05-08/
LOCATION:CarDunAl Dog Training Club\, 10783 Wolf Dr.\, Huntley\, IL\, 60142\, United States
CATEGORIES:Drop In Training
END:VEVENT
BEGIN:VEVENT
DTSTART;TZID=America/Chicago:20240509T103000
DTEND;TZID=America/Chicago:20240509T113000
DTSTAMP:20260421T150753
CREATED:20240307T004312Z
LAST-MODIFIED:20240307T004312Z
UID:21405-1715250600-1715254200@www.cardunaldogtraining.com
SUMMARY:Puppy Class Obedience
DESCRIPTION:
URL:https://www.cardunaldogtraining.com/event/puppy-class-obedience-6/2024-05-09/
LOCATION:CarDunAl Dog Training Club\, 10783 Wolf Dr.\, Huntley\, IL\, 60142\, United States
CATEGORIES:AKC Star Puppy / Pre-Beginners Class
END:VEVENT
BEGIN:VEVENT
DTSTART;TZID=America/Chicago:20240509T120000
DTEND;TZID=America/Chicago:20240509T130000
DTSTAMP:20260421T150753
CREATED:20240307T005833Z
LAST-MODIFIED:20240307T010515Z
UID:21508-1715256000-1715259600@www.cardunaldogtraining.com
SUMMARY:Beginner Obedience
DESCRIPTION:
URL:https://www.cardunaldogtraining.com/event/beginner-obedience-22/2024-05-09/
LOCATION:CarDunAl Dog Training Club\, 10783 Wolf Dr.\, Huntley\, IL\, 60142\, United States
CATEGORIES:Advanced
END:VEVENT
BEGIN:VEVENT
DTSTART;TZID=America/Chicago:20240509T173000
DTEND;TZID=America/Chicago:20240509T190000
DTSTAMP:20260421T150753
CREATED:20231123T003905Z
LAST-MODIFIED:20240906T232100Z
UID:20132-1715275800-1715281200@www.cardunaldogtraining.com
SUMMARY:Drop In Rally Training
DESCRIPTION:
URL:https://www.cardunaldogtraining.com/event/drop-in-rally-training-2/2024-05-09/
LOCATION:CarDunAl Dog Training Club\, 10783 Wolf Dr.\, Huntley\, IL\, 60142\, United States
END:VEVENT
BEGIN:VEVENT
DTSTART;TZID=America/Chicago:20240509T180000
DTEND;TZID=America/Chicago:20240509T190000
DTSTAMP:20260421T150753
CREATED:20240307T005128Z
LAST-MODIFIED:20240307T005203Z
UID:21463-1715277600-1715281200@www.cardunaldogtraining.com
SUMMARY:Open/Utility Obedience - No Instructor
DESCRIPTION:
URL:https://www.cardunaldogtraining.com/event/open-utility-no-instructor-5/2024-05-09/
LOCATION:CarDunAl Dog Training Club\, 10783 Wolf Dr.\, Huntley\, IL\, 60142\, United States
CATEGORIES:Advanced
END:VEVENT
BEGIN:VEVENT
DTSTART;TZID=America/Chicago:20240509T180000
DTEND;TZID=America/Chicago:20240509T190000
DTSTAMP:20260421T150753
CREATED:20240307T021617Z
LAST-MODIFIED:20240307T021617Z
UID:21572-1715277600-1715281200@www.cardunaldogtraining.com
SUMMARY:Beginner Novice Obedience
DESCRIPTION:
URL:https://www.cardunaldogtraining.com/event/beginner-novice-obedience-7/2024-05-09/
LOCATION:CarDunAl Dog Training Club\, 10783 Wolf Dr.\, Huntley\, IL\, 60142\, United States
CATEGORIES:Advanced
END:VEVENT
BEGIN:VEVENT
DTSTART;TZID=America/Chicago:20240509T183000
DTEND;TZID=America/Chicago:20240509T193000
DTSTAMP:20260421T150753
CREATED:20240307T010622Z
LAST-MODIFIED:20240307T010622Z
UID:21527-1715279400-1715283000@www.cardunaldogtraining.com
SUMMARY:Beginner Obedience
DESCRIPTION:
URL:https://www.cardunaldogtraining.com/event/beginner-obedience-23/2024-05-09/
LOCATION:CarDunAl Dog Training Club\, 10783 Wolf Dr.\, Huntley\, IL\, 60142\, United States
CATEGORIES:Advanced
END:VEVENT
BEGIN:VEVENT
DTSTART;TZID=America/Chicago:20240509T190000
DTEND;TZID=America/Chicago:20240509T200000
DTSTAMP:20260421T150753
CREATED:20240307T004758Z
LAST-MODIFIED:20240307T004758Z
UID:21440-1715281200-1715284800@www.cardunaldogtraining.com
SUMMARY:Novice Obedience
DESCRIPTION:
URL:https://www.cardunaldogtraining.com/event/novice-obedience-17/2024-05-09/
LOCATION:CarDunAl Dog Training Club\, 10783 Wolf Dr.\, Huntley\, IL\, 60142\, United States
CATEGORIES:Advanced
END:VEVENT
END:VCALENDAR