BEGIN:VCALENDAR
VERSION:2.0
PRODID:-//Car-Dun-Al Dog Obedience Training Club - ECPv6.15.17.1//NONSGML v1.0//EN
CALSCALE:GREGORIAN
METHOD:PUBLISH
X-WR-CALNAME:Car-Dun-Al Dog Obedience Training Club
X-ORIGINAL-URL:https://www.cardunaldogtraining.com
X-WR-CALDESC:Events for Car-Dun-Al Dog Obedience Training Club
REFRESH-INTERVAL;VALUE=DURATION:PT1H
X-Robots-Tag:noindex
X-PUBLISHED-TTL:PT1H
BEGIN:VTIMEZONE
TZID:America/Chicago
BEGIN:DAYLIGHT
TZOFFSETFROM:-0600
TZOFFSETTO:-0500
TZNAME:CDT
DTSTART:20210314T080000
END:DAYLIGHT
BEGIN:STANDARD
TZOFFSETFROM:-0500
TZOFFSETTO:-0600
TZNAME:CST
DTSTART:20211107T070000
END:STANDARD
BEGIN:DAYLIGHT
TZOFFSETFROM:-0600
TZOFFSETTO:-0500
TZNAME:CDT
DTSTART:20220313T080000
END:DAYLIGHT
BEGIN:STANDARD
TZOFFSETFROM:-0500
TZOFFSETTO:-0600
TZNAME:CST
DTSTART:20221106T070000
END:STANDARD
BEGIN:DAYLIGHT
TZOFFSETFROM:-0600
TZOFFSETTO:-0500
TZNAME:CDT
DTSTART:20230312T080000
END:DAYLIGHT
BEGIN:STANDARD
TZOFFSETFROM:-0500
TZOFFSETTO:-0600
TZNAME:CST
DTSTART:20231105T070000
END:STANDARD
END:VTIMEZONE
BEGIN:VEVENT
DTSTART;VALUE=DATE:20220820
DTEND;VALUE=DATE:20220821
DTSTAMP:20260423T132745
CREATED:20211012T010013Z
LAST-MODIFIED:20211012T010013Z
UID:11977-1660953600-1661039999@www.cardunaldogtraining.com
SUMMARY:Race CPE Agility
DESCRIPTION:
URL:https://www.cardunaldogtraining.com/event/race-cpe-agility/
LOCATION:CarDunAl Dog Training Club\, 10783 Wolf Dr.\, Huntley\, IL\, 60142\, United States
CATEGORIES:Trials
END:VEVENT
BEGIN:VEVENT
DTSTART;TZID=America/Chicago:20220817T120000
DTEND;TZID=America/Chicago:20220817T130000
DTSTAMP:20260423T132745
CREATED:20220420T202307Z
LAST-MODIFIED:20220420T202307Z
UID:13793-1660737600-1660741200@www.cardunaldogtraining.com
SUMMARY:Drop in Rally Class
DESCRIPTION:
URL:https://www.cardunaldogtraining.com/event/drop-in-rally-class-3/
LOCATION:CarDunAl Dog Training Club\, 10783 Wolf Dr.\, Huntley\, IL\, 60142\, United States
CATEGORIES:Drop In Training
END:VEVENT
BEGIN:VEVENT
DTSTART;VALUE=DATE:20220814
DTEND;VALUE=DATE:20220815
DTSTAMP:20260423T132745
CREATED:20211012T005808Z
LAST-MODIFIED:20211012T005808Z
UID:11975-1660435200-1660521599@www.cardunaldogtraining.com
SUMMARY:Siberian Husky Club-Agility
DESCRIPTION:
URL:https://www.cardunaldogtraining.com/event/siberian-husky-club-agility/
LOCATION:CarDunAl Dog Training Club\, 10783 Wolf Dr.\, Huntley\, IL\, 60142\, United States
CATEGORIES:Trials
END:VEVENT
BEGIN:VEVENT
DTSTART;VALUE=DATE:20220813
DTEND;VALUE=DATE:20220814
DTSTAMP:20260423T132745
CREATED:20211012T005506Z
LAST-MODIFIED:20211012T005622Z
UID:11971-1660348800-1660435199@www.cardunaldogtraining.com
SUMMARY:Siberian Husky Club-Agility
DESCRIPTION:
URL:https://www.cardunaldogtraining.com/event/siberian-huskyclub-agility/
LOCATION:CarDunAl Dog Training Club\, 10783 Wolf Dr.\, Huntley\, IL\, 60142\, United States
CATEGORIES:Trials
END:VEVENT
BEGIN:VEVENT
DTSTART;VALUE=DATE:20220812
DTEND;VALUE=DATE:20220813
DTSTAMP:20260423T132745
CREATED:20211012T005351Z
LAST-MODIFIED:20211012T005351Z
UID:11969-1660262400-1660348799@www.cardunaldogtraining.com
SUMMARY:Husky Club of Chicago-Agility
DESCRIPTION:
URL:https://www.cardunaldogtraining.com/event/husky-club-of-chicago-agility/
LOCATION:CarDunAl Dog Training Club\, 10783 Wolf Dr.\, Huntley\, IL\, 60142\, United States
CATEGORIES:Trials
END:VEVENT
BEGIN:VEVENT
DTSTART;TZID=America/Chicago:20220811T193000
DTEND;TZID=America/Chicago:20220811T210000
DTSTAMP:20260423T132745
CREATED:20210918T000007Z
LAST-MODIFIED:20210918T000007Z
UID:11787-1660246200-1660251600@www.cardunaldogtraining.com
SUMMARY:Member Meeting
DESCRIPTION:
URL:https://www.cardunaldogtraining.com/event/member-meeting-4/
LOCATION:CarDunAl Dog Training Club\, 10783 Wolf Dr.\, Huntley\, IL\, 60142\, United States
CATEGORIES:Meeting
END:VEVENT
BEGIN:VEVENT
DTSTART;VALUE=DATE:20220730
DTEND;VALUE=DATE:20220731
DTSTAMP:20260423T132745
CREATED:20220113T200727Z
LAST-MODIFIED:20220113T200727Z
UID:12784-1659139200-1659225599@www.cardunaldogtraining.com
SUMMARY:4-H Show
DESCRIPTION:
URL:https://www.cardunaldogtraining.com/event/4-h-show/
LOCATION:CarDunAl Dog Training Club\, 10783 Wolf Dr.\, Huntley\, IL\, 60142\, United States
CATEGORIES:Events
END:VEVENT
BEGIN:VEVENT
DTSTART;VALUE=DATE:20220717
DTEND;VALUE=DATE:20220718
DTSTAMP:20260423T132745
CREATED:20220602T011900Z
LAST-MODIFIED:20220602T011900Z
UID:14393-1658016000-1658102399@www.cardunaldogtraining.com
SUMMARY:CGCA (Community Canine)
DESCRIPTION:
URL:https://www.cardunaldogtraining.com/event/cgca-community-canine/
LOCATION:CarDunAl Dog Training Club\, 10783 Wolf Dr.\, Huntley\, IL\, 60142\, United States
CATEGORIES:Events
END:VEVENT
BEGIN:VEVENT
DTSTART;VALUE=DATE:20220717
DTEND;VALUE=DATE:20220718
DTSTAMP:20260423T132745
CREATED:20220602T011458Z
LAST-MODIFIED:20220602T011458Z
UID:14391-1658016000-1658102399@www.cardunaldogtraining.com
SUMMARY:CGC (Canine Good Citizen)
DESCRIPTION:
URL:https://www.cardunaldogtraining.com/event/cgc-canine-good-citizen/
LOCATION:CarDunAl Dog Training Club\, 10783 Wolf Dr.\, Huntley\, IL\, 60142\, United States
CATEGORIES:Events
END:VEVENT
BEGIN:VEVENT
DTSTART;VALUE=DATE:20220717
DTEND;VALUE=DATE:20220718
DTSTAMP:20260423T132745
CREATED:20220602T011354Z
LAST-MODIFIED:20220602T011354Z
UID:14389-1658016000-1658102399@www.cardunaldogtraining.com
SUMMARY:ATT (AKC Temperament Test)
DESCRIPTION:
URL:https://www.cardunaldogtraining.com/event/att-akc-temperament-test/
LOCATION:CarDunAl Dog Training Club\, 10783 Wolf Dr.\, Huntley\, IL\, 60142\, United States
CATEGORIES:Events
END:VEVENT
BEGIN:VEVENT
DTSTART;VALUE=DATE:20220716
DTEND;VALUE=DATE:20220717
DTSTAMP:20260423T132745
CREATED:20220602T010856Z
LAST-MODIFIED:20220602T011145Z
UID:14385-1657929600-1658015999@www.cardunaldogtraining.com
SUMMARY:CGCU (Urban Canine Good Citizen) Test
DESCRIPTION:
URL:https://www.cardunaldogtraining.com/event/cgc-canine-good-citizen-test/
LOCATION:CarDunAl Dog Training Club\, 10783 Wolf Dr.\, Huntley\, IL\, 60142\, United States
CATEGORIES:Events
END:VEVENT
BEGIN:VEVENT
DTSTART;VALUE=DATE:20220716
DTEND;VALUE=DATE:20220717
DTSTAMP:20260423T132745
CREATED:20220113T200644Z
LAST-MODIFIED:20220113T200644Z
UID:12782-1657929600-1658015999@www.cardunaldogtraining.com
SUMMARY:4-H Fun Match
DESCRIPTION:
URL:https://www.cardunaldogtraining.com/event/4-h-fun-match/
LOCATION:CarDunAl Dog Training Club\, 10783 Wolf Dr.\, Huntley\, IL\, 60142\, United States
CATEGORIES:Events
END:VEVENT
BEGIN:VEVENT
DTSTART;VALUE=DATE:20220710
DTEND;VALUE=DATE:20220711
DTSTAMP:20260423T132745
CREATED:20220113T200540Z
LAST-MODIFIED:20220113T200540Z
UID:12780-1657411200-1657497599@www.cardunaldogtraining.com
SUMMARY:Greater DeKalb Obed/Rally
DESCRIPTION:
URL:https://www.cardunaldogtraining.com/event/greater-dekalb-obed-rally-2/
LOCATION:CarDunAl Dog Training Club\, 10783 Wolf Dr.\, Huntley\, IL\, 60142\, United States
CATEGORIES:Trials
END:VEVENT
BEGIN:VEVENT
DTSTART;VALUE=DATE:20220709
DTEND;VALUE=DATE:20220710
DTSTAMP:20260423T132745
CREATED:20220113T200505Z
LAST-MODIFIED:20220113T200505Z
UID:12778-1657324800-1657411199@www.cardunaldogtraining.com
SUMMARY:Greater DeKalb Obed/Rally
DESCRIPTION:
URL:https://www.cardunaldogtraining.com/event/greater-dekalb-obed-rally/
LOCATION:CarDunAl Dog Training Club\, 10783 Wolf Dr.\, Huntley\, IL\, 60142\, United States
CATEGORIES:Trials
END:VEVENT
BEGIN:VEVENT
DTSTART;TZID=America/Chicago:20220706T120000
DTEND;TZID=America/Chicago:20220706T130000
DTSTAMP:20260423T132745
CREATED:20220420T202123Z
LAST-MODIFIED:20220420T202123Z
UID:13791-1657108800-1657112400@www.cardunaldogtraining.com
SUMMARY:Drop in Rally Class
DESCRIPTION:
URL:https://www.cardunaldogtraining.com/event/drop-in-rally-class-2/
LOCATION:CarDunAl Dog Training Club\, 10783 Wolf Dr.\, Huntley\, IL\, 60142\, United States
CATEGORIES:Drop In Training
END:VEVENT
BEGIN:VEVENT
DTSTART;TZID=America/Chicago:20220623T210000
DTEND;TZID=America/Chicago:20220623T220000
DTSTAMP:20260423T132745
CREATED:20220517T022510Z
LAST-MODIFIED:20220517T022510Z
UID:14017-1656018000-1656021600@www.cardunaldogtraining.com
SUMMARY:Open Obedience (No Instruction)
DESCRIPTION:
URL:https://www.cardunaldogtraining.com/event/open-obedience-no-instruction-2/2022-06-23/
LOCATION:CarDunAl Dog Training Club\, 10783 Wolf Dr.\, Huntley\, IL\, 60142\, United States
CATEGORIES:Advanced
END:VEVENT
BEGIN:VEVENT
DTSTART;TZID=America/Chicago:20220623T200000
DTEND;TZID=America/Chicago:20220623T210000
DTSTAMP:20260423T132745
CREATED:20220517T022057Z
LAST-MODIFIED:20220517T022057Z
UID:13995-1656014400-1656018000@www.cardunaldogtraining.com
SUMMARY:Mid Utility
DESCRIPTION:
URL:https://www.cardunaldogtraining.com/event/mid-utility-3/2022-06-23/
LOCATION:CarDunAl Dog Training Club\, 10783 Wolf Dr.\, Huntley\, IL\, 60142\, United States
CATEGORIES:Advanced
END:VEVENT
BEGIN:VEVENT
DTSTART;TZID=America/Chicago:20220623T200000
DTEND;TZID=America/Chicago:20220623T210000
DTSTAMP:20260423T132745
CREATED:20220517T021548Z
LAST-MODIFIED:20220517T021548Z
UID:13960-1656014400-1656018000@www.cardunaldogtraining.com
SUMMARY:Pre-Open Obedience
DESCRIPTION:
URL:https://www.cardunaldogtraining.com/event/pre-open-obedience-2/2022-06-23/
LOCATION:CarDunAl Dog Training Club\, 10783 Wolf Dr.\, Huntley\, IL\, 60142\, United States
CATEGORIES:Advanced
END:VEVENT
BEGIN:VEVENT
DTSTART;TZID=America/Chicago:20220623T190000
DTEND;TZID=America/Chicago:20220623T200000
DTSTAMP:20260423T132745
CREATED:20220517T021903Z
LAST-MODIFIED:20220517T021903Z
UID:13984-1656010800-1656014400@www.cardunaldogtraining.com
SUMMARY:Open Obedience
DESCRIPTION:
URL:https://www.cardunaldogtraining.com/event/open-obedience-2/2022-06-23/
LOCATION:CarDunAl Dog Training Club\, 10783 Wolf Dr.\, Huntley\, IL\, 60142\, United States
CATEGORIES:Advanced
END:VEVENT
BEGIN:VEVENT
DTSTART;TZID=America/Chicago:20220623T190000
DTEND;TZID=America/Chicago:20220623T200000
DTSTAMP:20260423T132745
CREATED:20220517T021317Z
LAST-MODIFIED:20220517T021317Z
UID:13949-1656010800-1656014400@www.cardunaldogtraining.com
SUMMARY:Novice Obedience
DESCRIPTION:
URL:https://www.cardunaldogtraining.com/event/novice-obedience-4/2022-06-23/
LOCATION:CarDunAl Dog Training Club\, 10783 Wolf Dr.\, Huntley\, IL\, 60142\, United States
CATEGORIES:Advanced
END:VEVENT
BEGIN:VEVENT
DTSTART;TZID=America/Chicago:20220623T190000
DTEND;TZID=America/Chicago:20220623T200000
DTSTAMP:20260423T132745
CREATED:20220517T020844Z
LAST-MODIFIED:20220606T233111Z
UID:13927-1656010800-1656014400@www.cardunaldogtraining.com
SUMMARY:Beginner Novice
DESCRIPTION:Beginner Novice – Week 10 includes CGC (Canine Good Citizen) Testing
URL:https://www.cardunaldogtraining.com/event/beginner-novice-4/2022-06-23/
LOCATION:CarDunAl Dog Training Club\, 10783 Wolf Dr.\, Huntley\, IL\, 60142\, United States
CATEGORIES:Advanced
END:VEVENT
BEGIN:VEVENT
DTSTART;TZID=America/Chicago:20220623T110000
DTEND;TZID=America/Chicago:20220623T114500
DTSTAMP:20260423T132745
CREATED:20220519T022311Z
LAST-MODIFIED:20220519T022311Z
UID:14069-1655982000-1655984700@www.cardunaldogtraining.com
SUMMARY:Pre-Beginner Obedience Class
DESCRIPTION:
URL:https://www.cardunaldogtraining.com/event/pre-beginner-obedience-class-2/2022-06-23/
LOCATION:CarDunAl Dog Training Club\, 10783 Wolf Dr.\, Huntley\, IL\, 60142\, United States
CATEGORIES:AKC Star Puppy / Pre-Beginners Class
END:VEVENT
BEGIN:VEVENT
DTSTART;TZID=America/Chicago:20220623T100000
DTEND;TZID=America/Chicago:20220623T104500
DTSTAMP:20260423T132745
CREATED:20220519T021920Z
LAST-MODIFIED:20220519T021920Z
UID:14047-1655978400-1655981100@www.cardunaldogtraining.com
SUMMARY:Puppy Obedience Class
DESCRIPTION:
URL:https://www.cardunaldogtraining.com/event/puppy-obedience-class-2/2022-06-23/
LOCATION:CarDunAl Dog Training Club\, 10783 Wolf Dr.\, Huntley\, IL\, 60142\, United States
CATEGORIES:AKC Star Puppy / Pre-Beginners Class
END:VEVENT
BEGIN:VEVENT
DTSTART;TZID=America/Chicago:20220622T100000
DTEND;TZID=America/Chicago:20220622T110000
DTSTAMP:20260423T132745
CREATED:20220517T021718Z
LAST-MODIFIED:20220517T021718Z
UID:13971-1655892000-1655895600@www.cardunaldogtraining.com
SUMMARY:Pre-Open Obedience
DESCRIPTION:
URL:https://www.cardunaldogtraining.com/event/pre-open-obedience-3/2022-06-22/
LOCATION:CarDunAl Dog Training Club\, 10783 Wolf Dr.\, Huntley\, IL\, 60142\, United States
CATEGORIES:Advanced
END:VEVENT
BEGIN:VEVENT
DTSTART;TZID=America/Chicago:20220622T100000
DTEND;TZID=America/Chicago:20220622T110000
DTSTAMP:20260423T132745
CREATED:20220517T021118Z
LAST-MODIFIED:20220517T021118Z
UID:13938-1655892000-1655895600@www.cardunaldogtraining.com
SUMMARY:Novice Obedience
DESCRIPTION:
URL:https://www.cardunaldogtraining.com/event/novice-obedience-3/2022-06-22/
LOCATION:CarDunAl Dog Training Club\, 10783 Wolf Dr.\, Huntley\, IL\, 60142\, United States
CATEGORIES:Advanced
END:VEVENT
BEGIN:VEVENT
DTSTART;TZID=America/Chicago:20220622T090000
DTEND;TZID=America/Chicago:20220622T100000
DTSTAMP:20260423T132745
CREATED:20220517T022325Z
LAST-MODIFIED:20220517T022325Z
UID:14006-1655888400-1655892000@www.cardunaldogtraining.com
SUMMARY:Open Obedience (No Instruction)
DESCRIPTION:
URL:https://www.cardunaldogtraining.com/event/open-obedience-no-instruction/2022-06-22/
LOCATION:CarDunAl Dog Training Club\, 10783 Wolf Dr.\, Huntley\, IL\, 60142\, United States
CATEGORIES:Advanced
END:VEVENT
BEGIN:VEVENT
DTSTART;TZID=America/Chicago:20220621T200000
DTEND;TZID=America/Chicago:20220621T204500
DTSTAMP:20260423T132745
CREATED:20220519T022122Z
LAST-MODIFIED:20220519T022122Z
UID:14058-1655841600-1655844300@www.cardunaldogtraining.com
SUMMARY:Pre-Beginner Obedience Class
DESCRIPTION:
URL:https://www.cardunaldogtraining.com/event/pre-beginner-obedience-class/2022-06-21/
LOCATION:CarDunAl Dog Training Club\, 10783 Wolf Dr.\, Huntley\, IL\, 60142\, United States
CATEGORIES:AKC Star Puppy / Pre-Beginners Class
END:VEVENT
BEGIN:VEVENT
DTSTART;TZID=America/Chicago:20220621T190000
DTEND;TZID=America/Chicago:20220621T200000
DTSTAMP:20260423T132745
CREATED:20220521T010436Z
LAST-MODIFIED:20220521T010436Z
UID:14107-1655838000-1655841600@www.cardunaldogtraining.com
SUMMARY:Level 1 Beginner Agility Tuesday
DESCRIPTION:
URL:https://www.cardunaldogtraining.com/event/level-1-beginner-agility-tuesday/2022-06-21/
LOCATION:CarDunAl Dog Training Club\, 10783 Wolf Dr.\, Huntley\, IL\, 60142\, United States
CATEGORIES:Agility
END:VEVENT
BEGIN:VEVENT
DTSTART;TZID=America/Chicago:20220621T190000
DTEND;TZID=America/Chicago:20220621T194500
DTSTAMP:20260423T132745
CREATED:20220519T021724Z
LAST-MODIFIED:20220519T021724Z
UID:14036-1655838000-1655840700@www.cardunaldogtraining.com
SUMMARY:Puppy Obedience Class
DESCRIPTION:
URL:https://www.cardunaldogtraining.com/event/puppy-obedience-class/2022-06-21/
LOCATION:CarDunAl Dog Training Club\, 10783 Wolf Dr.\, Huntley\, IL\, 60142\, United States
CATEGORIES:AKC Star Puppy / Pre-Beginners Class
END:VEVENT
BEGIN:VEVENT
DTSTART;TZID=America/Chicago:20220621T090000
DTEND;TZID=America/Chicago:20220621T100000
DTSTAMP:20260423T132745
CREATED:20220521T012855Z
LAST-MODIFIED:20220521T012855Z
UID:14224-1655802000-1655805600@www.cardunaldogtraining.com
SUMMARY:Level 1 Scent Work
DESCRIPTION:
URL:https://www.cardunaldogtraining.com/event/level-1-scent-work/2022-06-21/
LOCATION:CarDunAl Dog Training Club\, 10783 Wolf Dr.\, Huntley\, IL\, 60142\, United States
CATEGORIES:Scent Work
END:VEVENT
END:VCALENDAR