BEGIN:VCALENDAR
VERSION:2.0
PRODID:-//Car-Dun-Al Dog Obedience Training Club - ECPv6.15.17.1//NONSGML v1.0//EN
CALSCALE:GREGORIAN
METHOD:PUBLISH
X-WR-CALNAME:Car-Dun-Al Dog Obedience Training Club
X-ORIGINAL-URL:https://www.cardunaldogtraining.com
X-WR-CALDESC:Events for Car-Dun-Al Dog Obedience Training Club
REFRESH-INTERVAL;VALUE=DURATION:PT1H
X-Robots-Tag:noindex
X-PUBLISHED-TTL:PT1H
BEGIN:VTIMEZONE
TZID:America/Chicago
BEGIN:DAYLIGHT
TZOFFSETFROM:-0600
TZOFFSETTO:-0500
TZNAME:CDT
DTSTART:20210314T080000
END:DAYLIGHT
BEGIN:STANDARD
TZOFFSETFROM:-0500
TZOFFSETTO:-0600
TZNAME:CST
DTSTART:20211107T070000
END:STANDARD
BEGIN:DAYLIGHT
TZOFFSETFROM:-0600
TZOFFSETTO:-0500
TZNAME:CDT
DTSTART:20220313T080000
END:DAYLIGHT
BEGIN:STANDARD
TZOFFSETFROM:-0500
TZOFFSETTO:-0600
TZNAME:CST
DTSTART:20221106T070000
END:STANDARD
BEGIN:DAYLIGHT
TZOFFSETFROM:-0600
TZOFFSETTO:-0500
TZNAME:CDT
DTSTART:20230312T080000
END:DAYLIGHT
BEGIN:STANDARD
TZOFFSETFROM:-0500
TZOFFSETTO:-0600
TZNAME:CST
DTSTART:20231105T070000
END:STANDARD
END:VTIMEZONE
BEGIN:VEVENT
DTSTART;TZID=America/Chicago:20220620T090000
DTEND;TZID=America/Chicago:20220620T100000
DTSTAMP:20260423T175505
CREATED:20220521T011801Z
LAST-MODIFIED:20220522T014023Z
UID:14201-1655715600-1655719200@www.cardunaldogtraining.com
SUMMARY:Level 6 Master Competition Agility
DESCRIPTION:
URL:https://www.cardunaldogtraining.com/event/level-6-master-competition-agility/2022-06-20/
LOCATION:CarDunAl Dog Training Club\, 10783 Wolf Dr.\, Huntley\, IL\, 60142\, United States
CATEGORIES:Agility
END:VEVENT
BEGIN:VEVENT
DTSTART;TZID=America/Chicago:20220619T190000
DTEND;TZID=America/Chicago:20220619T200000
DTSTAMP:20260423T175505
CREATED:20220521T010847Z
LAST-MODIFIED:20220521T010847Z
UID:14130-1655665200-1655668800@www.cardunaldogtraining.com
SUMMARY:Level 3 Intermediate II Agility Sunday
DESCRIPTION:
URL:https://www.cardunaldogtraining.com/event/level-3-intermediate-ii-agility-sunday/2022-06-19/
LOCATION:CarDunAl Dog Training Club\, 10783 Wolf Dr.\, Huntley\, IL\, 60142\, United States
CATEGORIES:Agility
END:VEVENT
BEGIN:VEVENT
DTSTART;TZID=America/Chicago:20220611T090000
DTEND;TZID=America/Chicago:20220611T130000
DTSTAMP:20260423T175505
CREATED:20220514T005303Z
LAST-MODIFIED:20220514T005303Z
UID:13921-1654938000-1654952400@www.cardunaldogtraining.com
SUMMARY:Agility Run Thru
DESCRIPTION:
URL:https://www.cardunaldogtraining.com/event/agility-run-thru-3/
LOCATION:CarDunAl Dog Training Club\, 10783 Wolf Dr.\, Huntley\, IL\, 60142\, United States
CATEGORIES:Events
END:VEVENT
BEGIN:VEVENT
DTSTART;TZID=America/Chicago:20220609T193000
DTEND;TZID=America/Chicago:20220609T210000
DTSTAMP:20260423T175505
CREATED:20210917T235911Z
LAST-MODIFIED:20210917T235911Z
UID:11785-1654803000-1654808400@www.cardunaldogtraining.com
SUMMARY:Member Meeting
DESCRIPTION:
URL:https://www.cardunaldogtraining.com/event/member-meeting-3/
LOCATION:CarDunAl Dog Training Club\, 10783 Wolf Dr.\, Huntley\, IL\, 60142\, United States
CATEGORIES:Meeting
END:VEVENT
BEGIN:VEVENT
DTSTART;VALUE=DATE:20220603
DTEND;VALUE=DATE:20220604
DTSTAMP:20260423T175505
CREATED:20220113T195147Z
LAST-MODIFIED:20220113T195147Z
UID:12768-1654214400-1654300799@www.cardunaldogtraining.com
SUMMARY:Mat Cleaning
DESCRIPTION:
URL:https://www.cardunaldogtraining.com/event/mat-cleaning-6/
LOCATION:CarDunAl Dog Training Club\, 10783 Wolf Dr.\, Huntley\, IL\, 60142\, United States
CATEGORIES:Events
END:VEVENT
BEGIN:VEVENT
DTSTART;VALUE=DATE:20220522
DTEND;VALUE=DATE:20220523
DTSTAMP:20260423T175505
CREATED:20211012T005134Z
LAST-MODIFIED:20211012T005134Z
UID:11967-1653177600-1653263999@www.cardunaldogtraining.com
SUMMARY:Agility Ability
DESCRIPTION:
URL:https://www.cardunaldogtraining.com/event/agility-ability-3/
LOCATION:CarDunAl Dog Training Club\, 10783 Wolf Dr.\, Huntley\, IL\, 60142\, United States
CATEGORIES:Trials
END:VEVENT
BEGIN:VEVENT
DTSTART;VALUE=DATE:20220521
DTEND;VALUE=DATE:20220522
DTSTAMP:20260423T175505
CREATED:20211012T005059Z
LAST-MODIFIED:20211012T005059Z
UID:11965-1653091200-1653177599@www.cardunaldogtraining.com
SUMMARY:Agility Ability
DESCRIPTION:
URL:https://www.cardunaldogtraining.com/event/agility-ability-2/
LOCATION:CarDunAl Dog Training Club\, 10783 Wolf Dr.\, Huntley\, IL\, 60142\, United States
CATEGORIES:Trials
END:VEVENT
BEGIN:VEVENT
DTSTART;VALUE=DATE:20220515
DTEND;VALUE=DATE:20220516
DTSTAMP:20260423T175505
CREATED:20210902T223909Z
LAST-MODIFIED:20210902T223909Z
UID:11701-1652572800-1652659199@www.cardunaldogtraining.com
SUMMARY:Car-Dun-Al FCAT
DESCRIPTION:
URL:https://www.cardunaldogtraining.com/event/car-dun-al-fcat-3/
LOCATION:CarDunAl Dog Training Club\, 10783 Wolf Dr.\, Huntley\, IL\, 60142\, United States
CATEGORIES:Trials
END:VEVENT
BEGIN:VEVENT
DTSTART;VALUE=DATE:20220514
DTEND;VALUE=DATE:20220515
DTSTAMP:20260423T175505
CREATED:20210902T223813Z
LAST-MODIFIED:20210902T223813Z
UID:11699-1652486400-1652572799@www.cardunaldogtraining.com
SUMMARY:Car-Dun-Al FCAT
DESCRIPTION:
URL:https://www.cardunaldogtraining.com/event/car-dun-al-fcat-2/
LOCATION:CarDunAl Dog Training Club\, 10783 Wolf Dr.\, Huntley\, IL\, 60142\, United States
CATEGORIES:Trials
END:VEVENT
BEGIN:VEVENT
DTSTART;VALUE=DATE:20220508
DTEND;VALUE=DATE:20220509
DTSTAMP:20260423T175505
CREATED:20211012T004950Z
LAST-MODIFIED:20211012T004950Z
UID:11963-1651968000-1652054399@www.cardunaldogtraining.com
SUMMARY:NOCI Agility
DESCRIPTION:
URL:https://www.cardunaldogtraining.com/event/noci-agility-3/
LOCATION:CarDunAl Dog Training Club\, 10783 Wolf Dr.\, Huntley\, IL\, 60142\, United States
CATEGORIES:Trials
END:VEVENT
BEGIN:VEVENT
DTSTART;VALUE=DATE:20220507
DTEND;VALUE=DATE:20220508
DTSTAMP:20260423T175505
CREATED:20211012T004822Z
LAST-MODIFIED:20211012T004822Z
UID:11961-1651881600-1651967999@www.cardunaldogtraining.com
SUMMARY:NOCI Agility
DESCRIPTION:
URL:https://www.cardunaldogtraining.com/event/noci-agility-2/
LOCATION:CarDunAl Dog Training Club\, 10783 Wolf Dr.\, Huntley\, IL\, 60142\, United States
CATEGORIES:Trials
END:VEVENT
BEGIN:VEVENT
DTSTART;VALUE=DATE:20220506
DTEND;VALUE=DATE:20220507
DTSTAMP:20260423T175505
CREATED:20211012T004735Z
LAST-MODIFIED:20211012T004735Z
UID:11959-1651795200-1651881599@www.cardunaldogtraining.com
SUMMARY:NOCI Agility
DESCRIPTION:
URL:https://www.cardunaldogtraining.com/event/noci-agility/
LOCATION:CarDunAl Dog Training Club\, 10783 Wolf Dr.\, Huntley\, IL\, 60142\, United States
CATEGORIES:Trials
END:VEVENT
BEGIN:VEVENT
DTSTART;VALUE=DATE:20220501
DTEND;VALUE=DATE:20220502
DTSTAMP:20260423T175505
CREATED:20211012T004506Z
LAST-MODIFIED:20211012T004506Z
UID:11957-1651363200-1651449599@www.cardunaldogtraining.com
SUMMARY:CDA Agility
DESCRIPTION:
URL:https://www.cardunaldogtraining.com/event/cda-agility-6/
LOCATION:CarDunAl Dog Training Club\, 10783 Wolf Dr.\, Huntley\, IL\, 60142\, United States
CATEGORIES:Trials
END:VEVENT
BEGIN:VEVENT
DTSTART;VALUE=DATE:20220430
DTEND;VALUE=DATE:20220501
DTSTAMP:20260423T175505
CREATED:20211012T004427Z
LAST-MODIFIED:20211012T004427Z
UID:11955-1651276800-1651363199@www.cardunaldogtraining.com
SUMMARY:CDA Agility
DESCRIPTION:
URL:https://www.cardunaldogtraining.com/event/cda-agility-5/
LOCATION:CarDunAl Dog Training Club\, 10783 Wolf Dr.\, Huntley\, IL\, 60142\, United States
CATEGORIES:Trials
END:VEVENT
BEGIN:VEVENT
DTSTART;VALUE=DATE:20220429
DTEND;VALUE=DATE:20220430
DTSTAMP:20260423T175505
CREATED:20211012T004330Z
LAST-MODIFIED:20211012T004330Z
UID:11953-1651190400-1651276799@www.cardunaldogtraining.com
SUMMARY:Greater DeKalb Agility
DESCRIPTION:
URL:https://www.cardunaldogtraining.com/event/greater-dekalb-agility-2/
LOCATION:CarDunAl Dog Training Club\, 10783 Wolf Dr.\, Huntley\, IL\, 60142\, United States
CATEGORIES:Trials
END:VEVENT
BEGIN:VEVENT
DTSTART;TZID=America/Chicago:20220422T173000
DTEND;TZID=America/Chicago:20220422T210000
DTSTAMP:20260423T175505
CREATED:20211029T152556Z
LAST-MODIFIED:20211029T152556Z
UID:12060-1650648600-1650661200@www.cardunaldogtraining.com
SUMMARY:Cardunal Agility Run Thru
DESCRIPTION:
URL:https://www.cardunaldogtraining.com/event/cardunal-agility-run-thru-3/
LOCATION:CarDunAl Dog Training Club\, 10783 Wolf Dr.\, Huntley\, IL\, 60142\, United States
CATEGORIES:Events
END:VEVENT
BEGIN:VEVENT
DTSTART;TZID=America/Chicago:20220414T193000
DTEND;TZID=America/Chicago:20220414T210000
DTSTAMP:20260423T175505
CREATED:20210917T235813Z
LAST-MODIFIED:20210917T235813Z
UID:11783-1649964600-1649970000@www.cardunaldogtraining.com
SUMMARY:Member Meeting
DESCRIPTION:
URL:https://www.cardunaldogtraining.com/event/member-meeting-2/
LOCATION:CarDunAl Dog Training Club\, 10783 Wolf Dr.\, Huntley\, IL\, 60142\, United States
CATEGORIES:Meeting
END:VEVENT
BEGIN:VEVENT
DTSTART;TZID=America/Chicago:20220412T120000
DTEND;TZID=America/Chicago:20220412T133000
DTSTAMP:20260423T175505
CREATED:20220328T015250Z
LAST-MODIFIED:20220328T015250Z
UID:13706-1649764800-1649770200@www.cardunaldogtraining.com
SUMMARY:Tuesday Scent Work Level 3B
DESCRIPTION:
URL:https://www.cardunaldogtraining.com/event/tuesday-scent-work-level-3b/2022-04-12/
LOCATION:CarDunAl Dog Training Club\, 10783 Wolf Dr.\, Huntley\, IL\, 60142\, United States
CATEGORIES:Scent Work
END:VEVENT
BEGIN:VEVENT
DTSTART;TZID=America/Chicago:20220412T103000
DTEND;TZID=America/Chicago:20220412T120000
DTSTAMP:20260423T175505
CREATED:20220328T015132Z
LAST-MODIFIED:20220328T015132Z
UID:13699-1649759400-1649764800@www.cardunaldogtraining.com
SUMMARY:Tuesday Scent Work Level 3A
DESCRIPTION:
URL:https://www.cardunaldogtraining.com/event/tuesday-scent-work-level-3a/2022-04-12/
LOCATION:CarDunAl Dog Training Club\, 10783 Wolf Dr.\, Huntley\, IL\, 60142\, United States
CATEGORIES:Scent Work
END:VEVENT
BEGIN:VEVENT
DTSTART;TZID=America/Chicago:20220412T090000
DTEND;TZID=America/Chicago:20220412T103000
DTSTAMP:20260423T175505
CREATED:20220328T014937Z
LAST-MODIFIED:20220328T014937Z
UID:13692-1649754000-1649759400@www.cardunaldogtraining.com
SUMMARY:Tuesday Scent Work Level 1
DESCRIPTION:
URL:https://www.cardunaldogtraining.com/event/tuesday-scent-work-level-1/2022-04-12/
LOCATION:CarDunAl Dog Training Club\, 10783 Wolf Dr.\, Huntley\, IL\, 60142\, United States
CATEGORIES:Scent Work
END:VEVENT
BEGIN:VEVENT
DTSTART;VALUE=DATE:20220403
DTEND;VALUE=DATE:20220404
DTSTAMP:20260423T175505
CREATED:20211012T004204Z
LAST-MODIFIED:20211012T004204Z
UID:11951-1648944000-1649030399@www.cardunaldogtraining.com
SUMMARY:FVDTC Agility
DESCRIPTION:
URL:https://www.cardunaldogtraining.com/event/fvdtc-agility-3/
LOCATION:CarDunAl Dog Training Club\, 10783 Wolf Dr.\, Huntley\, IL\, 60142\, United States
CATEGORIES:Trials
END:VEVENT
BEGIN:VEVENT
DTSTART;VALUE=DATE:20220402
DTEND;VALUE=DATE:20220403
DTSTAMP:20260423T175505
CREATED:20211012T004111Z
LAST-MODIFIED:20211012T004111Z
UID:11949-1648857600-1648943999@www.cardunaldogtraining.com
SUMMARY:FVDTC Agility
DESCRIPTION:
URL:https://www.cardunaldogtraining.com/event/fvdtc-agility-2/
LOCATION:CarDunAl Dog Training Club\, 10783 Wolf Dr.\, Huntley\, IL\, 60142\, United States
CATEGORIES:Trials
END:VEVENT
BEGIN:VEVENT
DTSTART;VALUE=DATE:20220401
DTEND;VALUE=DATE:20220402
DTSTAMP:20260423T175505
CREATED:20211012T004016Z
LAST-MODIFIED:20211012T004024Z
UID:11946-1648771200-1648857599@www.cardunaldogtraining.com
SUMMARY:FVDTC Agility
DESCRIPTION:
URL:https://www.cardunaldogtraining.com/event/fvdtc-agility/
LOCATION:CarDunAl Dog Training Club\, 10783 Wolf Dr.\, Huntley\, IL\, 60142\, United States
CATEGORIES:Trials
END:VEVENT
BEGIN:VEVENT
DTSTART;TZID=America/Chicago:20220326T083000
DTEND;TZID=America/Chicago:20220326T120000
DTSTAMP:20260423T175505
CREATED:20211029T152506Z
LAST-MODIFIED:20211029T152506Z
UID:12058-1648283400-1648296000@www.cardunaldogtraining.com
SUMMARY:Cardunal Agility Run Thru
DESCRIPTION:
URL:https://www.cardunaldogtraining.com/event/cardunal-agility-run-thru-2/
LOCATION:CarDunAl Dog Training Club\, 10783 Wolf Dr.\, Huntley\, IL\, 60142\, United States
CATEGORIES:Events
END:VEVENT
BEGIN:VEVENT
DTSTART;TZID=America/Chicago:20220324T200000
DTEND;TZID=America/Chicago:20220324T210000
DTSTAMP:20260423T175505
CREATED:20220325T194913Z
LAST-MODIFIED:20220325T194913Z
UID:13670-1648152000-1648155600@www.cardunaldogtraining.com
SUMMARY:Mid-Utility Obedience
DESCRIPTION:
URL:https://www.cardunaldogtraining.com/event/mid-utility-obedience/2022-03-24/
LOCATION:CarDunAl Dog Training Club\, 10783 Wolf Dr.\, Huntley\, IL\, 60142\, United States
CATEGORIES:Advanced
END:VEVENT
BEGIN:VEVENT
DTSTART;TZID=America/Chicago:20220324T200000
DTEND;TZID=America/Chicago:20220324T210000
DTSTAMP:20260423T175505
CREATED:20220325T194737Z
LAST-MODIFIED:20220325T194737Z
UID:13659-1648152000-1648155600@www.cardunaldogtraining.com
SUMMARY:Open Obedience
DESCRIPTION:
URL:https://www.cardunaldogtraining.com/event/open-obedience/2022-03-24/
LOCATION:CarDunAl Dog Training Club\, 10783 Wolf Dr.\, Huntley\, IL\, 60142\, United States
CATEGORIES:Advanced
END:VEVENT
BEGIN:VEVENT
DTSTART;TZID=America/Chicago:20220324T200000
DTEND;TZID=America/Chicago:20220324T210000
DTSTAMP:20260423T175505
CREATED:20220325T194447Z
LAST-MODIFIED:20220325T194447Z
UID:13637-1648152000-1648155600@www.cardunaldogtraining.com
SUMMARY:Beginners Obedience
DESCRIPTION:
URL:https://www.cardunaldogtraining.com/event/beginners-obedience-8/2022-03-24/
LOCATION:CarDunAl Dog Training Club\, 10783 Wolf Dr.\, Huntley\, IL\, 60142\, United States
CATEGORIES:Beginners
END:VEVENT
BEGIN:VEVENT
DTSTART;TZID=America/Chicago:20220324T190000
DTEND;TZID=America/Chicago:20220324T200000
DTSTAMP:20260423T175505
CREATED:20220325T194643Z
LAST-MODIFIED:20220325T194643Z
UID:13648-1648148400-1648152000@www.cardunaldogtraining.com
SUMMARY:Pre-Open Obedience
DESCRIPTION:
URL:https://www.cardunaldogtraining.com/event/pre-open-obedience/2022-03-24/
LOCATION:CarDunAl Dog Training Club\, 10783 Wolf Dr.\, Huntley\, IL\, 60142\, United States
CATEGORIES:Advanced
END:VEVENT
BEGIN:VEVENT
DTSTART;TZID=America/Chicago:20220324T190000
DTEND;TZID=America/Chicago:20220324T200000
DTSTAMP:20260423T175505
CREATED:20220325T193132Z
LAST-MODIFIED:20220325T193132Z
UID:13562-1648148400-1648152000@www.cardunaldogtraining.com
SUMMARY:Novice Obedience
DESCRIPTION:
URL:https://www.cardunaldogtraining.com/event/novice-obedience-2/2022-03-24/
LOCATION:CarDunAl Dog Training Club\, 10783 Wolf Dr.\, Huntley\, IL\, 60142\, United States
CATEGORIES:Advanced
END:VEVENT
BEGIN:VEVENT
DTSTART;TZID=America/Chicago:20220324T183000
DTEND;TZID=America/Chicago:20220324T193000
DTSTAMP:20260423T175505
CREATED:20220325T194344Z
LAST-MODIFIED:20220325T194344Z
UID:13626-1648146600-1648150200@www.cardunaldogtraining.com
SUMMARY:Beginners Obedience
DESCRIPTION:
URL:https://www.cardunaldogtraining.com/event/beginners-obedience-7/2022-03-24/
LOCATION:CarDunAl Dog Training Club\, 10783 Wolf Dr.\, Huntley\, IL\, 60142\, United States
CATEGORIES:Beginners
END:VEVENT
END:VCALENDAR