BEGIN:VCALENDAR
VERSION:2.0
PRODID:-//Car-Dun-Al Dog Obedience Training Club - ECPv6.15.17.1//NONSGML v1.0//EN
CALSCALE:GREGORIAN
METHOD:PUBLISH
X-WR-CALNAME:Car-Dun-Al Dog Obedience Training Club
X-ORIGINAL-URL:https://www.cardunaldogtraining.com
X-WR-CALDESC:Events for Car-Dun-Al Dog Obedience Training Club
REFRESH-INTERVAL;VALUE=DURATION:PT1H
X-Robots-Tag:noindex
X-PUBLISHED-TTL:PT1H
BEGIN:VTIMEZONE
TZID:America/Chicago
BEGIN:DAYLIGHT
TZOFFSETFROM:-0600
TZOFFSETTO:-0500
TZNAME:CDT
DTSTART:20230312T080000
END:DAYLIGHT
BEGIN:STANDARD
TZOFFSETFROM:-0500
TZOFFSETTO:-0600
TZNAME:CST
DTSTART:20231105T070000
END:STANDARD
BEGIN:DAYLIGHT
TZOFFSETFROM:-0600
TZOFFSETTO:-0500
TZNAME:CDT
DTSTART:20240310T080000
END:DAYLIGHT
BEGIN:STANDARD
TZOFFSETFROM:-0500
TZOFFSETTO:-0600
TZNAME:CST
DTSTART:20241103T070000
END:STANDARD
BEGIN:DAYLIGHT
TZOFFSETFROM:-0600
TZOFFSETTO:-0500
TZNAME:CDT
DTSTART:20250309T080000
END:DAYLIGHT
BEGIN:STANDARD
TZOFFSETFROM:-0500
TZOFFSETTO:-0600
TZNAME:CST
DTSTART:20251102T070000
END:STANDARD
END:VTIMEZONE
BEGIN:VEVENT
DTSTART;VALUE=DATE:20240303
DTEND;VALUE=DATE:20240304
DTSTAMP:20260421T165942
CREATED:20231017T010004Z
LAST-MODIFIED:20241027T215147Z
UID:19245-1709424000-1709510399@www.cardunaldogtraining.com
SUMMARY:Cardunal Scent Work Trial
DESCRIPTION:
URL:https://www.cardunaldogtraining.com/event/cda-scent-work-trial-6/
LOCATION:CarDunAl Dog Training Club\, 10783 Wolf Dr.\, Huntley\, IL\, 60142\, United States
END:VEVENT
BEGIN:VEVENT
DTSTART;VALUE=DATE:20240302
DTEND;VALUE=DATE:20240303
DTSTAMP:20260421T165942
CREATED:20231017T005818Z
LAST-MODIFIED:20241027T215216Z
UID:19243-1709337600-1709423999@www.cardunaldogtraining.com
SUMMARY:Cardunal Scent Work Trial
DESCRIPTION:
URL:https://www.cardunaldogtraining.com/event/cda-scent-work-trial-5/
LOCATION:CarDunAl Dog Training Club\, 10783 Wolf Dr.\, Huntley\, IL\, 60142\, United States
CATEGORIES:Trials
END:VEVENT
BEGIN:VEVENT
DTSTART;VALUE=DATE:20240224
DTEND;VALUE=DATE:20240225
DTSTAMP:20260421T165942
CREATED:20240122T194035Z
LAST-MODIFIED:20240122T194112Z
UID:20738-1708732800-1708819199@www.cardunaldogtraining.com
SUMMARY:Cardunal Agility Run Thru
DESCRIPTION:CARDUNAL’S \nSATURDAY \nAGILITY RUN THRU \nFebruary 24\, 2024 \nDoors open at 8:30 AM – First Run 9:00 AM \nRunning order:  Small (4 – 16)      2 Run limit. \nAll “Small” will run before starting “Tall”. \nTall (20 – 24)     2 Run limit. \nTall dog walk will start at 10:30 AM or after the completion of Small. \nNo Entries accepted after 11:00 AM \nTwo nested courses – Masters and Novice (12 Weaves) \nHandlers are welcome to run a course or work on specific exercises within 2 minutes\, gate to gate\, time limit. \nNon-members Fees:  $5.00 for first entry\, $4.00 for second entry of same dog. \nMember Fees: $4.00 for first entry\, $3.00 for second entry of same dog. \nFace coverings are now optional in the building. Please continue to   \nSocial distance inside and outside the building. \nCrating will be available in the building in designated areas. \nInfo:  Kathy Calhoon 847-977-0388 email: BCDOC1978@gmail.com \nCar-Dun-Al Obedience Dog Training Club \n100783 Wolf Drive\, Huntley IL
URL:https://www.cardunaldogtraining.com/event/cardunal-agility-run-thru-6/
LOCATION:CarDunAl Dog Training Club\, 10783 Wolf Dr.\, Huntley\, IL\, 60142\, United States
CATEGORIES:Events
END:VEVENT
BEGIN:VEVENT
DTSTART;TZID=America/Chicago:20240210T183000
DTEND;TZID=America/Chicago:20240210T210000
DTSTAMP:20260421T165942
CREATED:20231017T004953Z
LAST-MODIFIED:20240207T222230Z
UID:19241-1707589800-1707598800@www.cardunaldogtraining.com
SUMMARY:CDA Awards Banquets
DESCRIPTION:
URL:https://www.cardunaldogtraining.com/event/cda-awards-banquets/
LOCATION:CarDunAl Dog Training Club\, 10783 Wolf Dr.\, Huntley\, IL\, 60142\, United States
CATEGORIES:Meeting
END:VEVENT
BEGIN:VEVENT
DTSTART;TZID=America/Chicago:20240208T190000
DTEND;TZID=America/Chicago:20240208T210000
DTSTAMP:20260421T165942
CREATED:20231017T004609Z
LAST-MODIFIED:20231017T004630Z
UID:19238-1707418800-1707426000@www.cardunaldogtraining.com
SUMMARY:General Membership Meeting
DESCRIPTION:
URL:https://www.cardunaldogtraining.com/event/8-th-general-membership-meeting/
LOCATION:CarDunAl Dog Training Club\, 10783 Wolf Dr.\, Huntley\, IL\, 60142\, United States
CATEGORIES:Meeting
END:VEVENT
BEGIN:VEVENT
DTSTART;TZID=America/Chicago:20240207T190000
DTEND;TZID=America/Chicago:20240207T200000
DTSTAMP:20260421T165942
CREATED:20240207T020143Z
LAST-MODIFIED:20240910T210822Z
UID:20883-1707332400-1707336000@www.cardunaldogtraining.com
SUMMARY:Drop In Conformation
DESCRIPTION:
URL:https://www.cardunaldogtraining.com/event/drop-in-conformation/2024-02-07/
LOCATION:CarDunAl Dog Training Club\, 10783 Wolf Dr.\, Huntley\, IL\, 60142\, United States
CATEGORIES:Drop In Training
END:VEVENT
BEGIN:VEVENT
DTSTART;TZID=America/Chicago:20240205T190000
DTEND;TZID=America/Chicago:20240205T210000
DTSTAMP:20260421T165942
CREATED:20231017T004407Z
LAST-MODIFIED:20231017T004407Z
UID:19236-1707159600-1707166800@www.cardunaldogtraining.com
SUMMARY:Board Meeting
DESCRIPTION:
URL:https://www.cardunaldogtraining.com/event/board-meeting-2/
LOCATION:CarDunAl Dog Training Club\, 10783 Wolf Dr.\, Huntley\, IL\, 60142\, United States
CATEGORIES:Meeting
END:VEVENT
BEGIN:VEVENT
DTSTART;VALUE=DATE:20240204
DTEND;VALUE=DATE:20240205
DTSTAMP:20260421T165942
CREATED:20231017T004049Z
LAST-MODIFIED:20231017T004049Z
UID:19234-1707004800-1707091199@www.cardunaldogtraining.com
SUMMARY:CDA Obedience/Rally Trial
DESCRIPTION:
URL:https://www.cardunaldogtraining.com/event/cda-obedience-rally-trial-2/
LOCATION:CarDunAl Dog Training Club\, 10783 Wolf Dr.\, Huntley\, IL\, 60142\, United States
CATEGORIES:Trials
END:VEVENT
BEGIN:VEVENT
DTSTART;VALUE=DATE:20240203
DTEND;VALUE=DATE:20240204
DTSTAMP:20260421T165942
CREATED:20231017T004008Z
LAST-MODIFIED:20231017T004008Z
UID:19232-1706918400-1707004799@www.cardunaldogtraining.com
SUMMARY:CDA Obedience/Rally Trial
DESCRIPTION:
URL:https://www.cardunaldogtraining.com/event/cda-obedience-rally-trial/
LOCATION:CarDunAl Dog Training Club\, 10783 Wolf Dr.\, Huntley\, IL\, 60142\, United States
CATEGORIES:Trials
END:VEVENT
BEGIN:VEVENT
DTSTART;TZID=America/Chicago:20240130T190000
DTEND;TZID=America/Chicago:20240130T203000
DTSTAMP:20260421T165942
CREATED:20231017T003835Z
LAST-MODIFIED:20231017T003835Z
UID:19229-1706641200-1706646600@www.cardunaldogtraining.com
SUMMARY:Correction Clinic
DESCRIPTION:
URL:https://www.cardunaldogtraining.com/event/correction-clinic-4/
LOCATION:CarDunAl Dog Training Club\, 10783 Wolf Dr.\, Huntley\, IL\, 60142\, United States
CATEGORIES:Correction Clinic
END:VEVENT
BEGIN:VEVENT
DTSTART;VALUE=DATE:20240128
DTEND;VALUE=DATE:20240129
DTSTAMP:20260421T165942
CREATED:20230929T012757Z
LAST-MODIFIED:20230929T012830Z
UID:19149-1706400000-1706486399@www.cardunaldogtraining.com
SUMMARY:Glenbard All Breed Obedience Club Agility Trial
DESCRIPTION:
URL:https://www.cardunaldogtraining.com/event/glenbard-all-breed-obedience-club-agility-trial-2/
LOCATION:CarDunAl Dog Training Club\, 10783 Wolf Dr.\, Huntley\, IL\, 60142\, United States
CATEGORIES:Trials
END:VEVENT
BEGIN:VEVENT
DTSTART;VALUE=DATE:20240127
DTEND;VALUE=DATE:20240128
DTSTAMP:20260421T165942
CREATED:20230929T012711Z
LAST-MODIFIED:20230929T012910Z
UID:19147-1706313600-1706399999@www.cardunaldogtraining.com
SUMMARY:Glenbard All Breed Obedience Club Agility Trial
DESCRIPTION:
URL:https://www.cardunaldogtraining.com/event/glenbard-all-breed-obedience-club-agility-trial/
LOCATION:CarDunAl Dog Training Club\, 10783 Wolf Dr.\, Huntley\, IL\, 60142\, United States
CATEGORIES:Trials
END:VEVENT
BEGIN:VEVENT
DTSTART;VALUE=DATE:20240126
DTEND;VALUE=DATE:20240127
DTSTAMP:20260421T165942
CREATED:20230929T012530Z
LAST-MODIFIED:20231018T002934Z
UID:19145-1706227200-1706313599@www.cardunaldogtraining.com
SUMMARY:LaSalle Brittany Club Agility Trial
DESCRIPTION:
URL:https://www.cardunaldogtraining.com/event/lasalle-brittany-club-agility-trial/
LOCATION:CarDunAl Dog Training Club\, 10783 Wolf Dr.\, Huntley\, IL\, 60142\, United States
CATEGORIES:Trials
END:VEVENT
BEGIN:VEVENT
DTSTART;VALUE=DATE:20240120
DTEND;VALUE=DATE:20240121
DTSTAMP:20260421T165942
CREATED:20231214T224144Z
LAST-MODIFIED:20231214T224144Z
UID:20522-1705708800-1705795199@www.cardunaldogtraining.com
SUMMARY:Agility Run Thru
DESCRIPTION:CARDUNAL’S \nSATURDAY \nAGILITY RUN THRU \nJanuary 20\, 2024 \nDoors open at 8:30 AM – First Run 9:00 AM \nRunning order:  Tall (24 – 20)     2 Run limit. \nAll “Tall” will run before starting “Small”. \nSmall (16 – 4)      2 Run limit. \nSmall dog walk will start at 10:30 AM or after the completion of Tall. \nNo Entries accepted after 11:00 AM \nTwo nested courses – Masters and Novice (12 Weaves) \nHandlers are welcome to run a course or work on specific exercises within 2 minutes\, gate to gate\, time limit. \nNon-members Fees:  $5.00 for first entry\, $4.00 for second entry of same dog. \nMember Fees: $4.00 for first entry\, $3.00 for second entry of same dog. \nFace coverings are now optional in the building. Please continue to   \nSocial distance inside and outside the building. \nCrating will be available in the building in designated areas. \nInfo:  Kathy Calhoon 847-977-0388 email: BCDOC1978@gmail.com \nCar-Dun-Al Obedience Dog Training Club \n100783 Wolf Drive\, Huntley IL
URL:https://www.cardunaldogtraining.com/event/agility-run-thru-10/
LOCATION:CarDunAl Dog Training Club\, 10783 Wolf Dr.\, Huntley\, IL\, 60142\, United States
CATEGORIES:Events
END:VEVENT
BEGIN:VEVENT
DTSTART;TZID=America/Chicago:20240110T120000
DTEND;TZID=America/Chicago:20240110T130000
DTSTAMP:20260421T165942
CREATED:20231123T004216Z
LAST-MODIFIED:20240701T181607Z
UID:20162-1704888000-1704891600@www.cardunaldogtraining.com
SUMMARY:Drop In Rally Training
DESCRIPTION:
URL:https://www.cardunaldogtraining.com/event/rally-drop-in-training/2024-01-10/
LOCATION:CarDunAl Dog Training Club\, 10783 Wolf Dr.\, Huntley\, IL\, 60142\, United States
CATEGORIES:Drop In Training
END:VEVENT
BEGIN:VEVENT
DTSTART;TZID=America/Chicago:20240109T180000
DTEND;TZID=America/Chicago:20240109T193000
DTSTAMP:20260421T165942
CREATED:20240103T040353Z
LAST-MODIFIED:20240103T040543Z
UID:20624-1704823200-1704828600@www.cardunaldogtraining.com
SUMMARY:Rally Advanced Drop In - Members Only
DESCRIPTION:
URL:https://www.cardunaldogtraining.com/event/rally-advanced-drop-in-members-only/2024-01-09/
LOCATION:CarDunAl Dog Training Club\, 10783 Wolf Dr.\, Huntley\, IL\, 60142\, United States
CATEGORIES:Drop In Training
END:VEVENT
BEGIN:VEVENT
DTSTART;TZID=America/Chicago:20240109T180000
DTEND;TZID=America/Chicago:20240109T190000
DTSTAMP:20260421T165942
CREATED:20231121T015255Z
LAST-MODIFIED:20231121T015255Z
UID:19651-1704823200-1704826800@www.cardunaldogtraining.com
SUMMARY:Puppy Class
DESCRIPTION:
URL:https://www.cardunaldogtraining.com/event/puppy-class-12/2024-01-09/
LOCATION:CarDunAl Dog Training Club\, 10783 Wolf Dr.\, Huntley\, IL\, 60142\, United States
CATEGORIES:AKC Star Puppy / Pre-Beginners Class
END:VEVENT
BEGIN:VEVENT
DTSTART;TZID=America/Chicago:20240109T151500
DTEND;TZID=America/Chicago:20240109T161500
DTSTAMP:20260421T165942
CREATED:20231121T030825Z
LAST-MODIFIED:20231121T030825Z
UID:19954-1704813300-1704816900@www.cardunaldogtraining.com
SUMMARY:Level 2 Scent Work
DESCRIPTION:
URL:https://www.cardunaldogtraining.com/event/level-2-scent-work/2024-01-09/
LOCATION:CarDunAl Dog Training Club\, 10783 Wolf Dr.\, Huntley\, IL\, 60142\, United States
CATEGORIES:Scent Work
END:VEVENT
BEGIN:VEVENT
DTSTART;TZID=America/Chicago:20240109T134500
DTEND;TZID=America/Chicago:20240109T144500
DTSTAMP:20260421T165942
CREATED:20231121T030511Z
LAST-MODIFIED:20231121T030604Z
UID:19934-1704807900-1704811500@www.cardunaldogtraining.com
SUMMARY:Level 1 Scent Work
DESCRIPTION:
URL:https://www.cardunaldogtraining.com/event/level-1-scent-work-2/2024-01-09/
LOCATION:CarDunAl Dog Training Club\, 10783 Wolf Dr.\, Huntley\, IL\, 60142\, United States
CATEGORIES:Scent Work
END:VEVENT
BEGIN:VEVENT
DTSTART;TZID=America/Chicago:20240109T123000
DTEND;TZID=America/Chicago:20240109T133000
DTSTAMP:20260421T165942
CREATED:20231121T025548Z
LAST-MODIFIED:20231121T025618Z
UID:19881-1704803400-1704807000@www.cardunaldogtraining.com
SUMMARY:Level 1 Scent Work
DESCRIPTION:
URL:https://www.cardunaldogtraining.com/event/level-1-scent-work-1230-130-barb-f-liz/2024-01-09/
LOCATION:CarDunAl Dog Training Club\, 10783 Wolf Dr.\, Huntley\, IL\, 60142\, United States
CATEGORIES:Scent Work
END:VEVENT
BEGIN:VEVENT
DTSTART;TZID=America/Chicago:20240109T110000
DTEND;TZID=America/Chicago:20240109T120000
DTSTAMP:20260421T165942
CREATED:20231121T030227Z
LAST-MODIFIED:20231121T030252Z
UID:19913-1704798000-1704801600@www.cardunaldogtraining.com
SUMMARY:Level 3 Scent Work
DESCRIPTION:
URL:https://www.cardunaldogtraining.com/event/level-3-scent-work-1100-1200-jill-laura/2024-01-09/
LOCATION:CarDunAl Dog Training Club\, 10783 Wolf Dr.\, Huntley\, IL\, 60142\, United States
CATEGORIES:Scent Work
END:VEVENT
BEGIN:VEVENT
DTSTART;TZID=America/Chicago:20240109T094500
DTEND;TZID=America/Chicago:20240109T104500
DTSTAMP:20260421T165942
CREATED:20231121T025833Z
LAST-MODIFIED:20231121T025833Z
UID:19902-1704793500-1704797100@www.cardunaldogtraining.com
SUMMARY:Level 3 Scent Work
DESCRIPTION:
URL:https://www.cardunaldogtraining.com/event/level-3-scent-work-2/2024-01-09/
LOCATION:CarDunAl Dog Training Club\, 10783 Wolf Dr.\, Huntley\, IL\, 60142\, United States
CATEGORIES:Scent Work
END:VEVENT
BEGIN:VEVENT
DTSTART;TZID=America/Chicago:20240109T083000
DTEND;TZID=America/Chicago:20240109T093000
DTSTAMP:20260421T165942
CREATED:20231121T024939Z
LAST-MODIFIED:20231121T024939Z
UID:19870-1704789000-1704792600@www.cardunaldogtraining.com
SUMMARY:Level 3 Scent Work
DESCRIPTION:
URL:https://www.cardunaldogtraining.com/event/level-3-scent-work/2024-01-09/
LOCATION:CarDunAl Dog Training Club\, 10783 Wolf Dr.\, Huntley\, IL\, 60142\, United States
CATEGORIES:Scent Work
END:VEVENT
BEGIN:VEVENT
DTSTART;TZID=America/Chicago:20240108T210000
DTEND;TZID=America/Chicago:20240108T220000
DTSTAMP:20260421T165942
CREATED:20231121T033034Z
LAST-MODIFIED:20240201T154817Z
UID:20042-1704747600-1704751200@www.cardunaldogtraining.com
SUMMARY:Intermediate Agility Level 3
DESCRIPTION:
URL:https://www.cardunaldogtraining.com/event/intermediate-agility-level-3-2/2024-01-08/
LOCATION:CarDunAl Dog Training Club\, 10783 Wolf Dr.\, Huntley\, IL\, 60142\, United States
CATEGORIES:Agility
END:VEVENT
BEGIN:VEVENT
DTSTART;TZID=America/Chicago:20240108T200000
DTEND;TZID=America/Chicago:20240108T210000
DTSTAMP:20260421T165942
CREATED:20231121T031611Z
LAST-MODIFIED:20240201T154657Z
UID:19976-1704744000-1704747600@www.cardunaldogtraining.com
SUMMARY:Beginner Agility Level 1
DESCRIPTION:
URL:https://www.cardunaldogtraining.com/event/beginner-agility-level-1-2/2024-01-08/
LOCATION:CarDunAl Dog Training Club\, 10783 Wolf Dr.\, Huntley\, IL\, 60142\, United States
CATEGORIES:Agility
END:VEVENT
BEGIN:VEVENT
DTSTART;TZID=America/Chicago:20240108T190000
DTEND;TZID=America/Chicago:20240108T200000
DTSTAMP:20260421T165942
CREATED:20231121T032614Z
LAST-MODIFIED:20240201T154440Z
UID:20020-1704740400-1704744000@www.cardunaldogtraining.com
SUMMARY:Intermediate Agility Level 2
DESCRIPTION:
URL:https://www.cardunaldogtraining.com/event/intermediate-agility-level-2-2/2024-01-08/
LOCATION:CarDunAl Dog Training Club\, 10783 Wolf Dr.\, Huntley\, IL\, 60142\, United States
CATEGORIES:Agility
END:VEVENT
BEGIN:VEVENT
DTSTART;TZID=America/Chicago:20240108T190000
DTEND;TZID=America/Chicago:20240108T200000
DTSTAMP:20260421T165942
CREATED:20231121T032408Z
LAST-MODIFIED:20240201T153333Z
UID:20009-1704740400-1704744000@www.cardunaldogtraining.com
SUMMARY:Competition Agility Level 5
DESCRIPTION:
URL:https://www.cardunaldogtraining.com/event/competition-agility-level-5-4/2024-01-08/
LOCATION:CarDunAl Dog Training Club\, 10783 Wolf Dr.\, Huntley\, IL\, 60142\, United States
CATEGORIES:Agility
END:VEVENT
BEGIN:VEVENT
DTSTART;TZID=America/Chicago:20240108T180000
DTEND;TZID=America/Chicago:20240108T190000
DTSTAMP:20260421T165942
CREATED:20231121T032139Z
LAST-MODIFIED:20240201T154130Z
UID:19998-1704736800-1704740400@www.cardunaldogtraining.com
SUMMARY:Advanced Agility Level 4
DESCRIPTION:
URL:https://www.cardunaldogtraining.com/event/advanced-agility-level-4-4/2024-01-08/
LOCATION:CarDunAl Dog Training Club\, 10783 Wolf Dr.\, Huntley\, IL\, 60142\, United States
CATEGORIES:Agility
END:VEVENT
BEGIN:VEVENT
DTSTART;TZID=America/Chicago:20240108T180000
DTEND;TZID=America/Chicago:20240108T190000
DTSTAMP:20260421T165942
CREATED:20231121T031336Z
LAST-MODIFIED:20240201T153848Z
UID:19965-1704736800-1704740400@www.cardunaldogtraining.com
SUMMARY:Agility Foundation Class Level 0
DESCRIPTION:
URL:https://www.cardunaldogtraining.com/event/agility-foundation-class-level-0/2024-01-08/
LOCATION:CarDunAl Dog Training Club\, 10783 Wolf Dr.\, Huntley\, IL\, 60142\, United States
CATEGORIES:Agility
END:VEVENT
BEGIN:VEVENT
DTSTART;TZID=America/Chicago:20240108T170000
DTEND;TZID=America/Chicago:20240108T180000
DTSTAMP:20260421T165942
CREATED:20231121T031955Z
LAST-MODIFIED:20240201T153622Z
UID:19987-1704733200-1704736800@www.cardunaldogtraining.com
SUMMARY:Advanced Agility Level 4
DESCRIPTION:
URL:https://www.cardunaldogtraining.com/event/advanced-agility-level-4-3/2024-01-08/
LOCATION:CarDunAl Dog Training Club\, 10783 Wolf Dr.\, Huntley\, IL\, 60142\, United States
CATEGORIES:Agility
END:VEVENT
END:VCALENDAR