BEGIN:VCALENDAR
VERSION:2.0
PRODID:-//Car-Dun-Al Dog Obedience Training Club - ECPv6.15.17.1//NONSGML v1.0//EN
CALSCALE:GREGORIAN
METHOD:PUBLISH
X-WR-CALNAME:Car-Dun-Al Dog Obedience Training Club
X-ORIGINAL-URL:https://www.cardunaldogtraining.com
X-WR-CALDESC:Events for Car-Dun-Al Dog Obedience Training Club
REFRESH-INTERVAL;VALUE=DURATION:PT1H
X-Robots-Tag:noindex
X-PUBLISHED-TTL:PT1H
BEGIN:VTIMEZONE
TZID:America/Chicago
BEGIN:DAYLIGHT
TZOFFSETFROM:-0600
TZOFFSETTO:-0500
TZNAME:CDT
DTSTART:20230312T080000
END:DAYLIGHT
BEGIN:STANDARD
TZOFFSETFROM:-0500
TZOFFSETTO:-0600
TZNAME:CST
DTSTART:20231105T070000
END:STANDARD
BEGIN:DAYLIGHT
TZOFFSETFROM:-0600
TZOFFSETTO:-0500
TZNAME:CDT
DTSTART:20240310T080000
END:DAYLIGHT
BEGIN:STANDARD
TZOFFSETFROM:-0500
TZOFFSETTO:-0600
TZNAME:CST
DTSTART:20241103T070000
END:STANDARD
BEGIN:DAYLIGHT
TZOFFSETFROM:-0600
TZOFFSETTO:-0500
TZNAME:CDT
DTSTART:20250309T080000
END:DAYLIGHT
BEGIN:STANDARD
TZOFFSETFROM:-0500
TZOFFSETTO:-0600
TZNAME:CST
DTSTART:20251102T070000
END:STANDARD
END:VTIMEZONE
BEGIN:VEVENT
DTSTART;TZID=America/Chicago:20240523T210000
DTEND;TZID=America/Chicago:20240523T220000
DTSTAMP:20260421T234808
CREATED:20240307T005344Z
LAST-MODIFIED:20240307T005344Z
UID:21486-1716498000-1716501600@www.cardunaldogtraining.com
SUMMARY:Open/Utility Obedience - No Instructor
DESCRIPTION:
URL:https://www.cardunaldogtraining.com/event/open-utility-obedience-no-instructor-10/2024-05-23/
LOCATION:CarDunAl Dog Training Club\, 10783 Wolf Dr.\, Huntley\, IL\, 60142\, United States
CATEGORIES:Advanced
END:VEVENT
BEGIN:VEVENT
DTSTART;TZID=America/Chicago:20240523T203000
DTEND;TZID=America/Chicago:20240523T210000
DTSTAMP:20260421T234808
CREATED:20240307T024752Z
LAST-MODIFIED:20240307T024752Z
UID:21736-1716496200-1716498000@www.cardunaldogtraining.com
SUMMARY:Utility Obedience
DESCRIPTION:
URL:https://www.cardunaldogtraining.com/event/utility-obedience-4/2024-05-23/
LOCATION:CarDunAl Dog Training Club\, 10783 Wolf Dr.\, Huntley\, IL\, 60142\, United States
CATEGORIES:Advanced
END:VEVENT
BEGIN:VEVENT
DTSTART;TZID=America/Chicago:20240523T200000
DTEND;TZID=America/Chicago:20240523T210000
DTSTAMP:20260421T234808
CREATED:20240307T022236Z
LAST-MODIFIED:20240307T022236Z
UID:21596-1716494400-1716498000@www.cardunaldogtraining.com
SUMMARY:Beginner Obedience
DESCRIPTION:
URL:https://www.cardunaldogtraining.com/event/beginner-obedience-24/2024-05-23/
LOCATION:CarDunAl Dog Training Club\, 10783 Wolf Dr.\, Huntley\, IL\, 60142\, United States
CATEGORIES:Advanced
END:VEVENT
BEGIN:VEVENT
DTSTART;TZID=America/Chicago:20240523T200000
DTEND;TZID=America/Chicago:20240523T210000
DTSTAMP:20260421T234808
CREATED:20240307T011223Z
LAST-MODIFIED:20240307T011223Z
UID:21563-1716494400-1716498000@www.cardunaldogtraining.com
SUMMARY:Pre-Open Obedience
DESCRIPTION:
URL:https://www.cardunaldogtraining.com/event/pre-open-obedience-12/2024-05-23/
LOCATION:CarDunAl Dog Training Club\, 10783 Wolf Dr.\, Huntley\, IL\, 60142\, United States
CATEGORIES:Advanced
END:VEVENT
BEGIN:VEVENT
DTSTART;TZID=America/Chicago:20240523T200000
DTEND;TZID=America/Chicago:20240523T210000
DTSTAMP:20260421T234808
CREATED:20240307T011100Z
LAST-MODIFIED:20240307T011100Z
UID:21552-1716494400-1716498000@www.cardunaldogtraining.com
SUMMARY:Open Obedience
DESCRIPTION:
URL:https://www.cardunaldogtraining.com/event/open-obedience-14/2024-05-23/
LOCATION:CarDunAl Dog Training Club\, 10783 Wolf Dr.\, Huntley\, IL\, 60142\, United States
CATEGORIES:Advanced
END:VEVENT
BEGIN:VEVENT
DTSTART;TZID=America/Chicago:20240523T190000
DTEND;TZID=America/Chicago:20240523T200000
DTSTAMP:20260421T234808
CREATED:20240307T024635Z
LAST-MODIFIED:20240307T024635Z
UID:21725-1716490800-1716494400@www.cardunaldogtraining.com
SUMMARY:Mid-Utility Obedience
DESCRIPTION:
URL:https://www.cardunaldogtraining.com/event/mid-utility-obedience-7/2024-05-23/
LOCATION:CarDunAl Dog Training Club\, 10783 Wolf Dr.\, Huntley\, IL\, 60142\, United States
CATEGORIES:Advanced
END:VEVENT
BEGIN:VEVENT
DTSTART;TZID=America/Chicago:20240523T190000
DTEND;TZID=America/Chicago:20240523T200000
DTSTAMP:20260421T234808
CREATED:20240307T021812Z
LAST-MODIFIED:20240307T021812Z
UID:21585-1716490800-1716494400@www.cardunaldogtraining.com
SUMMARY:Beginner Novice Obedience
DESCRIPTION:
URL:https://www.cardunaldogtraining.com/event/beginner-novice-obedience-8/2024-05-23/
LOCATION:CarDunAl Dog Training Club\, 10783 Wolf Dr.\, Huntley\, IL\, 60142\, United States
CATEGORIES:Advanced
END:VEVENT
BEGIN:VEVENT
DTSTART;TZID=America/Chicago:20240523T190000
DTEND;TZID=America/Chicago:20240523T200000
DTSTAMP:20260421T234808
CREATED:20240307T004758Z
LAST-MODIFIED:20240307T004758Z
UID:21442-1716490800-1716494400@www.cardunaldogtraining.com
SUMMARY:Novice Obedience
DESCRIPTION:
URL:https://www.cardunaldogtraining.com/event/novice-obedience-17/2024-05-23/
LOCATION:CarDunAl Dog Training Club\, 10783 Wolf Dr.\, Huntley\, IL\, 60142\, United States
CATEGORIES:Advanced
END:VEVENT
BEGIN:VEVENT
DTSTART;TZID=America/Chicago:20240523T183000
DTEND;TZID=America/Chicago:20240523T193000
DTSTAMP:20260421T234808
CREATED:20240307T010622Z
LAST-MODIFIED:20240307T010622Z
UID:21529-1716489000-1716492600@www.cardunaldogtraining.com
SUMMARY:Beginner Obedience
DESCRIPTION:
URL:https://www.cardunaldogtraining.com/event/beginner-obedience-23/2024-05-23/
LOCATION:CarDunAl Dog Training Club\, 10783 Wolf Dr.\, Huntley\, IL\, 60142\, United States
CATEGORIES:Advanced
END:VEVENT
BEGIN:VEVENT
DTSTART;TZID=America/Chicago:20240523T180000
DTEND;TZID=America/Chicago:20240523T190000
DTSTAMP:20260421T234808
CREATED:20240307T021617Z
LAST-MODIFIED:20240307T021617Z
UID:21574-1716487200-1716490800@www.cardunaldogtraining.com
SUMMARY:Beginner Novice Obedience
DESCRIPTION:
URL:https://www.cardunaldogtraining.com/event/beginner-novice-obedience-7/2024-05-23/
LOCATION:CarDunAl Dog Training Club\, 10783 Wolf Dr.\, Huntley\, IL\, 60142\, United States
CATEGORIES:Advanced
END:VEVENT
BEGIN:VEVENT
DTSTART;TZID=America/Chicago:20240523T180000
DTEND;TZID=America/Chicago:20240523T190000
DTSTAMP:20260421T234808
CREATED:20240307T005128Z
LAST-MODIFIED:20240307T005203Z
UID:21465-1716487200-1716490800@www.cardunaldogtraining.com
SUMMARY:Open/Utility Obedience - No Instructor
DESCRIPTION:
URL:https://www.cardunaldogtraining.com/event/open-utility-no-instructor-5/2024-05-23/
LOCATION:CarDunAl Dog Training Club\, 10783 Wolf Dr.\, Huntley\, IL\, 60142\, United States
CATEGORIES:Advanced
END:VEVENT
BEGIN:VEVENT
DTSTART;TZID=America/Chicago:20240523T173000
DTEND;TZID=America/Chicago:20240523T190000
DTSTAMP:20260421T234808
CREATED:20231123T003905Z
LAST-MODIFIED:20240906T232101Z
UID:20134-1716485400-1716490800@www.cardunaldogtraining.com
SUMMARY:Drop In Rally Training
DESCRIPTION:
URL:https://www.cardunaldogtraining.com/event/drop-in-rally-training-2/2024-05-23/
LOCATION:CarDunAl Dog Training Club\, 10783 Wolf Dr.\, Huntley\, IL\, 60142\, United States
END:VEVENT
BEGIN:VEVENT
DTSTART;TZID=America/Chicago:20240523T120000
DTEND;TZID=America/Chicago:20240523T130000
DTSTAMP:20260421T234808
CREATED:20240307T005833Z
LAST-MODIFIED:20240307T010515Z
UID:21510-1716465600-1716469200@www.cardunaldogtraining.com
SUMMARY:Beginner Obedience
DESCRIPTION:
URL:https://www.cardunaldogtraining.com/event/beginner-obedience-22/2024-05-23/
LOCATION:CarDunAl Dog Training Club\, 10783 Wolf Dr.\, Huntley\, IL\, 60142\, United States
CATEGORIES:Advanced
END:VEVENT
BEGIN:VEVENT
DTSTART;TZID=America/Chicago:20240523T103000
DTEND;TZID=America/Chicago:20240523T113000
DTSTAMP:20260421T234808
CREATED:20240307T004312Z
LAST-MODIFIED:20240307T004312Z
UID:21407-1716460200-1716463800@www.cardunaldogtraining.com
SUMMARY:Puppy Class Obedience
DESCRIPTION:
URL:https://www.cardunaldogtraining.com/event/puppy-class-obedience-6/2024-05-23/
LOCATION:CarDunAl Dog Training Club\, 10783 Wolf Dr.\, Huntley\, IL\, 60142\, United States
CATEGORIES:AKC Star Puppy / Pre-Beginners Class
END:VEVENT
BEGIN:VEVENT
DTSTART;TZID=America/Chicago:20240522T190000
DTEND;TZID=America/Chicago:20240522T200000
DTSTAMP:20260421T234808
CREATED:20240207T020143Z
LAST-MODIFIED:20240910T210828Z
UID:20898-1716404400-1716408000@www.cardunaldogtraining.com
SUMMARY:Drop In Conformation
DESCRIPTION:
URL:https://www.cardunaldogtraining.com/event/drop-in-conformation/2024-05-22/
LOCATION:CarDunAl Dog Training Club\, 10783 Wolf Dr.\, Huntley\, IL\, 60142\, United States
CATEGORIES:Drop In Training
END:VEVENT
BEGIN:VEVENT
DTSTART;TZID=America/Chicago:20240522T120000
DTEND;TZID=America/Chicago:20240522T130000
DTSTAMP:20260421T234808
CREATED:20231123T004216Z
LAST-MODIFIED:20240701T181623Z
UID:22613-1716379200-1716382800@www.cardunaldogtraining.com
SUMMARY:Drop In Rally Training
DESCRIPTION:
URL:https://www.cardunaldogtraining.com/event/rally-drop-in-training/2024-05-22/
LOCATION:CarDunAl Dog Training Club\, 10783 Wolf Dr.\, Huntley\, IL\, 60142\, United States
CATEGORIES:Drop In Training
END:VEVENT
BEGIN:VEVENT
DTSTART;TZID=America/Chicago:20240522T113000
DTEND;TZID=America/Chicago:20240522T123000
DTSTAMP:20260421T234808
CREATED:20240307T005557Z
LAST-MODIFIED:20240307T005557Z
UID:21498-1716377400-1716381000@www.cardunaldogtraining.com
SUMMARY:Beginner Obedience
DESCRIPTION:
URL:https://www.cardunaldogtraining.com/event/beginner-obedience-21/2024-05-22/
LOCATION:CarDunAl Dog Training Club\, 10783 Wolf Dr.\, Huntley\, IL\, 60142\, United States
CATEGORIES:Advanced
END:VEVENT
BEGIN:VEVENT
DTSTART;TZID=America/Chicago:20240522T100000
DTEND;TZID=America/Chicago:20240522T120000
DTSTAMP:20260421T234808
CREATED:20231123T003335Z
LAST-MODIFIED:20240910T210659Z
UID:20083-1716372000-1716379200@www.cardunaldogtraining.com
SUMMARY:Drop In Obedience Training
DESCRIPTION:
URL:https://www.cardunaldogtraining.com/event/drop-in-obedience-training-3/2024-05-22/
LOCATION:CarDunAl Dog Training Club\, 10783 Wolf Dr.\, Huntley\, IL\, 60142\, United States
CATEGORIES:Drop In Training
END:VEVENT
BEGIN:VEVENT
DTSTART;TZID=America/Chicago:20240522T100000
DTEND;TZID=America/Chicago:20240522T110000
DTSTAMP:20260421T234808
CREATED:20240307T010949Z
LAST-MODIFIED:20240307T010949Z
UID:21541-1716372000-1716375600@www.cardunaldogtraining.com
SUMMARY:Open Obedience
DESCRIPTION:
URL:https://www.cardunaldogtraining.com/event/open-obedience-13/2024-05-22/
LOCATION:CarDunAl Dog Training Club\, 10783 Wolf Dr.\, Huntley\, IL\, 60142\, United States
CATEGORIES:Advanced
END:VEVENT
BEGIN:VEVENT
DTSTART;TZID=America/Chicago:20240522T100000
DTEND;TZID=America/Chicago:20240522T110000
DTSTAMP:20260421T234808
CREATED:20240307T004511Z
LAST-MODIFIED:20240307T004613Z
UID:21419-1716372000-1716375600@www.cardunaldogtraining.com
SUMMARY:Novice Obedience
DESCRIPTION:
URL:https://www.cardunaldogtraining.com/event/novice-wednesday-1000-am/2024-05-22/
LOCATION:CarDunAl Dog Training Club\, 10783 Wolf Dr.\, Huntley\, IL\, 60142\, United States
CATEGORIES:Advanced
END:VEVENT
BEGIN:VEVENT
DTSTART;TZID=America/Chicago:20240522T090000
DTEND;TZID=America/Chicago:20240522T100000
DTSTAMP:20260421T234808
CREATED:20240307T005011Z
LAST-MODIFIED:20240307T005011Z
UID:21454-1716368400-1716372000@www.cardunaldogtraining.com
SUMMARY:Open/Utility Obedience - No Instructor
DESCRIPTION:
URL:https://www.cardunaldogtraining.com/event/open-utility-obedience-no-instructor-9/2024-05-22/
LOCATION:CarDunAl Dog Training Club\, 10783 Wolf Dr.\, Huntley\, IL\, 60142\, United States
CATEGORIES:Advanced
END:VEVENT
BEGIN:VEVENT
DTSTART;TZID=America/Chicago:20240521T200000
DTEND;TZID=America/Chicago:20240521T210000
DTSTAMP:20260421T234808
CREATED:20240307T023156Z
LAST-MODIFIED:20240307T023156Z
UID:21644-1716321600-1716325200@www.cardunaldogtraining.com
SUMMARY:Intermediate Agility Level 3
DESCRIPTION:
URL:https://www.cardunaldogtraining.com/event/intermediate-agility-level-3-3/2024-05-21/
LOCATION:CarDunAl Dog Training Club\, 10783 Wolf Dr.\, Huntley\, IL\, 60142\, United States
CATEGORIES:Agility
END:VEVENT
BEGIN:VEVENT
DTSTART;TZID=America/Chicago:20240521T180000
DTEND;TZID=America/Chicago:20240521T190000
DTSTAMP:20260421T234808
CREATED:20240307T004158Z
LAST-MODIFIED:20240307T004158Z
UID:21395-1716314400-1716318000@www.cardunaldogtraining.com
SUMMARY:Puppy Class Obedience
DESCRIPTION:
URL:https://www.cardunaldogtraining.com/event/puppy-class-obedience-5/2024-05-21/
LOCATION:CarDunAl Dog Training Club\, 10783 Wolf Dr.\, Huntley\, IL\, 60142\, United States
CATEGORIES:AKC Star Puppy / Pre-Beginners Class
END:VEVENT
BEGIN:VEVENT
DTSTART;TZID=America/Chicago:20240521T151500
DTEND;TZID=America/Chicago:20240521T161500
DTSTAMP:20260421T234808
CREATED:20240307T025908Z
LAST-MODIFIED:20240307T025908Z
UID:21768-1716304500-1716308100@www.cardunaldogtraining.com
SUMMARY:Scent Work Level 2
DESCRIPTION:
URL:https://www.cardunaldogtraining.com/event/scent-work-level-2-2/2024-05-21/
LOCATION:CarDunAl Dog Training Club\, 10783 Wolf Dr.\, Huntley\, IL\, 60142\, United States
CATEGORIES:Scent Work
END:VEVENT
BEGIN:VEVENT
DTSTART;TZID=America/Chicago:20240521T134500
DTEND;TZID=America/Chicago:20240521T144500
DTSTAMP:20260421T234808
CREATED:20240307T025637Z
LAST-MODIFIED:20240307T025637Z
UID:21757-1716299100-1716302700@www.cardunaldogtraining.com
SUMMARY:Scent Work Level 1
DESCRIPTION:
URL:https://www.cardunaldogtraining.com/event/scent-work-level-1-2/2024-05-21/
LOCATION:CarDunAl Dog Training Club\, 10783 Wolf Dr.\, Huntley\, IL\, 60142\, United States
CATEGORIES:Scent Work
END:VEVENT
BEGIN:VEVENT
DTSTART;TZID=America/Chicago:20240521T123000
DTEND;TZID=America/Chicago:20240521T133000
DTSTAMP:20260421T234808
CREATED:20240307T025353Z
LAST-MODIFIED:20240307T025353Z
UID:21746-1716294600-1716298200@www.cardunaldogtraining.com
SUMMARY:Scent Work Level 1
DESCRIPTION:
URL:https://www.cardunaldogtraining.com/event/scent-work-level-1/2024-05-21/
LOCATION:CarDunAl Dog Training Club\, 10783 Wolf Dr.\, Huntley\, IL\, 60142\, United States
CATEGORIES:Scent Work
END:VEVENT
BEGIN:VEVENT
DTSTART;TZID=America/Chicago:20240521T110000
DTEND;TZID=America/Chicago:20240521T120000
DTSTAMP:20260421T234808
CREATED:20240307T030534Z
LAST-MODIFIED:20240307T030534Z
UID:21801-1716289200-1716292800@www.cardunaldogtraining.com
SUMMARY:Scent Work Level 3
DESCRIPTION:
URL:https://www.cardunaldogtraining.com/event/scent-work-level-3-4/2024-05-21/
LOCATION:CarDunAl Dog Training Club\, 10783 Wolf Dr.\, Huntley\, IL\, 60142\, United States
CATEGORIES:Scent Work
END:VEVENT
BEGIN:VEVENT
DTSTART;TZID=America/Chicago:20240521T094500
DTEND;TZID=America/Chicago:20240521T104500
DTSTAMP:20260421T234808
CREATED:20240307T030330Z
LAST-MODIFIED:20240307T030330Z
UID:21790-1716284700-1716288300@www.cardunaldogtraining.com
SUMMARY:Scent Work Level 3
DESCRIPTION:
URL:https://www.cardunaldogtraining.com/event/scent-work-level-3-3/2024-05-21/
LOCATION:CarDunAl Dog Training Club\, 10783 Wolf Dr.\, Huntley\, IL\, 60142\, United States
CATEGORIES:Scent Work
END:VEVENT
BEGIN:VEVENT
DTSTART;TZID=America/Chicago:20240521T083000
DTEND;TZID=America/Chicago:20240521T093000
DTSTAMP:20260421T234808
CREATED:20240307T030051Z
LAST-MODIFIED:20240307T030051Z
UID:21779-1716280200-1716283800@www.cardunaldogtraining.com
SUMMARY:Scent Work Level 3
DESCRIPTION:
URL:https://www.cardunaldogtraining.com/event/scent-work-level-3-2/2024-05-21/
LOCATION:CarDunAl Dog Training Club\, 10783 Wolf Dr.\, Huntley\, IL\, 60142\, United States
CATEGORIES:Scent Work
END:VEVENT
BEGIN:VEVENT
DTSTART;TZID=America/Chicago:20240520T200000
DTEND;TZID=America/Chicago:20240520T210000
DTSTAMP:20260421T234808
CREATED:20240307T024026Z
LAST-MODIFIED:20240307T024026Z
UID:21702-1716235200-1716238800@www.cardunaldogtraining.com
SUMMARY:Competition Agility Level 5
DESCRIPTION:
URL:https://www.cardunaldogtraining.com/event/competition-agility-level-5-7/2024-05-20/
LOCATION:CarDunAl Dog Training Club\, 10783 Wolf Dr.\, Huntley\, IL\, 60142\, United States
CATEGORIES:Agility
END:VEVENT
END:VCALENDAR