BEGIN:VCALENDAR
VERSION:2.0
PRODID:-//Car-Dun-Al Dog Obedience Training Club - ECPv6.15.17.1//NONSGML v1.0//EN
CALSCALE:GREGORIAN
METHOD:PUBLISH
X-WR-CALNAME:Car-Dun-Al Dog Obedience Training Club
X-ORIGINAL-URL:https://www.cardunaldogtraining.com
X-WR-CALDESC:Events for Car-Dun-Al Dog Obedience Training Club
REFRESH-INTERVAL;VALUE=DURATION:PT1H
X-Robots-Tag:noindex
X-PUBLISHED-TTL:PT1H
BEGIN:VTIMEZONE
TZID:America/Chicago
BEGIN:DAYLIGHT
TZOFFSETFROM:-0600
TZOFFSETTO:-0500
TZNAME:CDT
DTSTART:20250309T080000
END:DAYLIGHT
BEGIN:STANDARD
TZOFFSETFROM:-0500
TZOFFSETTO:-0600
TZNAME:CST
DTSTART:20251102T070000
END:STANDARD
BEGIN:DAYLIGHT
TZOFFSETFROM:-0600
TZOFFSETTO:-0500
TZNAME:CDT
DTSTART:20260308T080000
END:DAYLIGHT
BEGIN:STANDARD
TZOFFSETFROM:-0500
TZOFFSETTO:-0600
TZNAME:CST
DTSTART:20261101T070000
END:STANDARD
BEGIN:DAYLIGHT
TZOFFSETFROM:-0600
TZOFFSETTO:-0500
TZNAME:CDT
DTSTART:20270314T080000
END:DAYLIGHT
BEGIN:STANDARD
TZOFFSETFROM:-0500
TZOFFSETTO:-0600
TZNAME:CST
DTSTART:20271107T070000
END:STANDARD
END:VTIMEZONE
BEGIN:VEVENT
DTSTART;VALUE=DATE:20260516
DTEND;VALUE=DATE:20260517
DTSTAMP:20260422T044919
CREATED:20251220T011746Z
LAST-MODIFIED:20251220T011746Z
UID:28587-1778889600-1778975999@www.cardunaldogtraining.com
SUMMARY:Agility Ability Agility Trial
DESCRIPTION:
URL:https://www.cardunaldogtraining.com/event/agility-ability-agility-trial-9/2026-05-16/
LOCATION:CarDunAl Dog Training Club\, 10783 Wolf Dr.\, Huntley\, IL\, 60142\, United States
CATEGORIES:Trials
END:VEVENT
BEGIN:VEVENT
DTSTART;VALUE=DATE:20260517
DTEND;VALUE=DATE:20260518
DTSTAMP:20260422T044919
CREATED:20251220T011746Z
LAST-MODIFIED:20251220T011746Z
UID:28588-1778976000-1779062399@www.cardunaldogtraining.com
SUMMARY:Agility Ability Agility Trial
DESCRIPTION:
URL:https://www.cardunaldogtraining.com/event/agility-ability-agility-trial-9/2026-05-17/
LOCATION:CarDunAl Dog Training Club\, 10783 Wolf Dr.\, Huntley\, IL\, 60142\, United States
CATEGORIES:Trials
END:VEVENT
BEGIN:VEVENT
DTSTART;TZID=America/Chicago:20260519T180000
DTEND;TZID=America/Chicago:20260519T190000
DTSTAMP:20260422T044919
CREATED:20260422T002623Z
LAST-MODIFIED:20260422T003227Z
UID:29702-1779213600-1779217200@www.cardunaldogtraining.com
SUMMARY:Puppy Class Obedience
DESCRIPTION:
URL:https://www.cardunaldogtraining.com/event/puppy-class-obedience-18/2026-05-19/
LOCATION:CarDunAl Dog Training Club\, 10783 Wolf Dr.\, Huntley\, IL\, 60142\, United States
CATEGORIES:AKC Star Puppy / Pre-Beginners Class
END:VEVENT
BEGIN:VEVENT
DTSTART;TZID=America/Chicago:20260520T100000
DTEND;TZID=America/Chicago:20260520T110000
DTSTAMP:20260422T044919
CREATED:20260422T002916Z
LAST-MODIFIED:20260422T004645Z
UID:29718-1779271200-1779274800@www.cardunaldogtraining.com
SUMMARY:Novice Obedience
DESCRIPTION:
URL:https://www.cardunaldogtraining.com/event/novice-obedience-35/2026-05-20/
LOCATION:CarDunAl Dog Training Club\, 10783 Wolf Dr.\, Huntley\, IL\, 60142\, United States
CATEGORIES:Advanced
END:VEVENT
BEGIN:VEVENT
DTSTART;TZID=America/Chicago:20260520T100000
DTEND;TZID=America/Chicago:20260520T110000
DTSTAMP:20260422T044919
CREATED:20260422T011054Z
LAST-MODIFIED:20260422T011054Z
UID:29834-1779271200-1779274800@www.cardunaldogtraining.com
SUMMARY:Open Obedience
DESCRIPTION:
URL:https://www.cardunaldogtraining.com/event/open-obedience-29/2026-05-20/
LOCATION:CarDunAl Dog Training Club\, 10783 Wolf Dr.\, Huntley\, IL\, 60142\, United States
CATEGORIES:Advanced
END:VEVENT
BEGIN:VEVENT
DTSTART;TZID=America/Chicago:20260520T100000
DTEND;TZID=America/Chicago:20260520T120000
DTSTAMP:20260422T044919
CREATED:20251231T012521Z
LAST-MODIFIED:20251231T012521Z
UID:29343-1779271200-1779278400@www.cardunaldogtraining.com
SUMMARY:Obedience Drop-In Training
DESCRIPTION:
URL:https://www.cardunaldogtraining.com/event/obedience-drop-in-training-3/2026-05-20/
LOCATION:CarDunAl Dog Training Club\, 10783 Wolf Dr.\, Huntley\, IL\, 60142\, United States
CATEGORIES:Drop In Training
END:VEVENT
BEGIN:VEVENT
DTSTART;TZID=America/Chicago:20260520T110000
DTEND;TZID=America/Chicago:20260520T120000
DTSTAMP:20260422T044919
CREATED:20260422T003508Z
LAST-MODIFIED:20260422T003508Z
UID:29738-1779274800-1779278400@www.cardunaldogtraining.com
SUMMARY:Novice Obedience
DESCRIPTION:
URL:https://www.cardunaldogtraining.com/event/novice-obedience-36/2026-05-20/
LOCATION:CarDunAl Dog Training Club\, 10783 Wolf Dr.\, Huntley\, IL\, 60142\, United States
CATEGORIES:Advanced
END:VEVENT
BEGIN:VEVENT
DTSTART;TZID=America/Chicago:20260520T120000
DTEND;TZID=America/Chicago:20260520T130000
DTSTAMP:20260422T044919
CREATED:20260422T005717Z
LAST-MODIFIED:20260422T005717Z
UID:29779-1779278400-1779282000@www.cardunaldogtraining.com
SUMMARY:Beginner Obedience
DESCRIPTION:
URL:https://www.cardunaldogtraining.com/event/beginner-obedience-49/2026-05-20/
LOCATION:CarDunAl Dog Training Club\, 10783 Wolf Dr.\, Huntley\, IL\, 60142\, United States
CATEGORIES:Beginners
END:VEVENT
BEGIN:VEVENT
DTSTART;TZID=America/Chicago:20260520T120000
DTEND;TZID=America/Chicago:20260520T133000
DTSTAMP:20260422T044919
CREATED:20251231T005740Z
LAST-MODIFIED:20260101T022932Z
UID:29188-1779278400-1779283800@www.cardunaldogtraining.com
SUMMARY:Rally Drop-In
DESCRIPTION:
URL:https://www.cardunaldogtraining.com/event/rally-drop-in-class/2026-05-20/
LOCATION:CarDunAl Dog Training Club\, 10783 Wolf Dr.\, Huntley\, IL\, 60142\, United States
CATEGORIES:Drop In Training
END:VEVENT
BEGIN:VEVENT
DTSTART;TZID=America/Chicago:20260520T120000
DTEND;TZID=America/Chicago:20260520T140000
DTSTAMP:20260422T044919
CREATED:20251231T005340Z
LAST-MODIFIED:20251231T005340Z
UID:29166-1779278400-1779285600@www.cardunaldogtraining.com
SUMMARY:Cone Crazy Rally Finale
DESCRIPTION:
URL:https://www.cardunaldogtraining.com/event/cone-crazy-rally-finale/
LOCATION:CarDunAl Dog Training Club\, 10783 Wolf Dr.\, Huntley\, IL\, 60142\, United States
CATEGORIES:Events
END:VEVENT
BEGIN:VEVENT
DTSTART;TZID=America/Chicago:20260520T180000
DTEND;TZID=America/Chicago:20260520T184500
DTSTAMP:20260422T044919
CREATED:20251231T012028Z
LAST-MODIFIED:20251231T012028Z
UID:29243-1779300000-1779302700@www.cardunaldogtraining.com
SUMMARY:Novice Conformation Handling Class Drop-In Training
DESCRIPTION:
URL:https://www.cardunaldogtraining.com/event/novice-conformation-handling-class-drop-in-training/2026-05-20/
LOCATION:CarDunAl Dog Training Club\, 10783 Wolf Dr.\, Huntley\, IL\, 60142\, United States
END:VEVENT
BEGIN:VEVENT
DTSTART;TZID=America/Chicago:20260520T190000
DTEND;TZID=America/Chicago:20260520T200000
DTSTAMP:20260422T044919
CREATED:20251231T012254Z
LAST-MODIFIED:20251231T012254Z
UID:29293-1779303600-1779307200@www.cardunaldogtraining.com
SUMMARY:Conformation Drop-In Training
DESCRIPTION:
URL:https://www.cardunaldogtraining.com/event/conformation-drop-in-training-2/2026-05-20/
LOCATION:CarDunAl Dog Training Club\, 10783 Wolf Dr.\, Huntley\, IL\, 60142\, United States
CATEGORIES:Drop In Training
END:VEVENT
BEGIN:VEVENT
DTSTART;TZID=America/Chicago:20260521T120000
DTEND;TZID=America/Chicago:20260521T130000
DTSTAMP:20260422T044919
CREATED:20260422T005853Z
LAST-MODIFIED:20260422T005853Z
UID:29789-1779364800-1779368400@www.cardunaldogtraining.com
SUMMARY:Beginner Obedience
DESCRIPTION:
URL:https://www.cardunaldogtraining.com/event/beginner-obedience-50/2026-05-21/
LOCATION:CarDunAl Dog Training Club\, 10783 Wolf Dr.\, Huntley\, IL\, 60142\, United States
CATEGORIES:Beginners
END:VEVENT
BEGIN:VEVENT
DTSTART;TZID=America/Chicago:20260521T184500
DTEND;TZID=America/Chicago:20260521T194500
DTSTAMP:20260422T044919
CREATED:20260422T010014Z
LAST-MODIFIED:20260422T010014Z
UID:29800-1779389100-1779392700@www.cardunaldogtraining.com
SUMMARY:Beginner Obedience
DESCRIPTION:
URL:https://www.cardunaldogtraining.com/event/beginner-obedience-51/2026-05-21/
LOCATION:CarDunAl Dog Training Club\, 10783 Wolf Dr.\, Huntley\, IL\, 60142\, United States
CATEGORIES:Beginners
END:VEVENT
BEGIN:VEVENT
DTSTART;TZID=America/Chicago:20260521T190000
DTEND;TZID=America/Chicago:20260521T200000
DTSTAMP:20260422T044919
CREATED:20260422T003755Z
LAST-MODIFIED:20260422T005414Z
UID:29749-1779390000-1779393600@www.cardunaldogtraining.com
SUMMARY:Novice Obedience
DESCRIPTION:
URL:https://www.cardunaldogtraining.com/event/novice-obedience-37/2026-05-21/
LOCATION:CarDunAl Dog Training Club\, 10783 Wolf Dr.\, Huntley\, IL\, 60142\, United States
CATEGORIES:Advanced
END:VEVENT
BEGIN:VEVENT
DTSTART;TZID=America/Chicago:20260521T190000
DTEND;TZID=America/Chicago:20260521T200000
DTSTAMP:20260422T044919
CREATED:20260422T010514Z
LAST-MODIFIED:20260422T010514Z
UID:29822-1779390000-1779393600@www.cardunaldogtraining.com
SUMMARY:Beginner Novice Obedience
DESCRIPTION:
URL:https://www.cardunaldogtraining.com/event/beginner-novice-obedience-21/2026-05-21/
LOCATION:CarDunAl Dog Training Club\, 10783 Wolf Dr.\, Huntley\, IL\, 60142\, United States
CATEGORIES:Advanced
END:VEVENT
BEGIN:VEVENT
DTSTART;TZID=America/Chicago:20260521T200000
DTEND;TZID=America/Chicago:20260521T210000
DTSTAMP:20260422T044919
CREATED:20260422T010139Z
LAST-MODIFIED:20260422T010139Z
UID:29811-1779393600-1779397200@www.cardunaldogtraining.com
SUMMARY:Beginner Obedience
DESCRIPTION:
URL:https://www.cardunaldogtraining.com/event/beginner-obedience-52/2026-05-21/
LOCATION:CarDunAl Dog Training Club\, 10783 Wolf Dr.\, Huntley\, IL\, 60142\, United States
CATEGORIES:Beginners
END:VEVENT
BEGIN:VEVENT
DTSTART;TZID=America/Chicago:20260521T200000
DTEND;TZID=America/Chicago:20260521T210000
DTSTAMP:20260422T044919
CREATED:20260422T011220Z
LAST-MODIFIED:20260422T011220Z
UID:29844-1779393600-1779397200@www.cardunaldogtraining.com
SUMMARY:Open Obedience
DESCRIPTION:
URL:https://www.cardunaldogtraining.com/event/open-obedience-30/2026-05-21/
LOCATION:CarDunAl Dog Training Club\, 10783 Wolf Dr.\, Huntley\, IL\, 60142\, United States
CATEGORIES:Advanced
END:VEVENT
BEGIN:VEVENT
DTSTART;TZID=America/Chicago:20260521T200000
DTEND;TZID=America/Chicago:20260521T210000
DTSTAMP:20260422T044919
CREATED:20260422T011320Z
LAST-MODIFIED:20260422T011320Z
UID:29855-1779393600-1779397200@www.cardunaldogtraining.com
SUMMARY:Open Obedience
DESCRIPTION:
URL:https://www.cardunaldogtraining.com/event/open-obedience-31/2026-05-21/
LOCATION:CarDunAl Dog Training Club\, 10783 Wolf Dr.\, Huntley\, IL\, 60142\, United States
CATEGORIES:Advanced
END:VEVENT
BEGIN:VEVENT
DTSTART;TZID=America/Chicago:20260526T180000
DTEND;TZID=America/Chicago:20260526T190000
DTSTAMP:20260422T044919
CREATED:20260422T002623Z
LAST-MODIFIED:20260422T003227Z
UID:29709-1779818400-1779822000@www.cardunaldogtraining.com
SUMMARY:Puppy Class Obedience
DESCRIPTION:
URL:https://www.cardunaldogtraining.com/event/puppy-class-obedience-18/2026-05-26/
LOCATION:CarDunAl Dog Training Club\, 10783 Wolf Dr.\, Huntley\, IL\, 60142\, United States
CATEGORIES:AKC Star Puppy / Pre-Beginners Class
END:VEVENT
BEGIN:VEVENT
DTSTART;TZID=America/Chicago:20260527T100000
DTEND;TZID=America/Chicago:20260527T110000
DTSTAMP:20260422T044919
CREATED:20260422T002916Z
LAST-MODIFIED:20260422T004645Z
UID:29719-1779876000-1779879600@www.cardunaldogtraining.com
SUMMARY:Novice Obedience
DESCRIPTION:
URL:https://www.cardunaldogtraining.com/event/novice-obedience-35/2026-05-27/
LOCATION:CarDunAl Dog Training Club\, 10783 Wolf Dr.\, Huntley\, IL\, 60142\, United States
CATEGORIES:Advanced
END:VEVENT
BEGIN:VEVENT
DTSTART;TZID=America/Chicago:20260527T100000
DTEND;TZID=America/Chicago:20260527T110000
DTSTAMP:20260422T044919
CREATED:20260422T011054Z
LAST-MODIFIED:20260422T011054Z
UID:29835-1779876000-1779879600@www.cardunaldogtraining.com
SUMMARY:Open Obedience
DESCRIPTION:
URL:https://www.cardunaldogtraining.com/event/open-obedience-29/2026-05-27/
LOCATION:CarDunAl Dog Training Club\, 10783 Wolf Dr.\, Huntley\, IL\, 60142\, United States
CATEGORIES:Advanced
END:VEVENT
BEGIN:VEVENT
DTSTART;TZID=America/Chicago:20260527T100000
DTEND;TZID=America/Chicago:20260527T120000
DTSTAMP:20260422T044919
CREATED:20251231T012521Z
LAST-MODIFIED:20251231T012521Z
UID:29344-1779876000-1779883200@www.cardunaldogtraining.com
SUMMARY:Obedience Drop-In Training
DESCRIPTION:
URL:https://www.cardunaldogtraining.com/event/obedience-drop-in-training-3/2026-05-27/
LOCATION:CarDunAl Dog Training Club\, 10783 Wolf Dr.\, Huntley\, IL\, 60142\, United States
CATEGORIES:Drop In Training
END:VEVENT
BEGIN:VEVENT
DTSTART;TZID=America/Chicago:20260527T110000
DTEND;TZID=America/Chicago:20260527T120000
DTSTAMP:20260422T044919
CREATED:20260422T003508Z
LAST-MODIFIED:20260422T003508Z
UID:29739-1779879600-1779883200@www.cardunaldogtraining.com
SUMMARY:Novice Obedience
DESCRIPTION:
URL:https://www.cardunaldogtraining.com/event/novice-obedience-36/2026-05-27/
LOCATION:CarDunAl Dog Training Club\, 10783 Wolf Dr.\, Huntley\, IL\, 60142\, United States
CATEGORIES:Advanced
END:VEVENT
BEGIN:VEVENT
DTSTART;TZID=America/Chicago:20260527T120000
DTEND;TZID=America/Chicago:20260527T130000
DTSTAMP:20260422T044919
CREATED:20260422T005717Z
LAST-MODIFIED:20260422T005717Z
UID:29780-1779883200-1779886800@www.cardunaldogtraining.com
SUMMARY:Beginner Obedience
DESCRIPTION:
URL:https://www.cardunaldogtraining.com/event/beginner-obedience-49/2026-05-27/
LOCATION:CarDunAl Dog Training Club\, 10783 Wolf Dr.\, Huntley\, IL\, 60142\, United States
CATEGORIES:Beginners
END:VEVENT
BEGIN:VEVENT
DTSTART;TZID=America/Chicago:20260527T180000
DTEND;TZID=America/Chicago:20260527T184500
DTSTAMP:20260422T044919
CREATED:20251231T012028Z
LAST-MODIFIED:20251231T012028Z
UID:29244-1779904800-1779907500@www.cardunaldogtraining.com
SUMMARY:Novice Conformation Handling Class Drop-In Training
DESCRIPTION:
URL:https://www.cardunaldogtraining.com/event/novice-conformation-handling-class-drop-in-training/2026-05-27/
LOCATION:CarDunAl Dog Training Club\, 10783 Wolf Dr.\, Huntley\, IL\, 60142\, United States
END:VEVENT
BEGIN:VEVENT
DTSTART;TZID=America/Chicago:20260527T190000
DTEND;TZID=America/Chicago:20260527T200000
DTSTAMP:20260422T044919
CREATED:20251231T012254Z
LAST-MODIFIED:20251231T012254Z
UID:29294-1779908400-1779912000@www.cardunaldogtraining.com
SUMMARY:Conformation Drop-In Training
DESCRIPTION:
URL:https://www.cardunaldogtraining.com/event/conformation-drop-in-training-2/2026-05-27/
LOCATION:CarDunAl Dog Training Club\, 10783 Wolf Dr.\, Huntley\, IL\, 60142\, United States
CATEGORIES:Drop In Training
END:VEVENT
BEGIN:VEVENT
DTSTART;TZID=America/Chicago:20260528T120000
DTEND;TZID=America/Chicago:20260528T130000
DTSTAMP:20260422T044919
CREATED:20260422T005853Z
LAST-MODIFIED:20260422T005853Z
UID:29790-1779969600-1779973200@www.cardunaldogtraining.com
SUMMARY:Beginner Obedience
DESCRIPTION:
URL:https://www.cardunaldogtraining.com/event/beginner-obedience-50/2026-05-28/
LOCATION:CarDunAl Dog Training Club\, 10783 Wolf Dr.\, Huntley\, IL\, 60142\, United States
CATEGORIES:Beginners
END:VEVENT
BEGIN:VEVENT
DTSTART;TZID=America/Chicago:20260528T184500
DTEND;TZID=America/Chicago:20260528T194500
DTSTAMP:20260422T044919
CREATED:20260422T010014Z
LAST-MODIFIED:20260422T010014Z
UID:29801-1779993900-1779997500@www.cardunaldogtraining.com
SUMMARY:Beginner Obedience
DESCRIPTION:
URL:https://www.cardunaldogtraining.com/event/beginner-obedience-51/2026-05-28/
LOCATION:CarDunAl Dog Training Club\, 10783 Wolf Dr.\, Huntley\, IL\, 60142\, United States
CATEGORIES:Beginners
END:VEVENT
BEGIN:VEVENT
DTSTART;TZID=America/Chicago:20260528T190000
DTEND;TZID=America/Chicago:20260528T200000
DTSTAMP:20260422T044919
CREATED:20260422T003755Z
LAST-MODIFIED:20260422T005414Z
UID:29750-1779994800-1779998400@www.cardunaldogtraining.com
SUMMARY:Novice Obedience
DESCRIPTION:
URL:https://www.cardunaldogtraining.com/event/novice-obedience-37/2026-05-28/
LOCATION:CarDunAl Dog Training Club\, 10783 Wolf Dr.\, Huntley\, IL\, 60142\, United States
CATEGORIES:Advanced
END:VEVENT
END:VCALENDAR