BEGIN:VCALENDAR
VERSION:2.0
PRODID:-//Car-Dun-Al Dog Obedience Training Club - ECPv6.15.17.1//NONSGML v1.0//EN
CALSCALE:GREGORIAN
METHOD:PUBLISH
X-ORIGINAL-URL:https://www.cardunaldogtraining.com
X-WR-CALDESC:Events for Car-Dun-Al Dog Obedience Training Club
REFRESH-INTERVAL;VALUE=DURATION:PT1H
X-Robots-Tag:noindex
X-PUBLISHED-TTL:PT1H
BEGIN:VTIMEZONE
TZID:America/Chicago
BEGIN:DAYLIGHT
TZOFFSETFROM:-0600
TZOFFSETTO:-0500
TZNAME:CDT
DTSTART:20230312T080000
END:DAYLIGHT
BEGIN:STANDARD
TZOFFSETFROM:-0500
TZOFFSETTO:-0600
TZNAME:CST
DTSTART:20231105T070000
END:STANDARD
BEGIN:DAYLIGHT
TZOFFSETFROM:-0600
TZOFFSETTO:-0500
TZNAME:CDT
DTSTART:20240310T080000
END:DAYLIGHT
BEGIN:STANDARD
TZOFFSETFROM:-0500
TZOFFSETTO:-0600
TZNAME:CST
DTSTART:20241103T070000
END:STANDARD
BEGIN:DAYLIGHT
TZOFFSETFROM:-0600
TZOFFSETTO:-0500
TZNAME:CDT
DTSTART:20250309T080000
END:DAYLIGHT
BEGIN:STANDARD
TZOFFSETFROM:-0500
TZOFFSETTO:-0600
TZNAME:CST
DTSTART:20251102T070000
END:STANDARD
END:VTIMEZONE
BEGIN:VEVENT
DTSTART;TZID=America/Chicago:20240425T180000
DTEND;TZID=America/Chicago:20240425T190000
DTSTAMP:20260421T152141
CREATED:20240307T021617Z
LAST-MODIFIED:20240307T021617Z
UID:21570-1714068000-1714071600@www.cardunaldogtraining.com
SUMMARY:Beginner Novice Obedience
DESCRIPTION:
URL:https://www.cardunaldogtraining.com/event/beginner-novice-obedience-7/2024-04-25/
LOCATION:CarDunAl Dog Training Club\, 10783 Wolf Dr.\, Huntley\, IL\, 60142\, United States
CATEGORIES:Advanced
END:VEVENT
BEGIN:VEVENT
DTSTART;TZID=America/Chicago:20240425T183000
DTEND;TZID=America/Chicago:20240425T193000
DTSTAMP:20260421T152141
CREATED:20240307T010622Z
LAST-MODIFIED:20240307T010622Z
UID:21525-1714069800-1714073400@www.cardunaldogtraining.com
SUMMARY:Beginner Obedience
DESCRIPTION:
URL:https://www.cardunaldogtraining.com/event/beginner-obedience-23/2024-04-25/
LOCATION:CarDunAl Dog Training Club\, 10783 Wolf Dr.\, Huntley\, IL\, 60142\, United States
CATEGORIES:Advanced
END:VEVENT
BEGIN:VEVENT
DTSTART;TZID=America/Chicago:20240425T190000
DTEND;TZID=America/Chicago:20240425T200000
DTSTAMP:20260421T152141
CREATED:20240307T004758Z
LAST-MODIFIED:20240307T004758Z
UID:21438-1714071600-1714075200@www.cardunaldogtraining.com
SUMMARY:Novice Obedience
DESCRIPTION:
URL:https://www.cardunaldogtraining.com/event/novice-obedience-17/2024-04-25/
LOCATION:CarDunAl Dog Training Club\, 10783 Wolf Dr.\, Huntley\, IL\, 60142\, United States
CATEGORIES:Advanced
END:VEVENT
BEGIN:VEVENT
DTSTART;TZID=America/Chicago:20240425T190000
DTEND;TZID=America/Chicago:20240425T200000
DTSTAMP:20260421T152141
CREATED:20240307T021812Z
LAST-MODIFIED:20240307T021812Z
UID:21581-1714071600-1714075200@www.cardunaldogtraining.com
SUMMARY:Beginner Novice Obedience
DESCRIPTION:
URL:https://www.cardunaldogtraining.com/event/beginner-novice-obedience-8/2024-04-25/
LOCATION:CarDunAl Dog Training Club\, 10783 Wolf Dr.\, Huntley\, IL\, 60142\, United States
CATEGORIES:Advanced
END:VEVENT
BEGIN:VEVENT
DTSTART;TZID=America/Chicago:20240425T190000
DTEND;TZID=America/Chicago:20240425T200000
DTSTAMP:20260421T152141
CREATED:20240307T024635Z
LAST-MODIFIED:20240307T024635Z
UID:21721-1714071600-1714075200@www.cardunaldogtraining.com
SUMMARY:Mid-Utility Obedience
DESCRIPTION:
URL:https://www.cardunaldogtraining.com/event/mid-utility-obedience-7/2024-04-25/
LOCATION:CarDunAl Dog Training Club\, 10783 Wolf Dr.\, Huntley\, IL\, 60142\, United States
CATEGORIES:Advanced
END:VEVENT
BEGIN:VEVENT
DTSTART;TZID=America/Chicago:20240425T200000
DTEND;TZID=America/Chicago:20240425T210000
DTSTAMP:20260421T152141
CREATED:20240307T011100Z
LAST-MODIFIED:20240307T011100Z
UID:21548-1714075200-1714078800@www.cardunaldogtraining.com
SUMMARY:Open Obedience
DESCRIPTION:
URL:https://www.cardunaldogtraining.com/event/open-obedience-14/2024-04-25/
LOCATION:CarDunAl Dog Training Club\, 10783 Wolf Dr.\, Huntley\, IL\, 60142\, United States
CATEGORIES:Advanced
END:VEVENT
BEGIN:VEVENT
DTSTART;TZID=America/Chicago:20240425T200000
DTEND;TZID=America/Chicago:20240425T210000
DTSTAMP:20260421T152141
CREATED:20240307T011223Z
LAST-MODIFIED:20240307T011223Z
UID:21559-1714075200-1714078800@www.cardunaldogtraining.com
SUMMARY:Pre-Open Obedience
DESCRIPTION:
URL:https://www.cardunaldogtraining.com/event/pre-open-obedience-12/2024-04-25/
LOCATION:CarDunAl Dog Training Club\, 10783 Wolf Dr.\, Huntley\, IL\, 60142\, United States
CATEGORIES:Advanced
END:VEVENT
BEGIN:VEVENT
DTSTART;TZID=America/Chicago:20240425T200000
DTEND;TZID=America/Chicago:20240425T210000
DTSTAMP:20260421T152141
CREATED:20240307T022236Z
LAST-MODIFIED:20240307T022236Z
UID:21592-1714075200-1714078800@www.cardunaldogtraining.com
SUMMARY:Beginner Obedience
DESCRIPTION:
URL:https://www.cardunaldogtraining.com/event/beginner-obedience-24/2024-04-25/
LOCATION:CarDunAl Dog Training Club\, 10783 Wolf Dr.\, Huntley\, IL\, 60142\, United States
CATEGORIES:Advanced
END:VEVENT
BEGIN:VEVENT
DTSTART;TZID=America/Chicago:20240425T203000
DTEND;TZID=America/Chicago:20240425T210000
DTSTAMP:20260421T152141
CREATED:20240307T024752Z
LAST-MODIFIED:20240307T024752Z
UID:21732-1714077000-1714078800@www.cardunaldogtraining.com
SUMMARY:Utility Obedience
DESCRIPTION:
URL:https://www.cardunaldogtraining.com/event/utility-obedience-4/2024-04-25/
LOCATION:CarDunAl Dog Training Club\, 10783 Wolf Dr.\, Huntley\, IL\, 60142\, United States
CATEGORIES:Advanced
END:VEVENT
BEGIN:VEVENT
DTSTART;TZID=America/Chicago:20240425T210000
DTEND;TZID=America/Chicago:20240425T220000
DTSTAMP:20260421T152141
CREATED:20240307T005344Z
LAST-MODIFIED:20240307T005344Z
UID:21482-1714078800-1714082400@www.cardunaldogtraining.com
SUMMARY:Open/Utility Obedience - No Instructor
DESCRIPTION:
URL:https://www.cardunaldogtraining.com/event/open-utility-obedience-no-instructor-10/2024-04-25/
LOCATION:CarDunAl Dog Training Club\, 10783 Wolf Dr.\, Huntley\, IL\, 60142\, United States
CATEGORIES:Advanced
END:VEVENT
BEGIN:VEVENT
DTSTART;VALUE=DATE:20240427
DTEND;VALUE=DATE:20240428
DTSTAMP:20260421T152141
CREATED:20231018T005500Z
LAST-MODIFIED:20231018T005500Z
UID:19272-1714176000-1714262399@www.cardunaldogtraining.com
SUMMARY:Cardunal Agility Trial
DESCRIPTION:
URL:https://www.cardunaldogtraining.com/event/cardunal-agility-trial-5/
LOCATION:CarDunAl Dog Training Club\, 10783 Wolf Dr.\, Huntley\, IL\, 60142\, United States
CATEGORIES:Trials
END:VEVENT
BEGIN:VEVENT
DTSTART;VALUE=DATE:20240428
DTEND;VALUE=DATE:20240429
DTSTAMP:20260421T152141
CREATED:20231018T005557Z
LAST-MODIFIED:20231018T005557Z
UID:19274-1714262400-1714348799@www.cardunaldogtraining.com
SUMMARY:Cardunal Agility Trial
DESCRIPTION:
URL:https://www.cardunaldogtraining.com/event/cardunal-agility-trial-6/
LOCATION:CarDunAl Dog Training Club\, 10783 Wolf Dr.\, Huntley\, IL\, 60142\, United States
CATEGORIES:Trials
END:VEVENT
BEGIN:VEVENT
DTSTART;TZID=America/Chicago:20240429T090000
DTEND;TZID=America/Chicago:20240429T103000
DTSTAMP:20260421T152141
CREATED:20240307T024233Z
LAST-MODIFIED:20240307T024233Z
UID:21711-1714381200-1714386600@www.cardunaldogtraining.com
SUMMARY:Master Agility Level 6
DESCRIPTION:
URL:https://www.cardunaldogtraining.com/event/master-agility-level-6/2024-04-29/
LOCATION:CarDunAl Dog Training Club\, 10783 Wolf Dr.\, Huntley\, IL\, 60142\, United States
CATEGORIES:Agility
END:VEVENT
BEGIN:VEVENT
DTSTART;TZID=America/Chicago:20240429T170000
DTEND;TZID=America/Chicago:20240429T180000
DTSTAMP:20260421T152141
CREATED:20240307T023332Z
LAST-MODIFIED:20240307T023332Z
UID:21653-1714410000-1714413600@www.cardunaldogtraining.com
SUMMARY:Advanced Agility Level 4
DESCRIPTION:
URL:https://www.cardunaldogtraining.com/event/advanced-agility-level-4-5/2024-04-29/
LOCATION:CarDunAl Dog Training Club\, 10783 Wolf Dr.\, Huntley\, IL\, 60142\, United States
CATEGORIES:Agility
END:VEVENT
BEGIN:VEVENT
DTSTART;TZID=America/Chicago:20240429T180000
DTEND;TZID=America/Chicago:20240429T190000
DTSTAMP:20260421T152141
CREATED:20240307T022524Z
LAST-MODIFIED:20240307T022524Z
UID:21605-1714413600-1714417200@www.cardunaldogtraining.com
SUMMARY:Agility Foundation Class Level 0
DESCRIPTION:
URL:https://www.cardunaldogtraining.com/event/agility-foundation-class-level-0-2/2024-04-29/
LOCATION:CarDunAl Dog Training Club\, 10783 Wolf Dr.\, Huntley\, IL\, 60142\, United States
CATEGORIES:Agility
END:VEVENT
BEGIN:VEVENT
DTSTART;TZID=America/Chicago:20240429T180000
DTEND;TZID=America/Chicago:20240429T190000
DTSTAMP:20260421T152141
CREATED:20240307T023523Z
LAST-MODIFIED:20240307T023523Z
UID:21676-1714413600-1714417200@www.cardunaldogtraining.com
SUMMARY:Advanced Agility Level 4
DESCRIPTION:
URL:https://www.cardunaldogtraining.com/event/advanced-agility-level-4-6/2024-04-29/
LOCATION:CarDunAl Dog Training Club\, 10783 Wolf Dr.\, Huntley\, IL\, 60142\, United States
CATEGORIES:Agility
END:VEVENT
BEGIN:VEVENT
DTSTART;TZID=America/Chicago:20240429T190000
DTEND;TZID=America/Chicago:20240429T200000
DTSTAMP:20260421T152141
CREATED:20240307T022845Z
LAST-MODIFIED:20240307T022845Z
UID:21629-1714417200-1714420800@www.cardunaldogtraining.com
SUMMARY:Intermediate Agility Level 2
DESCRIPTION:
URL:https://www.cardunaldogtraining.com/event/intermediate-agility-level-2-3/2024-04-29/
LOCATION:CarDunAl Dog Training Club\, 10783 Wolf Dr.\, Huntley\, IL\, 60142\, United States
CATEGORIES:Agility
END:VEVENT
BEGIN:VEVENT
DTSTART;TZID=America/Chicago:20240429T190000
DTEND;TZID=America/Chicago:20240429T200000
DTSTAMP:20260421T152141
CREATED:20240307T023827Z
LAST-MODIFIED:20240307T023827Z
UID:21687-1714417200-1714420800@www.cardunaldogtraining.com
SUMMARY:Competition Agility Level 5
DESCRIPTION:
URL:https://www.cardunaldogtraining.com/event/competition-agility-level-5-6/2024-04-29/
LOCATION:CarDunAl Dog Training Club\, 10783 Wolf Dr.\, Huntley\, IL\, 60142\, United States
CATEGORIES:Agility
END:VEVENT
BEGIN:VEVENT
DTSTART;TZID=America/Chicago:20240429T200000
DTEND;TZID=America/Chicago:20240429T210000
DTSTAMP:20260421T152141
CREATED:20240307T022706Z
LAST-MODIFIED:20240307T022706Z
UID:21617-1714420800-1714424400@www.cardunaldogtraining.com
SUMMARY:Beginner Agility Level 1
DESCRIPTION:
URL:https://www.cardunaldogtraining.com/event/beginner-agility-level-1-3/2024-04-29/
LOCATION:CarDunAl Dog Training Club\, 10783 Wolf Dr.\, Huntley\, IL\, 60142\, United States
CATEGORIES:Agility
END:VEVENT
BEGIN:VEVENT
DTSTART;TZID=America/Chicago:20240429T200000
DTEND;TZID=America/Chicago:20240429T210000
DTSTAMP:20260421T152141
CREATED:20240307T024026Z
LAST-MODIFIED:20240307T024026Z
UID:21699-1714420800-1714424400@www.cardunaldogtraining.com
SUMMARY:Competition Agility Level 5
DESCRIPTION:
URL:https://www.cardunaldogtraining.com/event/competition-agility-level-5-7/2024-04-29/
LOCATION:CarDunAl Dog Training Club\, 10783 Wolf Dr.\, Huntley\, IL\, 60142\, United States
CATEGORIES:Agility
END:VEVENT
BEGIN:VEVENT
DTSTART;TZID=America/Chicago:20240430T083000
DTEND;TZID=America/Chicago:20240430T093000
DTSTAMP:20260421T152141
CREATED:20240307T030051Z
LAST-MODIFIED:20240307T030051Z
UID:21776-1714465800-1714469400@www.cardunaldogtraining.com
SUMMARY:Scent Work Level 3
DESCRIPTION:
URL:https://www.cardunaldogtraining.com/event/scent-work-level-3-2/2024-04-30/
LOCATION:CarDunAl Dog Training Club\, 10783 Wolf Dr.\, Huntley\, IL\, 60142\, United States
CATEGORIES:Scent Work
END:VEVENT
BEGIN:VEVENT
DTSTART;TZID=America/Chicago:20240430T094500
DTEND;TZID=America/Chicago:20240430T104500
DTSTAMP:20260421T152141
CREATED:20240307T030330Z
LAST-MODIFIED:20240307T030330Z
UID:21787-1714470300-1714473900@www.cardunaldogtraining.com
SUMMARY:Scent Work Level 3
DESCRIPTION:
URL:https://www.cardunaldogtraining.com/event/scent-work-level-3-3/2024-04-30/
LOCATION:CarDunAl Dog Training Club\, 10783 Wolf Dr.\, Huntley\, IL\, 60142\, United States
CATEGORIES:Scent Work
END:VEVENT
BEGIN:VEVENT
DTSTART;TZID=America/Chicago:20240430T110000
DTEND;TZID=America/Chicago:20240430T120000
DTSTAMP:20260421T152141
CREATED:20240307T030534Z
LAST-MODIFIED:20240307T030534Z
UID:21798-1714474800-1714478400@www.cardunaldogtraining.com
SUMMARY:Scent Work Level 3
DESCRIPTION:
URL:https://www.cardunaldogtraining.com/event/scent-work-level-3-4/2024-04-30/
LOCATION:CarDunAl Dog Training Club\, 10783 Wolf Dr.\, Huntley\, IL\, 60142\, United States
CATEGORIES:Scent Work
END:VEVENT
BEGIN:VEVENT
DTSTART;TZID=America/Chicago:20240430T123000
DTEND;TZID=America/Chicago:20240430T133000
DTSTAMP:20260421T152141
CREATED:20240307T025353Z
LAST-MODIFIED:20240307T025353Z
UID:21743-1714480200-1714483800@www.cardunaldogtraining.com
SUMMARY:Scent Work Level 1
DESCRIPTION:
URL:https://www.cardunaldogtraining.com/event/scent-work-level-1/2024-04-30/
LOCATION:CarDunAl Dog Training Club\, 10783 Wolf Dr.\, Huntley\, IL\, 60142\, United States
CATEGORIES:Scent Work
END:VEVENT
BEGIN:VEVENT
DTSTART;TZID=America/Chicago:20240430T134500
DTEND;TZID=America/Chicago:20240430T144500
DTSTAMP:20260421T152141
CREATED:20240307T025637Z
LAST-MODIFIED:20240307T025637Z
UID:21754-1714484700-1714488300@www.cardunaldogtraining.com
SUMMARY:Scent Work Level 1
DESCRIPTION:
URL:https://www.cardunaldogtraining.com/event/scent-work-level-1-2/2024-04-30/
LOCATION:CarDunAl Dog Training Club\, 10783 Wolf Dr.\, Huntley\, IL\, 60142\, United States
CATEGORIES:Scent Work
END:VEVENT
BEGIN:VEVENT
DTSTART;TZID=America/Chicago:20240430T151500
DTEND;TZID=America/Chicago:20240430T161500
DTSTAMP:20260421T152141
CREATED:20240307T025908Z
LAST-MODIFIED:20240307T025908Z
UID:21765-1714490100-1714493700@www.cardunaldogtraining.com
SUMMARY:Scent Work Level 2
DESCRIPTION:
URL:https://www.cardunaldogtraining.com/event/scent-work-level-2-2/2024-04-30/
LOCATION:CarDunAl Dog Training Club\, 10783 Wolf Dr.\, Huntley\, IL\, 60142\, United States
CATEGORIES:Scent Work
END:VEVENT
BEGIN:VEVENT
DTSTART;TZID=America/Chicago:20240430T180000
DTEND;TZID=America/Chicago:20240430T190000
DTSTAMP:20260421T152141
CREATED:20240307T004158Z
LAST-MODIFIED:20240307T004158Z
UID:21392-1714500000-1714503600@www.cardunaldogtraining.com
SUMMARY:Puppy Class Obedience
DESCRIPTION:
URL:https://www.cardunaldogtraining.com/event/puppy-class-obedience-5/2024-04-30/
LOCATION:CarDunAl Dog Training Club\, 10783 Wolf Dr.\, Huntley\, IL\, 60142\, United States
CATEGORIES:AKC Star Puppy / Pre-Beginners Class
END:VEVENT
BEGIN:VEVENT
DTSTART;TZID=America/Chicago:20240430T200000
DTEND;TZID=America/Chicago:20240430T210000
DTSTAMP:20260421T152141
CREATED:20240307T023156Z
LAST-MODIFIED:20240307T023156Z
UID:21641-1714507200-1714510800@www.cardunaldogtraining.com
SUMMARY:Intermediate Agility Level 3
DESCRIPTION:
URL:https://www.cardunaldogtraining.com/event/intermediate-agility-level-3-3/2024-04-30/
LOCATION:CarDunAl Dog Training Club\, 10783 Wolf Dr.\, Huntley\, IL\, 60142\, United States
CATEGORIES:Agility
END:VEVENT
BEGIN:VEVENT
DTSTART;TZID=America/Chicago:20240501T090000
DTEND;TZID=America/Chicago:20240501T100000
DTSTAMP:20260421T152141
CREATED:20240307T005011Z
LAST-MODIFIED:20240307T005011Z
UID:21451-1714554000-1714557600@www.cardunaldogtraining.com
SUMMARY:Open/Utility Obedience - No Instructor
DESCRIPTION:
URL:https://www.cardunaldogtraining.com/event/open-utility-obedience-no-instructor-9/2024-05-01/
LOCATION:CarDunAl Dog Training Club\, 10783 Wolf Dr.\, Huntley\, IL\, 60142\, United States
CATEGORIES:Advanced
END:VEVENT
BEGIN:VEVENT
DTSTART;TZID=America/Chicago:20240501T100000
DTEND;TZID=America/Chicago:20240501T110000
DTSTAMP:20260421T152141
CREATED:20240307T004511Z
LAST-MODIFIED:20240307T004613Z
UID:21416-1714557600-1714561200@www.cardunaldogtraining.com
SUMMARY:Novice Obedience
DESCRIPTION:
URL:https://www.cardunaldogtraining.com/event/novice-wednesday-1000-am/2024-05-01/
LOCATION:CarDunAl Dog Training Club\, 10783 Wolf Dr.\, Huntley\, IL\, 60142\, United States
CATEGORIES:Advanced
END:VEVENT
END:VCALENDAR