BEGIN:VCALENDAR
VERSION:2.0
PRODID:-//Car-Dun-Al Dog Obedience Training Club - ECPv6.15.17.1//NONSGML v1.0//EN
CALSCALE:GREGORIAN
METHOD:PUBLISH
X-WR-CALNAME:Car-Dun-Al Dog Obedience Training Club
X-ORIGINAL-URL:https://www.cardunaldogtraining.com
X-WR-CALDESC:Events for Car-Dun-Al Dog Obedience Training Club
REFRESH-INTERVAL;VALUE=DURATION:PT1H
X-Robots-Tag:noindex
X-PUBLISHED-TTL:PT1H
BEGIN:VTIMEZONE
TZID:America/Chicago
BEGIN:DAYLIGHT
TZOFFSETFROM:-0600
TZOFFSETTO:-0500
TZNAME:CDT
DTSTART:20210314T080000
END:DAYLIGHT
BEGIN:STANDARD
TZOFFSETFROM:-0500
TZOFFSETTO:-0600
TZNAME:CST
DTSTART:20211107T070000
END:STANDARD
BEGIN:DAYLIGHT
TZOFFSETFROM:-0600
TZOFFSETTO:-0500
TZNAME:CDT
DTSTART:20220313T080000
END:DAYLIGHT
BEGIN:STANDARD
TZOFFSETFROM:-0500
TZOFFSETTO:-0600
TZNAME:CST
DTSTART:20221106T070000
END:STANDARD
BEGIN:DAYLIGHT
TZOFFSETFROM:-0600
TZOFFSETTO:-0500
TZNAME:CDT
DTSTART:20230312T080000
END:DAYLIGHT
BEGIN:STANDARD
TZOFFSETFROM:-0500
TZOFFSETTO:-0600
TZNAME:CST
DTSTART:20231105T070000
END:STANDARD
END:VTIMEZONE
BEGIN:VEVENT
DTSTART;TZID=America/Chicago:20220324T200000
DTEND;TZID=America/Chicago:20220324T210000
DTSTAMP:20260423T210659
CREATED:20220325T194913Z
LAST-MODIFIED:20220325T194913Z
UID:13670-1648152000-1648155600@www.cardunaldogtraining.com
SUMMARY:Mid-Utility Obedience
DESCRIPTION:
URL:https://www.cardunaldogtraining.com/event/mid-utility-obedience/2022-03-24/
LOCATION:CarDunAl Dog Training Club\, 10783 Wolf Dr.\, Huntley\, IL\, 60142\, United States
CATEGORIES:Advanced
END:VEVENT
BEGIN:VEVENT
DTSTART;TZID=America/Chicago:20220324T200000
DTEND;TZID=America/Chicago:20220324T210000
DTSTAMP:20260423T210659
CREATED:20220325T194737Z
LAST-MODIFIED:20220325T194737Z
UID:13659-1648152000-1648155600@www.cardunaldogtraining.com
SUMMARY:Open Obedience
DESCRIPTION:
URL:https://www.cardunaldogtraining.com/event/open-obedience/2022-03-24/
LOCATION:CarDunAl Dog Training Club\, 10783 Wolf Dr.\, Huntley\, IL\, 60142\, United States
CATEGORIES:Advanced
END:VEVENT
BEGIN:VEVENT
DTSTART;TZID=America/Chicago:20220324T200000
DTEND;TZID=America/Chicago:20220324T210000
DTSTAMP:20260423T210659
CREATED:20220325T194447Z
LAST-MODIFIED:20220325T194447Z
UID:13637-1648152000-1648155600@www.cardunaldogtraining.com
SUMMARY:Beginners Obedience
DESCRIPTION:
URL:https://www.cardunaldogtraining.com/event/beginners-obedience-8/2022-03-24/
LOCATION:CarDunAl Dog Training Club\, 10783 Wolf Dr.\, Huntley\, IL\, 60142\, United States
CATEGORIES:Beginners
END:VEVENT
BEGIN:VEVENT
DTSTART;TZID=America/Chicago:20220324T190000
DTEND;TZID=America/Chicago:20220324T200000
DTSTAMP:20260423T210659
CREATED:20220325T194643Z
LAST-MODIFIED:20220325T194643Z
UID:13648-1648148400-1648152000@www.cardunaldogtraining.com
SUMMARY:Pre-Open Obedience
DESCRIPTION:
URL:https://www.cardunaldogtraining.com/event/pre-open-obedience/2022-03-24/
LOCATION:CarDunAl Dog Training Club\, 10783 Wolf Dr.\, Huntley\, IL\, 60142\, United States
CATEGORIES:Advanced
END:VEVENT
BEGIN:VEVENT
DTSTART;TZID=America/Chicago:20220324T190000
DTEND;TZID=America/Chicago:20220324T200000
DTSTAMP:20260423T210659
CREATED:20220325T193132Z
LAST-MODIFIED:20220325T193132Z
UID:13562-1648148400-1648152000@www.cardunaldogtraining.com
SUMMARY:Novice Obedience
DESCRIPTION:
URL:https://www.cardunaldogtraining.com/event/novice-obedience-2/2022-03-24/
LOCATION:CarDunAl Dog Training Club\, 10783 Wolf Dr.\, Huntley\, IL\, 60142\, United States
CATEGORIES:Advanced
END:VEVENT
BEGIN:VEVENT
DTSTART;TZID=America/Chicago:20220324T183000
DTEND;TZID=America/Chicago:20220324T193000
DTSTAMP:20260423T210659
CREATED:20220325T194344Z
LAST-MODIFIED:20220325T194344Z
UID:13626-1648146600-1648150200@www.cardunaldogtraining.com
SUMMARY:Beginners Obedience
DESCRIPTION:
URL:https://www.cardunaldogtraining.com/event/beginners-obedience-7/2022-03-24/
LOCATION:CarDunAl Dog Training Club\, 10783 Wolf Dr.\, Huntley\, IL\, 60142\, United States
CATEGORIES:Beginners
END:VEVENT
BEGIN:VEVENT
DTSTART;TZID=America/Chicago:20220324T133000
DTEND;TZID=America/Chicago:20220324T143000
DTSTAMP:20260423T210659
CREATED:20220325T193959Z
LAST-MODIFIED:20220325T194140Z
UID:13607-1648128600-1648132200@www.cardunaldogtraining.com
SUMMARY:Beginners Obedience
DESCRIPTION:
URL:https://www.cardunaldogtraining.com/event/beginners-obedience-6/2022-03-24/
LOCATION:CarDunAl Dog Training Club\, 10783 Wolf Dr.\, Huntley\, IL\, 60142\, United States
CATEGORIES:Beginners
END:VEVENT
BEGIN:VEVENT
DTSTART;TZID=America/Chicago:20220324T121500
DTEND;TZID=America/Chicago:20220324T130000
DTSTAMP:20260423T210659
CREATED:20220325T192646Z
LAST-MODIFIED:20220325T192646Z
UID:13540-1648124100-1648126800@www.cardunaldogtraining.com
SUMMARY:Puppy Plus
DESCRIPTION:
URL:https://www.cardunaldogtraining.com/event/puppy-plus-6/2022-03-24/
LOCATION:CarDunAl Dog Training Club\, 10783 Wolf Dr.\, Huntley\, IL\, 60142\, United States
CATEGORIES:AKC Star Puppy / Pre-Beginners Class
END:VEVENT
BEGIN:VEVENT
DTSTART;TZID=America/Chicago:20220324T080000
DTEND;TZID=America/Chicago:20220324T190000
DTSTAMP:20260423T210659
CREATED:20220325T193531Z
LAST-MODIFIED:20220325T193531Z
UID:13584-1648108800-1648148400@www.cardunaldogtraining.com
SUMMARY:Open/Utility Obedience
DESCRIPTION:
URL:https://www.cardunaldogtraining.com/event/open-utility-obedience-2/2022-03-24/
LOCATION:CarDunAl Dog Training Club\, 10783 Wolf Dr.\, Huntley\, IL\, 60142\, United States
CATEGORIES:Advanced
END:VEVENT
BEGIN:VEVENT
DTSTART;TZID=America/Chicago:20220323T181500
DTEND;TZID=America/Chicago:20220323T191500
DTSTAMP:20260423T210659
CREATED:20220308T201407Z
LAST-MODIFIED:20220308T201407Z
UID:13368-1648059300-1648062900@www.cardunaldogtraining.com
SUMMARY:Wednesday Continuing Scent Work
DESCRIPTION:
URL:https://www.cardunaldogtraining.com/event/wednesday-continuing-scent-work-4/2022-03-23/
LOCATION:CarDunAl Dog Training Club\, 10783 Wolf Dr.\, Huntley\, IL\, 60142\, United States
CATEGORIES:Scent Work
END:VEVENT
BEGIN:VEVENT
DTSTART;TZID=America/Chicago:20220323T170000
DTEND;TZID=America/Chicago:20220323T180000
DTSTAMP:20260423T210659
CREATED:20220308T201230Z
LAST-MODIFIED:20220308T201230Z
UID:13361-1648054800-1648058400@www.cardunaldogtraining.com
SUMMARY:Wednesday Continuing Scent Work
DESCRIPTION:
URL:https://www.cardunaldogtraining.com/event/wednesday-continuing-scent-work-3/2022-03-23/
LOCATION:CarDunAl Dog Training Club\, 10783 Wolf Dr.\, Huntley\, IL\, 60142\, United States
CATEGORIES:Scent Work
END:VEVENT
BEGIN:VEVENT
DTSTART;TZID=America/Chicago:20220323T113000
DTEND;TZID=America/Chicago:20220323T123000
DTSTAMP:20260423T210659
CREATED:20220325T193748Z
LAST-MODIFIED:20220325T193748Z
UID:13596-1648035000-1648038600@www.cardunaldogtraining.com
SUMMARY:Beginners Obedience
DESCRIPTION:
URL:https://www.cardunaldogtraining.com/event/beginners-obedience-5/2022-03-23/
LOCATION:CarDunAl Dog Training Club\, 10783 Wolf Dr.\, Huntley\, IL\, 60142\, United States
CATEGORIES:Beginners
END:VEVENT
BEGIN:VEVENT
DTSTART;TZID=America/Chicago:20220323T100000
DTEND;TZID=America/Chicago:20220323T110000
DTSTAMP:20260423T210659
CREATED:20220325T192925Z
LAST-MODIFIED:20220325T192925Z
UID:13551-1648029600-1648033200@www.cardunaldogtraining.com
SUMMARY:Novice Obedience
DESCRIPTION:
URL:https://www.cardunaldogtraining.com/event/novice-obedience/2022-03-23/
LOCATION:CarDunAl Dog Training Club\, 10783 Wolf Dr.\, Huntley\, IL\, 60142\, United States
CATEGORIES:Advanced
END:VEVENT
BEGIN:VEVENT
DTSTART;TZID=America/Chicago:20220323T090000
DTEND;TZID=America/Chicago:20220323T100000
DTSTAMP:20260423T210659
CREATED:20220325T193419Z
LAST-MODIFIED:20220325T193419Z
UID:13573-1648026000-1648029600@www.cardunaldogtraining.com
SUMMARY:Open/Utility Obedience
DESCRIPTION:
URL:https://www.cardunaldogtraining.com/event/open-utility-obedience/2022-03-23/
LOCATION:CarDunAl Dog Training Club\, 10783 Wolf Dr.\, Huntley\, IL\, 60142\, United States
CATEGORIES:Advanced
END:VEVENT
BEGIN:VEVENT
DTSTART;TZID=America/Chicago:20220322T200000
DTEND;TZID=America/Chicago:20220322T210000
DTSTAMP:20260423T210659
CREATED:20220224T203632Z
LAST-MODIFIED:20220224T203632Z
UID:13257-1647979200-1647982800@www.cardunaldogtraining.com
SUMMARY:Obedience Pre-Beginners Drop-In
DESCRIPTION:
URL:https://www.cardunaldogtraining.com/event/obedience-pre-beginners-drop-in/2022-03-22/
LOCATION:CarDunAl Dog Training Club\, 10783 Wolf Dr.\, Huntley\, IL\, 60142\, United States
CATEGORIES:Drop In Training
END:VEVENT
BEGIN:VEVENT
DTSTART;TZID=America/Chicago:20220322T191500
DTEND;TZID=America/Chicago:20220322T200000
DTSTAMP:20260423T210659
CREATED:20220325T192356Z
LAST-MODIFIED:20220325T192356Z
UID:13529-1647976500-1647979200@www.cardunaldogtraining.com
SUMMARY:Puppy Plus
DESCRIPTION:
URL:https://www.cardunaldogtraining.com/event/puppy-plus-5/2022-03-22/
LOCATION:CarDunAl Dog Training Club\, 10783 Wolf Dr.\, Huntley\, IL\, 60142\, United States
CATEGORIES:AKC Star Puppy / Pre-Beginners Class
END:VEVENT
BEGIN:VEVENT
DTSTART;TZID=America/Chicago:20220322T190000
DTEND;TZID=America/Chicago:20220322T200000
DTSTAMP:20260423T210659
CREATED:20220214T203102Z
LAST-MODIFIED:20220214T203102Z
UID:13189-1647975600-1647979200@www.cardunaldogtraining.com
SUMMARY:Agility Beginner
DESCRIPTION:
URL:https://www.cardunaldogtraining.com/event/agility-beginner/2022-03-22/
LOCATION:CarDunAl Dog Training Club\, 10783 Wolf Dr.\, Huntley\, IL\, 60142\, United States
CATEGORIES:Agility
END:VEVENT
BEGIN:VEVENT
DTSTART;TZID=America/Chicago:20220322T183000
DTEND;TZID=America/Chicago:20220322T191500
DTSTAMP:20260423T210659
CREATED:20220325T192025Z
LAST-MODIFIED:20220325T192230Z
UID:13507-1647973800-1647976500@www.cardunaldogtraining.com
SUMMARY:Puppy Plus
DESCRIPTION:
URL:https://www.cardunaldogtraining.com/event/puppy-plus-4/2022-03-22/
LOCATION:CarDunAl Dog Training Club\, 10783 Wolf Dr.\, Huntley\, IL\, 60142\, United States
CATEGORIES:AKC Star Puppy / Pre-Beginners Class
END:VEVENT
BEGIN:VEVENT
DTSTART;TZID=America/Chicago:20220321T200000
DTEND;TZID=America/Chicago:20220321T210000
DTSTAMP:20260423T210659
CREATED:20220214T202833Z
LAST-MODIFIED:20220214T202833Z
UID:13179-1647892800-1647896400@www.cardunaldogtraining.com
SUMMARY:Agility Intermediate
DESCRIPTION:
URL:https://www.cardunaldogtraining.com/event/agility-intermediate/2022-03-21/
LOCATION:CarDunAl Dog Training Club\, 10783 Wolf Dr.\, Huntley\, IL\, 60142\, United States
CATEGORIES:Agility
END:VEVENT
BEGIN:VEVENT
DTSTART;TZID=America/Chicago:20220321T200000
DTEND;TZID=America/Chicago:20220321T210000
DTSTAMP:20260423T210659
CREATED:20220214T202535Z
LAST-MODIFIED:20220214T202535Z
UID:13169-1647892800-1647896400@www.cardunaldogtraining.com
SUMMARY:Agility Competition
DESCRIPTION:
URL:https://www.cardunaldogtraining.com/event/agility-competition-3/2022-03-21/
LOCATION:CarDunAl Dog Training Club\, 10783 Wolf Dr.\, Huntley\, IL\, 60142\, United States
CATEGORIES:Agility
END:VEVENT
BEGIN:VEVENT
DTSTART;TZID=America/Chicago:20220321T190000
DTEND;TZID=America/Chicago:20220321T200000
DTSTAMP:20260423T210659
CREATED:20220214T202416Z
LAST-MODIFIED:20220214T202416Z
UID:13159-1647889200-1647892800@www.cardunaldogtraining.com
SUMMARY:Agility Competition
DESCRIPTION:
URL:https://www.cardunaldogtraining.com/event/agility-competition-2/2022-03-21/
LOCATION:CarDunAl Dog Training Club\, 10783 Wolf Dr.\, Huntley\, IL\, 60142\, United States
CATEGORIES:Agility
END:VEVENT
BEGIN:VEVENT
DTSTART;TZID=America/Chicago:20220321T184500
DTEND;TZID=America/Chicago:20220321T194500
DTSTAMP:20260423T210659
CREATED:20220214T202227Z
LAST-MODIFIED:20220214T202227Z
UID:13149-1647888300-1647891900@www.cardunaldogtraining.com
SUMMARY:Foundation Puppy Agility
DESCRIPTION:
URL:https://www.cardunaldogtraining.com/event/foundation-puppy-agility/2022-03-21/
LOCATION:CarDunAl Dog Training Club\, 10783 Wolf Dr.\, Huntley\, IL\, 60142\, United States
CATEGORIES:Agility
END:VEVENT
BEGIN:VEVENT
DTSTART;TZID=America/Chicago:20220321T180000
DTEND;TZID=America/Chicago:20220321T190000
DTSTAMP:20260423T210659
CREATED:20220214T202050Z
LAST-MODIFIED:20220214T202050Z
UID:13139-1647885600-1647889200@www.cardunaldogtraining.com
SUMMARY:Agility Advanced
DESCRIPTION:
URL:https://www.cardunaldogtraining.com/event/agility-advanced-2/2022-03-21/
LOCATION:CarDunAl Dog Training Club\, 10783 Wolf Dr.\, Huntley\, IL\, 60142\, United States
CATEGORIES:Agility
END:VEVENT
BEGIN:VEVENT
DTSTART;TZID=America/Chicago:20220321T170000
DTEND;TZID=America/Chicago:20220321T180000
DTSTAMP:20260423T210659
CREATED:20220214T201908Z
LAST-MODIFIED:20220214T201908Z
UID:13129-1647882000-1647885600@www.cardunaldogtraining.com
SUMMARY:Agility Advanced
DESCRIPTION:
URL:https://www.cardunaldogtraining.com/event/agility-advanced/2022-03-21/
LOCATION:CarDunAl Dog Training Club\, 10783 Wolf Dr.\, Huntley\, IL\, 60142\, United States
CATEGORIES:Agility
END:VEVENT
BEGIN:VEVENT
DTSTART;TZID=America/Chicago:20220321T090000
DTEND;TZID=America/Chicago:20220321T103000
DTSTAMP:20260423T210659
CREATED:20220214T201215Z
LAST-MODIFIED:20220214T201215Z
UID:13117-1647853200-1647858600@www.cardunaldogtraining.com
SUMMARY:Agility Competition
DESCRIPTION:
URL:https://www.cardunaldogtraining.com/event/agility-competition/2022-03-21/
LOCATION:CarDunAl Dog Training Club\, 10783 Wolf Dr.\, Huntley\, IL\, 60142\, United States
CATEGORIES:Agility
END:VEVENT
BEGIN:VEVENT
DTSTART;TZID=America/Chicago:20220320T190000
DTEND;TZID=America/Chicago:20220320T200000
DTSTAMP:20260423T210659
CREATED:20220214T201015Z
LAST-MODIFIED:20220214T201015Z
UID:13106-1647802800-1647806400@www.cardunaldogtraining.com
SUMMARY:Agility Intermediate II
DESCRIPTION:
URL:https://www.cardunaldogtraining.com/event/agility-intermediate-ii/2022-03-20/
LOCATION:CarDunAl Dog Training Club\, 10783 Wolf Dr.\, Huntley\, IL\, 60142\, United States
CATEGORIES:Agility
END:VEVENT
BEGIN:VEVENT
DTSTART;VALUE=DATE:20220320
DTEND;VALUE=DATE:20220321
DTSTAMP:20260423T210659
CREATED:20211012T003852Z
LAST-MODIFIED:20211012T003852Z
UID:11944-1647734400-1647820799@www.cardunaldogtraining.com
SUMMARY:CDA Agility
DESCRIPTION:
URL:https://www.cardunaldogtraining.com/event/cda-agility-4/
LOCATION:CarDunAl Dog Training Club\, 10783 Wolf Dr.\, Huntley\, IL\, 60142\, United States
CATEGORIES:Trials
END:VEVENT
BEGIN:VEVENT
DTSTART;VALUE=DATE:20220319
DTEND;VALUE=DATE:20220320
DTSTAMP:20260423T210659
CREATED:20211012T003810Z
LAST-MODIFIED:20211012T003810Z
UID:11942-1647648000-1647734399@www.cardunaldogtraining.com
SUMMARY:CDA Agility
DESCRIPTION:
URL:https://www.cardunaldogtraining.com/event/cda-agility-3/
LOCATION:CarDunAl Dog Training Club\, 10783 Wolf Dr.\, Huntley\, IL\, 60142\, United States
CATEGORIES:Trials
END:VEVENT
BEGIN:VEVENT
DTSTART;VALUE=DATE:20220318
DTEND;VALUE=DATE:20220319
DTSTAMP:20260423T210659
CREATED:20211012T003718Z
LAST-MODIFIED:20211012T003718Z
UID:11940-1647561600-1647647999@www.cardunaldogtraining.com
SUMMARY:BMDC Agility
DESCRIPTION:
URL:https://www.cardunaldogtraining.com/event/bmdc-agility/
LOCATION:CarDunAl Dog Training Club\, 10783 Wolf Dr.\, Huntley\, IL\, 60142\, United States
CATEGORIES:Trials
END:VEVENT
BEGIN:VEVENT
DTSTART;VALUE=DATE:20220311
DTEND;VALUE=DATE:20220312
DTSTAMP:20260423T210659
CREATED:20220113T195105Z
LAST-MODIFIED:20220113T195105Z
UID:12766-1646956800-1647043199@www.cardunaldogtraining.com
SUMMARY:Mat Cleaning
DESCRIPTION:
URL:https://www.cardunaldogtraining.com/event/mat-cleaning-5/
LOCATION:CarDunAl Dog Training Club\, 10783 Wolf Dr.\, Huntley\, IL\, 60142\, United States
CATEGORIES:Events
END:VEVENT
END:VCALENDAR