BEGIN:VCALENDAR
VERSION:2.0
PRODID:-//Car-Dun-Al Dog Obedience Training Club - ECPv6.15.17.1//NONSGML v1.0//EN
CALSCALE:GREGORIAN
METHOD:PUBLISH
X-WR-CALNAME:Car-Dun-Al Dog Obedience Training Club
X-ORIGINAL-URL:https://www.cardunaldogtraining.com
X-WR-CALDESC:Events for Car-Dun-Al Dog Obedience Training Club
REFRESH-INTERVAL;VALUE=DURATION:PT1H
X-Robots-Tag:noindex
X-PUBLISHED-TTL:PT1H
BEGIN:VTIMEZONE
TZID:America/Chicago
BEGIN:DAYLIGHT
TZOFFSETFROM:-0600
TZOFFSETTO:-0500
TZNAME:CDT
DTSTART:20210314T080000
END:DAYLIGHT
BEGIN:STANDARD
TZOFFSETFROM:-0500
TZOFFSETTO:-0600
TZNAME:CST
DTSTART:20211107T070000
END:STANDARD
BEGIN:DAYLIGHT
TZOFFSETFROM:-0600
TZOFFSETTO:-0500
TZNAME:CDT
DTSTART:20220313T080000
END:DAYLIGHT
BEGIN:STANDARD
TZOFFSETFROM:-0500
TZOFFSETTO:-0600
TZNAME:CST
DTSTART:20221106T070000
END:STANDARD
BEGIN:DAYLIGHT
TZOFFSETFROM:-0600
TZOFFSETTO:-0500
TZNAME:CDT
DTSTART:20230312T080000
END:DAYLIGHT
BEGIN:STANDARD
TZOFFSETFROM:-0500
TZOFFSETTO:-0600
TZNAME:CST
DTSTART:20231105T070000
END:STANDARD
END:VTIMEZONE
BEGIN:VEVENT
DTSTART;TZID=America/Chicago:20220210T193000
DTEND;TZID=America/Chicago:20220210T210000
DTSTAMP:20260424T021920
CREATED:20210917T235716Z
LAST-MODIFIED:20210917T235716Z
UID:11781-1644521400-1644526800@www.cardunaldogtraining.com
SUMMARY:Member Meeting
DESCRIPTION:
URL:https://www.cardunaldogtraining.com/event/member-meeting/
LOCATION:CarDunAl Dog Training Club\, 10783 Wolf Dr.\, Huntley\, IL\, 60142\, United States
CATEGORIES:Meeting
END:VEVENT
BEGIN:VEVENT
DTSTART;TZID=America/Chicago:20220207T190000
DTEND;TZID=America/Chicago:20220207T210000
DTSTAMP:20260424T021920
CREATED:20220121T005905Z
LAST-MODIFIED:20220121T005905Z
UID:12909-1644260400-1644267600@www.cardunaldogtraining.com
SUMMARY:Board Meeting
DESCRIPTION:
URL:https://www.cardunaldogtraining.com/event/board-meeting/
LOCATION:CarDunAl Dog Training Club\, 10783 Wolf Dr.\, Huntley\, IL\, 60142\, United States
CATEGORIES:Meeting
END:VEVENT
BEGIN:VEVENT
DTSTART;VALUE=DATE:20220206
DTEND;VALUE=DATE:20220207
DTSTAMP:20260424T021920
CREATED:20211012T003030Z
LAST-MODIFIED:20211012T003030Z
UID:11932-1644105600-1644191999@www.cardunaldogtraining.com
SUMMARY:CDA Obedience/Rally
DESCRIPTION:
URL:https://www.cardunaldogtraining.com/event/cda-obedience-rally-2/
LOCATION:CarDunAl Dog Training Club\, 10783 Wolf Dr.\, Huntley\, IL\, 60142\, United States
CATEGORIES:Trials
END:VEVENT
BEGIN:VEVENT
DTSTART;VALUE=DATE:20220205
DTEND;VALUE=DATE:20220206
DTSTAMP:20260424T021920
CREATED:20211012T002944Z
LAST-MODIFIED:20211012T002944Z
UID:11930-1644019200-1644105599@www.cardunaldogtraining.com
SUMMARY:CDA Obedience/Rally
DESCRIPTION:
URL:https://www.cardunaldogtraining.com/event/cda-obedience-rally/
LOCATION:CarDunAl Dog Training Club\, 10783 Wolf Dr.\, Huntley\, IL\, 60142\, United States
CATEGORIES:Trials
END:VEVENT
BEGIN:VEVENT
DTSTART;TZID=America/Chicago:20220201T190000
DTEND;TZID=America/Chicago:20220201T220000
DTSTAMP:20260424T021920
CREATED:20220115T031020Z
LAST-MODIFIED:20220115T031020Z
UID:12832-1643742000-1643752800@www.cardunaldogtraining.com
SUMMARY:Correction Clinic
DESCRIPTION:
URL:https://www.cardunaldogtraining.com/event/correction-clinic-2/
LOCATION:CarDunAl Dog Training Club\, 10783 Wolf Dr.\, Huntley\, IL\, 60142\, United States
CATEGORIES:Correction Clinic
END:VEVENT
BEGIN:VEVENT
DTSTART;VALUE=DATE:20220130
DTEND;VALUE=DATE:20220131
DTSTAMP:20260424T021920
CREATED:20211012T002827Z
LAST-MODIFIED:20211012T002827Z
UID:11928-1643500800-1643587199@www.cardunaldogtraining.com
SUMMARY:Glenbard Agility
DESCRIPTION:
URL:https://www.cardunaldogtraining.com/event/glenbard-agility-2/
LOCATION:CarDunAl Dog Training Club\, 10783 Wolf Dr.\, Huntley\, IL\, 60142\, United States
CATEGORIES:Trials
END:VEVENT
BEGIN:VEVENT
DTSTART;VALUE=DATE:20220129
DTEND;VALUE=DATE:20220130
DTSTAMP:20260424T021920
CREATED:20211012T002752Z
LAST-MODIFIED:20211012T002752Z
UID:11926-1643414400-1643500799@www.cardunaldogtraining.com
SUMMARY:Glenbard Agility
DESCRIPTION:
URL:https://www.cardunaldogtraining.com/event/glenbard-agility/
LOCATION:CarDunAl Dog Training Club\, 10783 Wolf Dr.\, Huntley\, IL\, 60142\, United States
CATEGORIES:Trials
END:VEVENT
BEGIN:VEVENT
DTSTART;VALUE=DATE:20220128
DTEND;VALUE=DATE:20220129
DTSTAMP:20260424T021920
CREATED:20211012T002656Z
LAST-MODIFIED:20211012T002656Z
UID:11924-1643328000-1643414399@www.cardunaldogtraining.com
SUMMARY:LaSalle Brittany Agility
DESCRIPTION:
URL:https://www.cardunaldogtraining.com/event/lasalle-brittany-agility/
LOCATION:CarDunAl Dog Training Club\, 10783 Wolf Dr.\, Huntley\, IL\, 60142\, United States
CATEGORIES:Trials
END:VEVENT
BEGIN:VEVENT
DTSTART;TZID=America/Chicago:20220121T173000
DTEND;TZID=America/Chicago:20220121T210000
DTSTAMP:20260424T021920
CREATED:20211029T152355Z
LAST-MODIFIED:20211029T152355Z
UID:12056-1642786200-1642798800@www.cardunaldogtraining.com
SUMMARY:Cardunal Agility Run Thru
DESCRIPTION:
URL:https://www.cardunaldogtraining.com/event/cardunal-agility-run-thru/
LOCATION:CarDunAl Dog Training Club\, 10783 Wolf Dr.\, Huntley\, IL\, 60142\, United States
CATEGORIES:Events
END:VEVENT
BEGIN:VEVENT
DTSTART;TZID=America/Chicago:20220119T181500
DTEND;TZID=America/Chicago:20220119T191500
DTSTAMP:20260424T021920
CREATED:20220104T222326Z
LAST-MODIFIED:20220104T222326Z
UID:12634-1642616100-1642619700@www.cardunaldogtraining.com
SUMMARY:Continuing Scentwork Wednesday
DESCRIPTION:
URL:https://www.cardunaldogtraining.com/event/continuing-scentwork-wednesday-2/2022-01-19/
LOCATION:CarDunAl Dog Training Club\, 10783 Wolf Dr.\, Huntley\, IL\, 60142\, United States
CATEGORIES:Scent Work
END:VEVENT
BEGIN:VEVENT
DTSTART;TZID=America/Chicago:20220119T170000
DTEND;TZID=America/Chicago:20220119T180000
DTSTAMP:20260424T021920
CREATED:20220104T222226Z
LAST-MODIFIED:20220104T222226Z
UID:12627-1642611600-1642615200@www.cardunaldogtraining.com
SUMMARY:Continuing Scentwork Wednesday
DESCRIPTION:
URL:https://www.cardunaldogtraining.com/event/continuing-scentwork-wednesday/2022-01-19/
LOCATION:CarDunAl Dog Training Club\, 10783 Wolf Dr.\, Huntley\, IL\, 60142\, United States
CATEGORIES:Scent Work
END:VEVENT
BEGIN:VEVENT
DTSTART;TZID=America/Chicago:20220112T120000
DTEND;TZID=America/Chicago:20220112T133000
DTSTAMP:20260424T021920
CREATED:20211210T214930Z
LAST-MODIFIED:20211210T214930Z
UID:12456-1641988800-1641994200@www.cardunaldogtraining.com
SUMMARY:Drop In Rally Class
DESCRIPTION:
URL:https://www.cardunaldogtraining.com/event/drop-in-rally-class/2022-01-12/
LOCATION:CarDunAl Dog Training Club\, 10783 Wolf Dr.\, Huntley\, IL\, 60142\, United States
CATEGORIES:Drop In Training
END:VEVENT
BEGIN:VEVENT
DTSTART;VALUE=DATE:20220109
DTEND;VALUE=DATE:20220110
DTSTAMP:20260424T021920
CREATED:20211012T002348Z
LAST-MODIFIED:20211012T002348Z
UID:11922-1641686400-1641772799@www.cardunaldogtraining.com
SUMMARY:CDA Agility
DESCRIPTION:
URL:https://www.cardunaldogtraining.com/event/cda-agility-2/
LOCATION:CarDunAl Dog Training Club\, 10783 Wolf Dr.\, Huntley\, IL\, 60142\, United States
CATEGORIES:Trials
END:VEVENT
BEGIN:VEVENT
DTSTART;VALUE=DATE:20220108
DTEND;VALUE=DATE:20220109
DTSTAMP:20260424T021920
CREATED:20211012T002002Z
LAST-MODIFIED:20211012T002044Z
UID:11919-1641600000-1641686399@www.cardunaldogtraining.com
SUMMARY:CDA Agility
DESCRIPTION:
URL:https://www.cardunaldogtraining.com/event/cda-agility/
LOCATION:CarDunAl Dog Training Club\, 10783 Wolf Dr.\, Huntley\, IL\, 60142\, United States
CATEGORIES:Trials
END:VEVENT
BEGIN:VEVENT
DTSTART;VALUE=DATE:20220107
DTEND;VALUE=DATE:20220108
DTSTAMP:20260424T021920
CREATED:20211012T001822Z
LAST-MODIFIED:20211012T001822Z
UID:11917-1641513600-1641599999@www.cardunaldogtraining.com
SUMMARY:Greater DeKalb Agility
DESCRIPTION:
URL:https://www.cardunaldogtraining.com/event/greater-dekalb-agility/
LOCATION:CarDunAl Dog Training Club\, 10783 Wolf Dr.\, Huntley\, IL\, 60142\, United States
CATEGORIES:Trials
END:VEVENT
BEGIN:VEVENT
DTSTART;TZID=America/Chicago:20220106T200000
DTEND;TZID=America/Chicago:20220106T210000
DTSTAMP:20260424T021920
CREATED:20211123T151735Z
LAST-MODIFIED:20211123T151735Z
UID:12251-1641499200-1641502800@www.cardunaldogtraining.com
SUMMARY:Beginners Obedience
DESCRIPTION:
URL:https://www.cardunaldogtraining.com/event/beginners-obedience-4/2022-01-06/
LOCATION:CarDunAl Dog Training Club\, 10783 Wolf Dr.\, Huntley\, IL\, 60142\, United States
CATEGORIES:Beginners
END:VEVENT
BEGIN:VEVENT
DTSTART;TZID=America/Chicago:20220106T183000
DTEND;TZID=America/Chicago:20220106T193000
DTSTAMP:20260424T021920
CREATED:20211123T151525Z
LAST-MODIFIED:20211123T151525Z
UID:12239-1641493800-1641497400@www.cardunaldogtraining.com
SUMMARY:Beginners Obedience
DESCRIPTION:
URL:https://www.cardunaldogtraining.com/event/beginners-obedience-3/2022-01-06/
LOCATION:CarDunAl Dog Training Club\, 10783 Wolf Dr.\, Huntley\, IL\, 60142\, United States
CATEGORIES:Beginners
END:VEVENT
BEGIN:VEVENT
DTSTART;TZID=America/Chicago:20220106T173000
DTEND;TZID=America/Chicago:20220106T190000
DTSTAMP:20260424T021920
CREATED:20220126T204229Z
LAST-MODIFIED:20220126T204229Z
UID:12991-1641490200-1641495600@www.cardunaldogtraining.com
SUMMARY:AKC Rally Drop-In Training
DESCRIPTION:
URL:https://www.cardunaldogtraining.com/event/akc-rally-drop-in-training/2022-01-06/
LOCATION:CarDunAl Dog Training Club\, 10783 Wolf Dr.\, Huntley\, IL\, 60142\, United States
CATEGORIES:Drop In Training
END:VEVENT
BEGIN:VEVENT
DTSTART;TZID=America/Chicago:20220106T123000
DTEND;TZID=America/Chicago:20220106T133000
DTSTAMP:20260424T021920
CREATED:20211206T000214Z
LAST-MODIFIED:20211206T000214Z
UID:12412-1641472200-1641475800@www.cardunaldogtraining.com
SUMMARY:Puppy Plus
DESCRIPTION:
URL:https://www.cardunaldogtraining.com/event/puppy-plus-3/2022-01-06/
LOCATION:CarDunAl Dog Training Club\, 10783 Wolf Dr.\, Huntley\, IL\, 60142\, United States
CATEGORIES:AKC Star Puppy / Pre-Beginners Class
END:VEVENT
BEGIN:VEVENT
DTSTART;TZID=America/Chicago:20220106T110000
DTEND;TZID=America/Chicago:20220106T120000
DTSTAMP:20260424T021920
CREATED:20211123T151212Z
LAST-MODIFIED:20211123T151212Z
UID:12227-1641466800-1641470400@www.cardunaldogtraining.com
SUMMARY:Beginners Obedience
DESCRIPTION:
URL:https://www.cardunaldogtraining.com/event/beginners-obedience-2/2022-01-06/
LOCATION:CarDunAl Dog Training Club\, 10783 Wolf Dr.\, Huntley\, IL\, 60142\, United States
CATEGORIES:Beginners
END:VEVENT
BEGIN:VEVENT
DTSTART;TZID=America/Chicago:20220105T113000
DTEND;TZID=America/Chicago:20220105T123000
DTSTAMP:20260424T021920
CREATED:20211123T150943Z
LAST-MODIFIED:20211123T150943Z
UID:12215-1641382200-1641385800@www.cardunaldogtraining.com
SUMMARY:Beginners Obedience
DESCRIPTION:
URL:https://www.cardunaldogtraining.com/event/beginners-obedience/2022-01-05/
LOCATION:CarDunAl Dog Training Club\, 10783 Wolf Dr.\, Huntley\, IL\, 60142\, United States
CATEGORIES:Beginners
END:VEVENT
BEGIN:VEVENT
DTSTART;TZID=America/Chicago:20220105T100000
DTEND;TZID=America/Chicago:20220105T120000
DTSTAMP:20260424T021920
CREATED:20220126T204031Z
LAST-MODIFIED:20220126T204031Z
UID:12979-1641376800-1641384000@www.cardunaldogtraining.com
SUMMARY:Obedience Drop-In Training
DESCRIPTION:
URL:https://www.cardunaldogtraining.com/event/obedience-drop-in-training/2022-01-05/
LOCATION:CarDunAl Dog Training Club\, 10783 Wolf Dr.\, Huntley\, IL\, 60142\, United States
CATEGORIES:Drop In Training
END:VEVENT
BEGIN:VEVENT
DTSTART;TZID=America/Chicago:20220104T193000
DTEND;TZID=America/Chicago:20220104T203000
DTSTAMP:20260424T021920
CREATED:20211206T000028Z
LAST-MODIFIED:20211206T000028Z
UID:12401-1641324600-1641328200@www.cardunaldogtraining.com
SUMMARY:Puppy Plus
DESCRIPTION:
URL:https://www.cardunaldogtraining.com/event/puppy-plus-2/2022-01-04/
LOCATION:CarDunAl Dog Training Club\, 10783 Wolf Dr.\, Huntley\, IL\, 60142\, United States
CATEGORIES:AKC Star Puppy / Pre-Beginners Class
END:VEVENT
BEGIN:VEVENT
DTSTART;TZID=America/Chicago:20220104T184500
DTEND;TZID=America/Chicago:20220104T194500
DTSTAMP:20260424T021920
CREATED:20220121T011031Z
LAST-MODIFIED:20220121T011031Z
UID:12944-1641321900-1641325500@www.cardunaldogtraining.com
SUMMARY:Beginner Agility
DESCRIPTION:
URL:https://www.cardunaldogtraining.com/event/beginner-agility-3/2022-01-04/
LOCATION:CarDunAl Dog Training Club\, 10783 Wolf Dr.\, Huntley\, IL\, 60142\, United States
CATEGORIES:Agility
END:VEVENT
BEGIN:VEVENT
DTSTART;TZID=America/Chicago:20220104T181500
DTEND;TZID=America/Chicago:20220104T191500
DTSTAMP:20260424T021920
CREATED:20211205T235838Z
LAST-MODIFIED:20211205T235838Z
UID:12390-1641320100-1641323700@www.cardunaldogtraining.com
SUMMARY:Puppy Plus
DESCRIPTION:
URL:https://www.cardunaldogtraining.com/event/puppy-plus/2022-01-04/
LOCATION:CarDunAl Dog Training Club\, 10783 Wolf Dr.\, Huntley\, IL\, 60142\, United States
CATEGORIES:AKC Star Puppy / Pre-Beginners Class
END:VEVENT
BEGIN:VEVENT
DTSTART;TZID=America/Chicago:20220103T200000
DTEND;TZID=America/Chicago:20220103T210000
DTSTAMP:20260424T021920
CREATED:20220121T010739Z
LAST-MODIFIED:20220121T010739Z
UID:12933-1641240000-1641243600@www.cardunaldogtraining.com
SUMMARY:Intermediate Agility 8 PM small ring
DESCRIPTION:
URL:https://www.cardunaldogtraining.com/event/intermediate-agility-8-pm-small-ring/2022-01-03/
LOCATION:CarDunAl Dog Training Club\, 10783 Wolf Dr.\, Huntley\, IL\, 60142\, United States
CATEGORIES:Agility
END:VEVENT
BEGIN:VEVENT
DTSTART;TZID=America/Chicago:20220103T200000
DTEND;TZID=America/Chicago:20220103T210000
DTSTAMP:20260424T021920
CREATED:20220121T010502Z
LAST-MODIFIED:20220121T010502Z
UID:12922-1641240000-1641243600@www.cardunaldogtraining.com
SUMMARY:Competition Agility 8 PM
DESCRIPTION:
URL:https://www.cardunaldogtraining.com/event/competition-agility-8-pm/2022-01-03/
LOCATION:CarDunAl Dog Training Club\, 10783 Wolf Dr.\, Huntley\, IL\, 60142\, United States
CATEGORIES:Agility
END:VEVENT
BEGIN:VEVENT
DTSTART;TZID=America/Chicago:20220103T190000
DTEND;TZID=America/Chicago:20220103T200000
DTSTAMP:20260424T021920
CREATED:20220121T010155Z
LAST-MODIFIED:20220121T010155Z
UID:12911-1641236400-1641240000@www.cardunaldogtraining.com
SUMMARY:Competition Agility 7 PM
DESCRIPTION:
URL:https://www.cardunaldogtraining.com/event/competition-agility-7-pm/2022-01-03/
LOCATION:CarDunAl Dog Training Club\, 10783 Wolf Dr.\, Huntley\, IL\, 60142\, United States
CATEGORIES:Agility
END:VEVENT
BEGIN:VEVENT
DTSTART;TZID=America/Chicago:20220103T184500
DTEND;TZID=America/Chicago:20220103T193000
DTSTAMP:20260424T021920
CREATED:20220325T195213Z
LAST-MODIFIED:20220325T195213Z
UID:13681-1641235500-1641238200@www.cardunaldogtraining.com
SUMMARY:Puppy Agility - Foundation
DESCRIPTION:
URL:https://www.cardunaldogtraining.com/event/puppy-agility-foundation/2022-01-03/
LOCATION:CarDunAl Dog Training Club\, 10783 Wolf Dr.\, Huntley\, IL\, 60142\, United States
CATEGORIES:Agility
END:VEVENT
BEGIN:VEVENT
DTSTART;TZID=America/Chicago:20220103T180000
DTEND;TZID=America/Chicago:20220103T190000
DTSTAMP:20260424T021920
CREATED:20220121T005519Z
LAST-MODIFIED:20220121T005519Z
UID:12898-1641232800-1641236400@www.cardunaldogtraining.com
SUMMARY:Advanced Agility 6 PM
DESCRIPTION:
URL:https://www.cardunaldogtraining.com/event/advanced-agility-6-pm/2022-01-03/
LOCATION:CarDunAl Dog Training Club\, 10783 Wolf Dr.\, Huntley\, IL\, 60142\, United States
CATEGORIES:Agility
END:VEVENT
END:VCALENDAR