BEGIN:VCALENDAR
VERSION:2.0
PRODID:-//Car-Dun-Al Dog Obedience Training Club - ECPv6.15.17.1//NONSGML v1.0//EN
CALSCALE:GREGORIAN
METHOD:PUBLISH
X-WR-CALNAME:Car-Dun-Al Dog Obedience Training Club
X-ORIGINAL-URL:https://www.cardunaldogtraining.com
X-WR-CALDESC:Events for Car-Dun-Al Dog Obedience Training Club
REFRESH-INTERVAL;VALUE=DURATION:PT1H
X-Robots-Tag:noindex
X-PUBLISHED-TTL:PT1H
BEGIN:VTIMEZONE
TZID:America/Chicago
BEGIN:DAYLIGHT
TZOFFSETFROM:-0600
TZOFFSETTO:-0500
TZNAME:CDT
DTSTART:20200308T080000
END:DAYLIGHT
BEGIN:STANDARD
TZOFFSETFROM:-0500
TZOFFSETTO:-0600
TZNAME:CST
DTSTART:20201101T070000
END:STANDARD
BEGIN:DAYLIGHT
TZOFFSETFROM:-0600
TZOFFSETTO:-0500
TZNAME:CDT
DTSTART:20210314T080000
END:DAYLIGHT
BEGIN:STANDARD
TZOFFSETFROM:-0500
TZOFFSETTO:-0600
TZNAME:CST
DTSTART:20211107T070000
END:STANDARD
BEGIN:DAYLIGHT
TZOFFSETFROM:-0600
TZOFFSETTO:-0500
TZNAME:CDT
DTSTART:20220313T080000
END:DAYLIGHT
BEGIN:STANDARD
TZOFFSETFROM:-0500
TZOFFSETTO:-0600
TZNAME:CST
DTSTART:20221106T070000
END:STANDARD
BEGIN:DAYLIGHT
TZOFFSETFROM:-0600
TZOFFSETTO:-0500
TZNAME:CDT
DTSTART:20230312T080000
END:DAYLIGHT
BEGIN:STANDARD
TZOFFSETFROM:-0500
TZOFFSETTO:-0600
TZNAME:CST
DTSTART:20231105T070000
END:STANDARD
END:VTIMEZONE
BEGIN:VEVENT
DTSTART;TZID=America/Chicago:20220104T181500
DTEND;TZID=America/Chicago:20220104T191500
DTSTAMP:20260424T052506
CREATED:20211205T235838Z
LAST-MODIFIED:20211205T235838Z
UID:12390-1641320100-1641323700@www.cardunaldogtraining.com
SUMMARY:Puppy Plus
DESCRIPTION:
URL:https://www.cardunaldogtraining.com/event/puppy-plus/2022-01-04/
LOCATION:CarDunAl Dog Training Club\, 10783 Wolf Dr.\, Huntley\, IL\, 60142\, United States
CATEGORIES:AKC Star Puppy / Pre-Beginners Class
END:VEVENT
BEGIN:VEVENT
DTSTART;TZID=America/Chicago:20220103T200000
DTEND;TZID=America/Chicago:20220103T210000
DTSTAMP:20260424T052506
CREATED:20220121T010739Z
LAST-MODIFIED:20220121T010739Z
UID:12933-1641240000-1641243600@www.cardunaldogtraining.com
SUMMARY:Intermediate Agility 8 PM small ring
DESCRIPTION:
URL:https://www.cardunaldogtraining.com/event/intermediate-agility-8-pm-small-ring/2022-01-03/
LOCATION:CarDunAl Dog Training Club\, 10783 Wolf Dr.\, Huntley\, IL\, 60142\, United States
CATEGORIES:Agility
END:VEVENT
BEGIN:VEVENT
DTSTART;TZID=America/Chicago:20220103T200000
DTEND;TZID=America/Chicago:20220103T210000
DTSTAMP:20260424T052506
CREATED:20220121T010502Z
LAST-MODIFIED:20220121T010502Z
UID:12922-1641240000-1641243600@www.cardunaldogtraining.com
SUMMARY:Competition Agility 8 PM
DESCRIPTION:
URL:https://www.cardunaldogtraining.com/event/competition-agility-8-pm/2022-01-03/
LOCATION:CarDunAl Dog Training Club\, 10783 Wolf Dr.\, Huntley\, IL\, 60142\, United States
CATEGORIES:Agility
END:VEVENT
BEGIN:VEVENT
DTSTART;TZID=America/Chicago:20220103T190000
DTEND;TZID=America/Chicago:20220103T200000
DTSTAMP:20260424T052506
CREATED:20220121T010155Z
LAST-MODIFIED:20220121T010155Z
UID:12911-1641236400-1641240000@www.cardunaldogtraining.com
SUMMARY:Competition Agility 7 PM
DESCRIPTION:
URL:https://www.cardunaldogtraining.com/event/competition-agility-7-pm/2022-01-03/
LOCATION:CarDunAl Dog Training Club\, 10783 Wolf Dr.\, Huntley\, IL\, 60142\, United States
CATEGORIES:Agility
END:VEVENT
BEGIN:VEVENT
DTSTART;TZID=America/Chicago:20220103T184500
DTEND;TZID=America/Chicago:20220103T193000
DTSTAMP:20260424T052506
CREATED:20220325T195213Z
LAST-MODIFIED:20220325T195213Z
UID:13681-1641235500-1641238200@www.cardunaldogtraining.com
SUMMARY:Puppy Agility - Foundation
DESCRIPTION:
URL:https://www.cardunaldogtraining.com/event/puppy-agility-foundation/2022-01-03/
LOCATION:CarDunAl Dog Training Club\, 10783 Wolf Dr.\, Huntley\, IL\, 60142\, United States
CATEGORIES:Agility
END:VEVENT
BEGIN:VEVENT
DTSTART;TZID=America/Chicago:20220103T180000
DTEND;TZID=America/Chicago:20220103T190000
DTSTAMP:20260424T052506
CREATED:20220121T005519Z
LAST-MODIFIED:20220121T005519Z
UID:12898-1641232800-1641236400@www.cardunaldogtraining.com
SUMMARY:Advanced Agility 6 PM
DESCRIPTION:
URL:https://www.cardunaldogtraining.com/event/advanced-agility-6-pm/2022-01-03/
LOCATION:CarDunAl Dog Training Club\, 10783 Wolf Dr.\, Huntley\, IL\, 60142\, United States
CATEGORIES:Agility
END:VEVENT
BEGIN:VEVENT
DTSTART;TZID=America/Chicago:20220103T170000
DTEND;TZID=America/Chicago:20220103T180000
DTSTAMP:20260424T052506
CREATED:20220115T032348Z
LAST-MODIFIED:20220115T032348Z
UID:12845-1641229200-1641232800@www.cardunaldogtraining.com
SUMMARY:Advanced Agility PM 5
DESCRIPTION:
URL:https://www.cardunaldogtraining.com/event/advanced-agility-pm-5/2022-01-03/
LOCATION:CarDunAl Dog Training Club\, 10783 Wolf Dr.\, Huntley\, IL\, 60142\, United States
CATEGORIES:Agility
END:VEVENT
BEGIN:VEVENT
DTSTART;TZID=America/Chicago:20220103T090000
DTEND;TZID=America/Chicago:20220103T103000
DTSTAMP:20260424T052506
CREATED:20220115T031750Z
LAST-MODIFIED:20220115T031750Z
UID:12834-1641200400-1641205800@www.cardunaldogtraining.com
SUMMARY:Master Competition
DESCRIPTION:
URL:https://www.cardunaldogtraining.com/event/master-competition-3/2022-01-03/
LOCATION:CarDunAl Dog Training Club\, 10783 Wolf Dr.\, Huntley\, IL\, 60142\, United States
CATEGORIES:Agility
END:VEVENT
BEGIN:VEVENT
DTSTART;TZID=America/Chicago:20211217T080000
DTEND;TZID=America/Chicago:20211217T170000
DTSTAMP:20260424T052506
CREATED:20210309T210821Z
LAST-MODIFIED:20210309T212151Z
UID:9627-1639728000-1639760400@www.cardunaldogtraining.com
SUMMARY:Mat Cleaning
DESCRIPTION:
URL:https://www.cardunaldogtraining.com/event/mat-cleaning-4/
LOCATION:CarDunAl Dog Training Club\, 10783 Wolf Dr.\, Huntley\, IL\, 60142\, United States
END:VEVENT
BEGIN:VEVENT
DTSTART;TZID=America/Chicago:20211211T080000
DTEND;TZID=America/Chicago:20211211T170000
DTSTAMP:20260424T052506
CREATED:20210309T210611Z
LAST-MODIFIED:20210309T210728Z
UID:9623-1639209600-1639242000@www.cardunaldogtraining.com
SUMMARY:Car-Dun-Al Scent Work Trial
DESCRIPTION:
URL:https://www.cardunaldogtraining.com/event/car-dun-al-scent-work-trial-2/2021-12-11/
LOCATION:CarDunAl Dog Training Club\, 10783 Wolf Dr.\, Huntley\, IL\, 60142\, United States
CATEGORIES:Trials
END:VEVENT
BEGIN:VEVENT
DTSTART;TZID=America/Chicago:20211209T193000
DTEND;TZID=America/Chicago:20211209T210000
DTSTAMP:20260424T052506
CREATED:20210806T180448Z
LAST-MODIFIED:20210806T180455Z
UID:11052-1639078200-1639083600@www.cardunaldogtraining.com
SUMMARY:General Member Meeting
DESCRIPTION:
URL:https://www.cardunaldogtraining.com/event/general-member-meeting-2/
LOCATION:CarDunAl Dog Training Club\, 10783 Wolf Dr.\, Huntley\, IL\, 60142\, United States
CATEGORIES:Meeting
END:VEVENT
BEGIN:VEVENT
DTSTART;TZID=America/Chicago:20211126T123000
DTEND;TZID=America/Chicago:20211126T133000
DTSTAMP:20260424T052506
CREATED:20211106T233308Z
LAST-MODIFIED:20211204T011410Z
UID:12120-1637929800-1637933400@www.cardunaldogtraining.com
SUMMARY:Friday Scent Work Level 2
DESCRIPTION:
URL:https://www.cardunaldogtraining.com/event/friday-scent-work-level-2-2/2021-11-26/
LOCATION:CarDunAl Dog Training Club\, 10783 Wolf Dr.\, Huntley\, IL\, 60142\, United States
CATEGORIES:Scent Work
END:VEVENT
BEGIN:VEVENT
DTSTART;TZID=America/Chicago:20211126T103000
DTEND;TZID=America/Chicago:20211126T123000
DTSTAMP:20260424T052506
CREATED:20211106T233052Z
LAST-MODIFIED:20211204T011556Z
UID:12113-1637922600-1637929800@www.cardunaldogtraining.com
SUMMARY:Friday Scent Work Level 3
DESCRIPTION:
URL:https://www.cardunaldogtraining.com/event/friday-scent-work-level-3-2/2021-11-26/
LOCATION:CarDunAl Dog Training Club\, 10783 Wolf Dr.\, Huntley\, IL\, 60142\, United States
CATEGORIES:Scent Work
END:VEVENT
BEGIN:VEVENT
DTSTART;TZID=America/Chicago:20211126T090000
DTEND;TZID=America/Chicago:20211126T103000
DTSTAMP:20260424T052506
CREATED:20211106T232747Z
LAST-MODIFIED:20211204T011650Z
UID:12106-1637917200-1637922600@www.cardunaldogtraining.com
SUMMARY:Friday Scent Work Level 1
DESCRIPTION:
URL:https://www.cardunaldogtraining.com/event/friday-scent-work-level-1-2/2021-11-26/
LOCATION:CarDunAl Dog Training Club\, 10783 Wolf Dr.\, Huntley\, IL\, 60142\, United States
CATEGORIES:Scent Work
END:VEVENT
BEGIN:VEVENT
DTSTART;TZID=America/Chicago:20211120T080000
DTEND;TZID=America/Chicago:20211120T170000
DTSTAMP:20260424T052506
CREATED:20210309T210333Z
LAST-MODIFIED:20210715T193843Z
UID:9619-1637395200-1637427600@www.cardunaldogtraining.com
SUMMARY:Race Agility
DESCRIPTION:
URL:https://www.cardunaldogtraining.com/event/race-agility-2/2021-11-20/
LOCATION:CarDunAl Dog Training Club\, 10783 Wolf Dr.\, Huntley\, IL\, 60142\, United States
CATEGORIES:Trials
END:VEVENT
BEGIN:VEVENT
DTSTART;TZID=America/Chicago:20211113T080000
DTEND;TZID=America/Chicago:20211113T170000
DTSTAMP:20260424T052506
CREATED:20210309T210223Z
LAST-MODIFIED:20210715T195042Z
UID:9616-1636790400-1636822800@www.cardunaldogtraining.com
SUMMARY:Car-Dun-Al Obedience and Rally Trial
DESCRIPTION:
URL:https://www.cardunaldogtraining.com/event/car-dun-al-obedience-and-rally-trial-2/2021-11-13/
LOCATION:CarDunAl Dog Training Club\, 10783 Wolf Dr.\, Huntley\, IL\, 60142\, United States
CATEGORIES:Trials
END:VEVENT
BEGIN:VEVENT
DTSTART;TZID=America/Chicago:20211109T193000
DTEND;TZID=America/Chicago:20211109T203000
DTSTAMP:20260424T052506
CREATED:20211002T000105Z
LAST-MODIFIED:20211002T000105Z
UID:11873-1636486200-1636489800@www.cardunaldogtraining.com
SUMMARY:Pre-Beginner
DESCRIPTION:
URL:https://www.cardunaldogtraining.com/event/pre-beginner/2021-11-09/
LOCATION:CarDunAl Dog Training Club\, 10783 Wolf Dr.\, Huntley\, IL\, 60142\, United States
CATEGORIES:AKC Star Puppy / Pre-Beginners Class
END:VEVENT
BEGIN:VEVENT
DTSTART;TZID=America/Chicago:20211109T181500
DTEND;TZID=America/Chicago:20211109T191500
DTSTAMP:20260424T052506
CREATED:20211002T000004Z
LAST-MODIFIED:20211002T000004Z
UID:11866-1636481700-1636485300@www.cardunaldogtraining.com
SUMMARY:Puppy Class
DESCRIPTION:
URL:https://www.cardunaldogtraining.com/event/puppy-class-6/2021-11-09/
LOCATION:CarDunAl Dog Training Club\, 10783 Wolf Dr.\, Huntley\, IL\, 60142\, United States
CATEGORIES:AKC Star Puppy / Pre-Beginners Class
END:VEVENT
BEGIN:VEVENT
DTSTART;TZID=America/Chicago:20211105T063000
DTEND;TZID=America/Chicago:20211105T170000
DTSTAMP:20260424T052506
CREATED:20210309T210022Z
LAST-MODIFIED:20210309T210022Z
UID:9612-1636093800-1636131600@www.cardunaldogtraining.com
SUMMARY:Tibetan Terrier Agility
DESCRIPTION:
URL:https://www.cardunaldogtraining.com/event/tibetan-terrier-agility/2021-11-05/
LOCATION:CarDunAl Dog Training Club\, 10783 Wolf Dr.\, Huntley\, IL\, 60142\, United States
CATEGORIES:Trials
END:VEVENT
BEGIN:VEVENT
DTSTART;TZID=America/Chicago:20211104T134500
DTEND;TZID=America/Chicago:20211104T144500
DTSTAMP:20260424T052506
CREATED:20211001T225634Z
LAST-MODIFIED:20211001T225634Z
UID:11859-1636033500-1636037100@www.cardunaldogtraining.com
SUMMARY:Puppy Class
DESCRIPTION:
URL:https://www.cardunaldogtraining.com/event/puppy-class-4/2021-11-04/
LOCATION:CarDunAl Dog Training Club\, 10783 Wolf Dr.\, Huntley\, IL\, 60142\, United States
CATEGORIES:AKC Star Puppy / Pre-Beginners Class
END:VEVENT
BEGIN:VEVENT
DTSTART;TZID=America/Chicago:20211104T110000
DTEND;TZID=America/Chicago:20211104T120000
DTSTAMP:20260424T052506
CREATED:20211001T225232Z
LAST-MODIFIED:20211001T225232Z
UID:11852-1636023600-1636027200@www.cardunaldogtraining.com
SUMMARY:Pre-Beginners
DESCRIPTION:
URL:https://www.cardunaldogtraining.com/event/pre-beginners-3/2021-11-04/
LOCATION:CarDunAl Dog Training Club\, 10783 Wolf Dr.\, Huntley\, IL\, 60142\, United States
CATEGORIES:AKC Star Puppy / Pre-Beginners Class
END:VEVENT
BEGIN:VEVENT
DTSTART;TZID=America/Chicago:20211030T100000
DTEND;TZID=America/Chicago:20211030T150000
DTSTAMP:20260424T052506
CREATED:20210309T205840Z
LAST-MODIFIED:20210309T205840Z
UID:9610-1635588000-1635606000@www.cardunaldogtraining.com
SUMMARY:Sniff and Go
DESCRIPTION:
URL:https://www.cardunaldogtraining.com/event/sniff-and-go-5/
LOCATION:CarDunAl Dog Training Club\, 10783 Wolf Dr.\, Huntley\, IL\, 60142\, United States
CATEGORIES:Events
END:VEVENT
BEGIN:VEVENT
DTSTART;TZID=America/Chicago:20211030T090000
DTEND;TZID=America/Chicago:20211030T150000
DTSTAMP:20260424T052506
CREATED:20210806T175804Z
LAST-MODIFIED:20210806T180724Z
UID:11048-1635584400-1635606000@www.cardunaldogtraining.com
SUMMARY:Sniff & Go
DESCRIPTION:
URL:https://www.cardunaldogtraining.com/event/sniff-go/
LOCATION:CarDunAl Dog Training Club\, 10783 Wolf Dr.\, Huntley\, IL\, 60142\, United States
CATEGORIES:Events
END:VEVENT
BEGIN:VEVENT
DTSTART;TZID=America/Chicago:20211023T063000
DTEND;TZID=America/Chicago:20211023T170000
DTSTAMP:20260424T052506
CREATED:20210309T205748Z
LAST-MODIFIED:20210309T205748Z
UID:9607-1634970600-1635008400@www.cardunaldogtraining.com
SUMMARY:Car-Dun-Al Agility
DESCRIPTION:
URL:https://www.cardunaldogtraining.com/event/car-dun-al-agility/2021-10-23/
LOCATION:CarDunAl Dog Training Club\, 10783 Wolf Dr.\, Huntley\, IL\, 60142\, United States
CATEGORIES:Trials
END:VEVENT
BEGIN:VEVENT
DTSTART;TZID=America/Chicago:20211022T063000
DTEND;TZID=America/Chicago:20211022T170000
DTSTAMP:20260424T052506
CREATED:20210309T205646Z
LAST-MODIFIED:20210309T205646Z
UID:9605-1634884200-1634922000@www.cardunaldogtraining.com
SUMMARY:Keeshond Club Agility
DESCRIPTION:
URL:https://www.cardunaldogtraining.com/event/keeshond-club-agility/
LOCATION:CarDunAl Dog Training Club\, 10783 Wolf Dr.\, Huntley\, IL\, 60142\, United States
CATEGORIES:Trials
END:VEVENT
BEGIN:VEVENT
DTSTART;TZID=America/Chicago:20211016T073000
DTEND;TZID=America/Chicago:20211017T170000
DTSTAMP:20260424T052506
CREATED:20210309T205548Z
LAST-MODIFIED:20210314T184438Z
UID:9603-1634369400-1634490000@www.cardunaldogtraining.com
SUMMARY:Siberian Husky Club
DESCRIPTION:
URL:https://www.cardunaldogtraining.com/event/siberian-husky-club/
LOCATION:CarDunAl Dog Training Club\, 10783 Wolf Dr.\, Huntley\, IL\, 60142\, United States
CATEGORIES:Conformation
END:VEVENT
BEGIN:VEVENT
DTSTART;TZID=America/Chicago:20211012T193000
DTEND;TZID=America/Chicago:20211012T210000
DTSTAMP:20260424T052506
CREATED:20210806T180248Z
LAST-MODIFIED:20210806T180300Z
UID:11050-1634067000-1634072400@www.cardunaldogtraining.com
SUMMARY:General Member Meeting
DESCRIPTION:
URL:https://www.cardunaldogtraining.com/event/general-member-meeting/
LOCATION:CarDunAl Dog Training Club\, 10783 Wolf Dr.\, Huntley\, IL\, 60142\, United States
CATEGORIES:Meeting
END:VEVENT
BEGIN:VEVENT
DTSTART;TZID=America/Chicago:20211009T073000
DTEND;TZID=America/Chicago:20211010T170000
DTSTAMP:20260424T052506
CREATED:20210309T205500Z
LAST-MODIFIED:20210314T184401Z
UID:9601-1633764600-1633885200@www.cardunaldogtraining.com
SUMMARY:Keeshond Club
DESCRIPTION:
URL:https://www.cardunaldogtraining.com/event/keeshond-club/
LOCATION:CarDunAl Dog Training Club\, 10783 Wolf Dr.\, Huntley\, IL\, 60142\, United States
CATEGORIES:Conformation
END:VEVENT
BEGIN:VEVENT
DTSTART;TZID=America/Chicago:20211002T083000
DTEND;TZID=America/Chicago:20211002T120000
DTSTAMP:20260424T052506
CREATED:20210721T174814Z
LAST-MODIFIED:20210910T144252Z
UID:10985-1633163400-1633176000@www.cardunaldogtraining.com
SUMMARY:Agility Run Thru
DESCRIPTION:Agility Run Thru Information \nNo Entries accepted after 11:00AM
URL:https://www.cardunaldogtraining.com/event/agility-run-thru-5/
LOCATION:CarDunAl Dog Training Club\, 10783 Wolf Dr.\, Huntley\, IL\, 60142\, United States
CATEGORIES:Events
END:VEVENT
BEGIN:VEVENT
DTSTART;TZID=America/Chicago:20211001T123000
DTEND;TZID=America/Chicago:20211001T133000
DTSTAMP:20260424T052506
CREATED:20210901T204735Z
LAST-MODIFIED:20210901T204735Z
UID:11589-1633091400-1633095000@www.cardunaldogtraining.com
SUMMARY:Friday Scent Work Level 2
DESCRIPTION:
URL:https://www.cardunaldogtraining.com/event/friday-scent-work-level-2/2021-10-01/
LOCATION:CarDunAl Dog Training Club\, 10783 Wolf Dr.\, Huntley\, IL\, 60142\, United States
CATEGORIES:Scent Work
END:VEVENT
END:VCALENDAR