BEGIN:VCALENDAR
VERSION:2.0
PRODID:-//Car-Dun-Al Dog Obedience Training Club - ECPv6.15.17.1//NONSGML v1.0//EN
CALSCALE:GREGORIAN
METHOD:PUBLISH
X-WR-CALNAME:Car-Dun-Al Dog Obedience Training Club
X-ORIGINAL-URL:https://www.cardunaldogtraining.com
X-WR-CALDESC:Events for Car-Dun-Al Dog Obedience Training Club
REFRESH-INTERVAL;VALUE=DURATION:PT1H
X-Robots-Tag:noindex
X-PUBLISHED-TTL:PT1H
BEGIN:VTIMEZONE
TZID:America/Chicago
BEGIN:DAYLIGHT
TZOFFSETFROM:-0600
TZOFFSETTO:-0500
TZNAME:CDT
DTSTART:20200308T080000
END:DAYLIGHT
BEGIN:STANDARD
TZOFFSETFROM:-0500
TZOFFSETTO:-0600
TZNAME:CST
DTSTART:20201101T070000
END:STANDARD
BEGIN:DAYLIGHT
TZOFFSETFROM:-0600
TZOFFSETTO:-0500
TZNAME:CDT
DTSTART:20210314T080000
END:DAYLIGHT
BEGIN:STANDARD
TZOFFSETFROM:-0500
TZOFFSETTO:-0600
TZNAME:CST
DTSTART:20211107T070000
END:STANDARD
BEGIN:DAYLIGHT
TZOFFSETFROM:-0600
TZOFFSETTO:-0500
TZNAME:CDT
DTSTART:20220313T080000
END:DAYLIGHT
BEGIN:STANDARD
TZOFFSETFROM:-0500
TZOFFSETTO:-0600
TZNAME:CST
DTSTART:20221106T070000
END:STANDARD
END:VTIMEZONE
BEGIN:VEVENT
DTSTART;TZID=America/Chicago:20211022T063000
DTEND;TZID=America/Chicago:20211022T170000
DTSTAMP:20260424T083701
CREATED:20210309T205646Z
LAST-MODIFIED:20210309T205646Z
UID:9605-1634884200-1634922000@www.cardunaldogtraining.com
SUMMARY:Keeshond Club Agility
DESCRIPTION:
URL:https://www.cardunaldogtraining.com/event/keeshond-club-agility/
LOCATION:CarDunAl Dog Training Club\, 10783 Wolf Dr.\, Huntley\, IL\, 60142\, United States
CATEGORIES:Trials
END:VEVENT
BEGIN:VEVENT
DTSTART;TZID=America/Chicago:20211016T073000
DTEND;TZID=America/Chicago:20211017T170000
DTSTAMP:20260424T083701
CREATED:20210309T205548Z
LAST-MODIFIED:20210314T184438Z
UID:9603-1634369400-1634490000@www.cardunaldogtraining.com
SUMMARY:Siberian Husky Club
DESCRIPTION:
URL:https://www.cardunaldogtraining.com/event/siberian-husky-club/
LOCATION:CarDunAl Dog Training Club\, 10783 Wolf Dr.\, Huntley\, IL\, 60142\, United States
CATEGORIES:Conformation
END:VEVENT
BEGIN:VEVENT
DTSTART;TZID=America/Chicago:20211012T193000
DTEND;TZID=America/Chicago:20211012T210000
DTSTAMP:20260424T083701
CREATED:20210806T180248Z
LAST-MODIFIED:20210806T180300Z
UID:11050-1634067000-1634072400@www.cardunaldogtraining.com
SUMMARY:General Member Meeting
DESCRIPTION:
URL:https://www.cardunaldogtraining.com/event/general-member-meeting/
LOCATION:CarDunAl Dog Training Club\, 10783 Wolf Dr.\, Huntley\, IL\, 60142\, United States
CATEGORIES:Meeting
END:VEVENT
BEGIN:VEVENT
DTSTART;TZID=America/Chicago:20211009T073000
DTEND;TZID=America/Chicago:20211010T170000
DTSTAMP:20260424T083701
CREATED:20210309T205500Z
LAST-MODIFIED:20210314T184401Z
UID:9601-1633764600-1633885200@www.cardunaldogtraining.com
SUMMARY:Keeshond Club
DESCRIPTION:
URL:https://www.cardunaldogtraining.com/event/keeshond-club/
LOCATION:CarDunAl Dog Training Club\, 10783 Wolf Dr.\, Huntley\, IL\, 60142\, United States
CATEGORIES:Conformation
END:VEVENT
BEGIN:VEVENT
DTSTART;TZID=America/Chicago:20211002T083000
DTEND;TZID=America/Chicago:20211002T120000
DTSTAMP:20260424T083701
CREATED:20210721T174814Z
LAST-MODIFIED:20210910T144252Z
UID:10985-1633163400-1633176000@www.cardunaldogtraining.com
SUMMARY:Agility Run Thru
DESCRIPTION:Agility Run Thru Information \nNo Entries accepted after 11:00AM
URL:https://www.cardunaldogtraining.com/event/agility-run-thru-5/
LOCATION:CarDunAl Dog Training Club\, 10783 Wolf Dr.\, Huntley\, IL\, 60142\, United States
CATEGORIES:Events
END:VEVENT
BEGIN:VEVENT
DTSTART;TZID=America/Chicago:20211001T123000
DTEND;TZID=America/Chicago:20211001T133000
DTSTAMP:20260424T083701
CREATED:20210901T204735Z
LAST-MODIFIED:20210901T204735Z
UID:11589-1633091400-1633095000@www.cardunaldogtraining.com
SUMMARY:Friday Scent Work Level 2
DESCRIPTION:
URL:https://www.cardunaldogtraining.com/event/friday-scent-work-level-2/2021-10-01/
LOCATION:CarDunAl Dog Training Club\, 10783 Wolf Dr.\, Huntley\, IL\, 60142\, United States
CATEGORIES:Scent Work
END:VEVENT
BEGIN:VEVENT
DTSTART;TZID=America/Chicago:20211001T103000
DTEND;TZID=America/Chicago:20211001T113000
DTSTAMP:20260424T083701
CREATED:20210901T205230Z
LAST-MODIFIED:20210901T205230Z
UID:11597-1633084200-1633087800@www.cardunaldogtraining.com
SUMMARY:Friday Scent Work Level 3
DESCRIPTION:
URL:https://www.cardunaldogtraining.com/event/friday-scent-work-level-3/2021-10-01/
LOCATION:CarDunAl Dog Training Club\, 10783 Wolf Dr.\, Huntley\, IL\, 60142\, United States
CATEGORIES:Scent Work
END:VEVENT
BEGIN:VEVENT
DTSTART;TZID=America/Chicago:20211001T090000
DTEND;TZID=America/Chicago:20211001T100000
DTSTAMP:20260424T083701
CREATED:20210901T204411Z
LAST-MODIFIED:20210901T204411Z
UID:11580-1633078800-1633082400@www.cardunaldogtraining.com
SUMMARY:Friday Scent Work Level 1
DESCRIPTION:
URL:https://www.cardunaldogtraining.com/event/friday-scent-work-level-1/2021-10-01/
LOCATION:CarDunAl Dog Training Club\, 10783 Wolf Dr.\, Huntley\, IL\, 60142\, United States
CATEGORIES:Scent Work
END:VEVENT
BEGIN:VEVENT
DTSTART;TZID=America/Chicago:20210928T193000
DTEND;TZID=America/Chicago:20210928T203000
DTSTAMP:20260424T083701
CREATED:20210824T001701Z
LAST-MODIFIED:20210824T001701Z
UID:11319-1632857400-1632861000@www.cardunaldogtraining.com
SUMMARY:Pre-Beginners
DESCRIPTION:
URL:https://www.cardunaldogtraining.com/event/pre-beginners-2/2021-09-28/
LOCATION:CarDunAl Dog Training Club\, 10783 Wolf Dr.\, Huntley\, IL\, 60142\, United States
CATEGORIES:AKC Star Puppy / Pre-Beginners Class
END:VEVENT
BEGIN:VEVENT
DTSTART;TZID=America/Chicago:20210928T181500
DTEND;TZID=America/Chicago:20210928T191500
DTSTAMP:20260424T083701
CREATED:20210824T001241Z
LAST-MODIFIED:20210824T001241Z
UID:11312-1632852900-1632856500@www.cardunaldogtraining.com
SUMMARY:Puppy Class
DESCRIPTION:
URL:https://www.cardunaldogtraining.com/event/puppy-class-3/2021-09-28/
LOCATION:CarDunAl Dog Training Club\, 10783 Wolf Dr.\, Huntley\, IL\, 60142\, United States
CATEGORIES:AKC Star Puppy / Pre-Beginners Class
END:VEVENT
BEGIN:VEVENT
DTSTART;TZID=America/Chicago:20210923T210000
DTEND;TZID=America/Chicago:20210923T220000
DTSTAMP:20260424T083701
CREATED:20210831T012437Z
LAST-MODIFIED:20210831T012437Z
UID:11509-1632430800-1632434400@www.cardunaldogtraining.com
SUMMARY:Open/Utility
DESCRIPTION:
URL:https://www.cardunaldogtraining.com/event/open-utility-4/2021-09-23/
LOCATION:CarDunAl Dog Training Club\, 10783 Wolf Dr.\, Huntley\, IL\, 60142\, United States
CATEGORIES:Advanced
END:VEVENT
BEGIN:VEVENT
DTSTART;TZID=America/Chicago:20210923T200000
DTEND;TZID=America/Chicago:20210923T210000
DTSTAMP:20260424T083701
CREATED:20210831T012301Z
LAST-MODIFIED:20210831T012301Z
UID:11498-1632427200-1632430800@www.cardunaldogtraining.com
SUMMARY:Mid Utility
DESCRIPTION:
URL:https://www.cardunaldogtraining.com/event/mid-utility-2/2021-09-23/
LOCATION:CarDunAl Dog Training Club\, 10783 Wolf Dr.\, Huntley\, IL\, 60142\, United States
CATEGORIES:Advanced
END:VEVENT
BEGIN:VEVENT
DTSTART;TZID=America/Chicago:20210923T200000
DTEND;TZID=America/Chicago:20210923T210000
DTSTAMP:20260424T083701
CREATED:20210831T012057Z
LAST-MODIFIED:20210831T012057Z
UID:11487-1632427200-1632430800@www.cardunaldogtraining.com
SUMMARY:Pre Open
DESCRIPTION:
URL:https://www.cardunaldogtraining.com/event/pre-open-2/2021-09-23/
LOCATION:CarDunAl Dog Training Club\, 10783 Wolf Dr.\, Huntley\, IL\, 60142\, United States
CATEGORIES:Advanced
END:VEVENT
BEGIN:VEVENT
DTSTART;TZID=America/Chicago:20210923T200000
DTEND;TZID=America/Chicago:20210923T210000
DTSTAMP:20260424T083701
CREATED:20210831T011332Z
LAST-MODIFIED:20210831T011332Z
UID:11455-1632427200-1632430800@www.cardunaldogtraining.com
SUMMARY:Novice
DESCRIPTION:
URL:https://www.cardunaldogtraining.com/event/novice-3/2021-09-23/
LOCATION:CarDunAl Dog Training Club\, 10783 Wolf Dr.\, Huntley\, IL\, 60142\, United States
CATEGORIES:Advanced
END:VEVENT
BEGIN:VEVENT
DTSTART;TZID=America/Chicago:20210923T200000
DTEND;TZID=America/Chicago:20210923T210000
DTSTAMP:20260424T083701
CREATED:20210831T010835Z
LAST-MODIFIED:20210831T010835Z
UID:11433-1632427200-1632430800@www.cardunaldogtraining.com
SUMMARY:Beginners
DESCRIPTION:
URL:https://www.cardunaldogtraining.com/event/beginners-3/2021-09-23/
LOCATION:CarDunAl Dog Training Club\, 10783 Wolf Dr.\, Huntley\, IL\, 60142\, United States
CATEGORIES:Beginners
END:VEVENT
BEGIN:VEVENT
DTSTART;TZID=America/Chicago:20210923T190000
DTEND;TZID=America/Chicago:20210923T200000
DTSTAMP:20260424T083701
CREATED:20210831T011825Z
LAST-MODIFIED:20210831T011825Z
UID:11476-1632423600-1632427200@www.cardunaldogtraining.com
SUMMARY:Open
DESCRIPTION:
URL:https://www.cardunaldogtraining.com/event/open-2/2021-09-23/
LOCATION:CarDunAl Dog Training Club\, 10783 Wolf Dr.\, Huntley\, IL\, 60142\, United States
CATEGORIES:Advanced
END:VEVENT
BEGIN:VEVENT
DTSTART;TZID=America/Chicago:20210923T190000
DTEND;TZID=America/Chicago:20210923T200000
DTSTAMP:20260424T083701
CREATED:20210831T011115Z
LAST-MODIFIED:20210831T011115Z
UID:11444-1632423600-1632427200@www.cardunaldogtraining.com
SUMMARY:Beginner Novice
DESCRIPTION:
URL:https://www.cardunaldogtraining.com/event/beginner-novice-3/2021-09-23/
LOCATION:CarDunAl Dog Training Club\, 10783 Wolf Dr.\, Huntley\, IL\, 60142\, United States
CATEGORIES:Advanced
END:VEVENT
BEGIN:VEVENT
DTSTART;TZID=America/Chicago:20210923T183000
DTEND;TZID=America/Chicago:20210923T193000
DTSTAMP:20260424T083701
CREATED:20210831T010248Z
LAST-MODIFIED:20210831T010248Z
UID:11417-1632421800-1632425400@www.cardunaldogtraining.com
SUMMARY:Beginners
DESCRIPTION:
URL:https://www.cardunaldogtraining.com/event/beginners-2/2021-09-23/
LOCATION:CarDunAl Dog Training Club\, 10783 Wolf Dr.\, Huntley\, IL\, 60142\, United States
CATEGORIES:Beginners
END:VEVENT
BEGIN:VEVENT
DTSTART;TZID=America/Chicago:20210923T173000
DTEND;TZID=America/Chicago:20210923T183000
DTSTAMP:20260424T083701
CREATED:20210831T011633Z
LAST-MODIFIED:20210831T011633Z
UID:11465-1632418200-1632421800@www.cardunaldogtraining.com
SUMMARY:Open/Utility
DESCRIPTION:
URL:https://www.cardunaldogtraining.com/event/open-utility-3/2021-09-23/
LOCATION:CarDunAl Dog Training Club\, 10783 Wolf Dr.\, Huntley\, IL\, 60142\, United States
CATEGORIES:Advanced
END:VEVENT
BEGIN:VEVENT
DTSTART;TZID=America/Chicago:20210923T123000
DTEND;TZID=America/Chicago:20210923T133000
DTSTAMP:20260424T083701
CREATED:20210831T005605Z
LAST-MODIFIED:20210831T005605Z
UID:11400-1632400200-1632403800@www.cardunaldogtraining.com
SUMMARY:Beginners
DESCRIPTION:
URL:https://www.cardunaldogtraining.com/event/beginners/2021-09-23/
LOCATION:CarDunAl Dog Training Club\, 10783 Wolf Dr.\, Huntley\, IL\, 60142\, United States
CATEGORIES:Beginners
END:VEVENT
BEGIN:VEVENT
DTSTART;TZID=America/Chicago:20210923T110000
DTEND;TZID=America/Chicago:20210923T120000
DTSTAMP:20260424T083701
CREATED:20210831T005245Z
LAST-MODIFIED:20210831T010557Z
UID:11393-1632394800-1632398400@www.cardunaldogtraining.com
SUMMARY:Puppy Class
DESCRIPTION:
URL:https://www.cardunaldogtraining.com/event/puppy-class-5/2021-09-23/
LOCATION:CarDunAl Dog Training Club\, 10783 Wolf Dr.\, Huntley\, IL\, 60142\, United States
CATEGORIES:AKC Star Puppy / Pre-Beginners Class
END:VEVENT
BEGIN:VEVENT
DTSTART;TZID=America/Chicago:20210922T113000
DTEND;TZID=America/Chicago:20210922T123000
DTSTAMP:20260424T083701
CREATED:20210831T144011Z
LAST-MODIFIED:20210831T144011Z
UID:11532-1632310200-1632313800@www.cardunaldogtraining.com
SUMMARY:Beginners
DESCRIPTION:
URL:https://www.cardunaldogtraining.com/event/beginners-4/2021-09-22/
LOCATION:CarDunAl Dog Training Club\, 10783 Wolf Dr.\, Huntley\, IL\, 60142\, United States
CATEGORIES:Advanced
END:VEVENT
BEGIN:VEVENT
DTSTART;TZID=America/Chicago:20210922T101500
DTEND;TZID=America/Chicago:20210922T111500
DTSTAMP:20260424T083701
CREATED:20210831T143805Z
LAST-MODIFIED:20210831T143805Z
UID:11521-1632305700-1632309300@www.cardunaldogtraining.com
SUMMARY:Novice
DESCRIPTION:
URL:https://www.cardunaldogtraining.com/event/novice-4/2021-09-22/
LOCATION:CarDunAl Dog Training Club\, 10783 Wolf Dr.\, Huntley\, IL\, 60142\, United States
CATEGORIES:Advanced
END:VEVENT
BEGIN:VEVENT
DTSTART;TZID=America/Chicago:20210921T190000
DTEND;TZID=America/Chicago:20210921T201500
DTSTAMP:20260424T083701
CREATED:20210902T223329Z
LAST-MODIFIED:20210902T223329Z
UID:11688-1632250800-1632255300@www.cardunaldogtraining.com
SUMMARY:Tuesday Advanced Agility 1
DESCRIPTION:
URL:https://www.cardunaldogtraining.com/event/tuesday-advanced-agility-1/2021-09-21/
LOCATION:CarDunAl Dog Training Club\, 10783 Wolf Dr.\, Huntley\, IL\, 60142\, United States
CATEGORIES:Agility
END:VEVENT
BEGIN:VEVENT
DTSTART;TZID=America/Chicago:20210920T200000
DTEND;TZID=America/Chicago:20210920T210000
DTSTAMP:20260424T083701
CREATED:20210902T222957Z
LAST-MODIFIED:20210902T222957Z
UID:11666-1632168000-1632171600@www.cardunaldogtraining.com
SUMMARY:Intermediate Agility
DESCRIPTION:
URL:https://www.cardunaldogtraining.com/event/intermediate-agility-3/2021-09-20/
LOCATION:CarDunAl Dog Training Club\, 10783 Wolf Dr.\, Huntley\, IL\, 60142\, United States
CATEGORIES:Agility
END:VEVENT
BEGIN:VEVENT
DTSTART;TZID=America/Chicago:20210920T200000
DTEND;TZID=America/Chicago:20210920T210000
DTSTAMP:20260424T083701
CREATED:20210902T222832Z
LAST-MODIFIED:20210902T222832Z
UID:11655-1632168000-1632171600@www.cardunaldogtraining.com
SUMMARY:Beginner Competition
DESCRIPTION:
URL:https://www.cardunaldogtraining.com/event/beginner-competition-2/2021-09-20/
LOCATION:CarDunAl Dog Training Club\, 10783 Wolf Dr.\, Huntley\, IL\, 60142\, United States
CATEGORIES:Agility
END:VEVENT
BEGIN:VEVENT
DTSTART;TZID=America/Chicago:20210920T190000
DTEND;TZID=America/Chicago:20210920T200000
DTSTAMP:20260424T083701
CREATED:20210902T222417Z
LAST-MODIFIED:20210902T222417Z
UID:11622-1632164400-1632168000@www.cardunaldogtraining.com
SUMMARY:Master Competition - PM
DESCRIPTION:
URL:https://www.cardunaldogtraining.com/event/master-competition-pm/2021-09-20/
LOCATION:CarDunAl Dog Training Club\, 10783 Wolf Dr.\, Huntley\, IL\, 60142\, United States
CATEGORIES:Agility
END:VEVENT
BEGIN:VEVENT
DTSTART;TZID=America/Chicago:20210920T184500
DTEND;TZID=America/Chicago:20210920T194500
DTSTAMP:20260424T083701
CREATED:20210902T223134Z
LAST-MODIFIED:20210902T223134Z
UID:11677-1632163500-1632167100@www.cardunaldogtraining.com
SUMMARY:Beginner Agility
DESCRIPTION:
URL:https://www.cardunaldogtraining.com/event/beginner-agility-2/2021-09-20/
LOCATION:CarDunAl Dog Training Club\, 10783 Wolf Dr.\, Huntley\, IL\, 60142\, United States
CATEGORIES:Agility
END:VEVENT
BEGIN:VEVENT
DTSTART;TZID=America/Chicago:20210920T180000
DTEND;TZID=America/Chicago:20210920T190000
DTSTAMP:20260424T083701
CREATED:20210902T222603Z
LAST-MODIFIED:20210902T222603Z
UID:11633-1632160800-1632164400@www.cardunaldogtraining.com
SUMMARY:Advanced Agility 2
DESCRIPTION:
URL:https://www.cardunaldogtraining.com/event/advanced-agility-2/2021-09-20/
LOCATION:CarDunAl Dog Training Club\, 10783 Wolf Dr.\, Huntley\, IL\, 60142\, United States
CATEGORIES:Agility
END:VEVENT
BEGIN:VEVENT
DTSTART;TZID=America/Chicago:20210920T170000
DTEND;TZID=America/Chicago:20210920T180000
DTSTAMP:20260424T083701
CREATED:20210902T222708Z
LAST-MODIFIED:20210902T222708Z
UID:11644-1632157200-1632160800@www.cardunaldogtraining.com
SUMMARY:Advanced Agility 2
DESCRIPTION:
URL:https://www.cardunaldogtraining.com/event/advanced-agility-2-2/2021-09-20/
LOCATION:CarDunAl Dog Training Club\, 10783 Wolf Dr.\, Huntley\, IL\, 60142\, United States
CATEGORIES:Agility
END:VEVENT
END:VCALENDAR