BEGIN:VCALENDAR
VERSION:2.0
PRODID:-//Car-Dun-Al Dog Obedience Training Club - ECPv6.15.17.1//NONSGML v1.0//EN
CALSCALE:GREGORIAN
METHOD:PUBLISH
X-WR-CALNAME:Car-Dun-Al Dog Obedience Training Club
X-ORIGINAL-URL:https://www.cardunaldogtraining.com
X-WR-CALDESC:Events for Car-Dun-Al Dog Obedience Training Club
REFRESH-INTERVAL;VALUE=DURATION:PT1H
X-Robots-Tag:noindex
X-PUBLISHED-TTL:PT1H
BEGIN:VTIMEZONE
TZID:America/Chicago
BEGIN:DAYLIGHT
TZOFFSETFROM:-0600
TZOFFSETTO:-0500
TZNAME:CDT
DTSTART:20240310T080000
END:DAYLIGHT
BEGIN:STANDARD
TZOFFSETFROM:-0500
TZOFFSETTO:-0600
TZNAME:CST
DTSTART:20241103T070000
END:STANDARD
BEGIN:DAYLIGHT
TZOFFSETFROM:-0600
TZOFFSETTO:-0500
TZNAME:CDT
DTSTART:20250309T080000
END:DAYLIGHT
BEGIN:STANDARD
TZOFFSETFROM:-0500
TZOFFSETTO:-0600
TZNAME:CST
DTSTART:20251102T070000
END:STANDARD
BEGIN:DAYLIGHT
TZOFFSETFROM:-0600
TZOFFSETTO:-0500
TZNAME:CDT
DTSTART:20260308T080000
END:DAYLIGHT
BEGIN:STANDARD
TZOFFSETFROM:-0500
TZOFFSETTO:-0600
TZNAME:CST
DTSTART:20261101T070000
END:STANDARD
END:VTIMEZONE
BEGIN:VEVENT
DTSTART;TZID=America/Chicago:20250102T200000
DTEND;TZID=America/Chicago:20250102T210000
DTSTAMP:20260424T193809
CREATED:20241221T023707Z
LAST-MODIFIED:20241221T023707Z
UID:25452-1735848000-1735851600@www.cardunaldogtraining.com
SUMMARY:Beginner Obedience
DESCRIPTION:
URL:https://www.cardunaldogtraining.com/event/beginner-obedience-35/2025-01-02/
LOCATION:CarDunAl Dog Training Club\, 10783 Wolf Dr.\, Huntley\, IL\, 60142\, United States
CATEGORIES:Advanced
END:VEVENT
BEGIN:VEVENT
DTSTART;VALUE=DATE:20250103
DTEND;VALUE=DATE:20250104
DTSTAMP:20260424T193809
CREATED:20241021T002906Z
LAST-MODIFIED:20241021T002906Z
UID:24609-1735862400-1735948799@www.cardunaldogtraining.com
SUMMARY:Greater DeKalb Agility
DESCRIPTION:
URL:https://www.cardunaldogtraining.com/event/greater-dekalb-agility-8/
LOCATION:CarDunAl Dog Training Club\, 10783 Wolf Dr.\, Huntley\, IL\, 60142\, United States
CATEGORIES:Trials
END:VEVENT
BEGIN:VEVENT
DTSTART;VALUE=DATE:20250104
DTEND;VALUE=DATE:20250105
DTSTAMP:20260424T193809
CREATED:20241021T003153Z
LAST-MODIFIED:20241021T003153Z
UID:24611-1735948800-1736035199@www.cardunaldogtraining.com
SUMMARY:Car Dun Al Agility
DESCRIPTION:
URL:https://www.cardunaldogtraining.com/event/car-dun-al-agility-6/
LOCATION:CarDunAl Dog Training Club\, 10783 Wolf Dr.\, Huntley\, IL\, 60142\, United States
CATEGORIES:Trials
END:VEVENT
BEGIN:VEVENT
DTSTART;VALUE=DATE:20250105
DTEND;VALUE=DATE:20250106
DTSTAMP:20260424T193809
CREATED:20241021T003219Z
LAST-MODIFIED:20241021T003219Z
UID:24613-1736035200-1736121599@www.cardunaldogtraining.com
SUMMARY:Car Dun Al Agility
DESCRIPTION:
URL:https://www.cardunaldogtraining.com/event/car-dun-al-agility-7/
LOCATION:CarDunAl Dog Training Club\, 10783 Wolf Dr.\, Huntley\, IL\, 60142\, United States
CATEGORIES:Trials
END:VEVENT
BEGIN:VEVENT
DTSTART;TZID=America/Chicago:20250106T090000
DTEND;TZID=America/Chicago:20250106T103000
DTSTAMP:20260424T193809
CREATED:20241221T030701Z
LAST-MODIFIED:20241221T030701Z
UID:25562-1736154000-1736159400@www.cardunaldogtraining.com
SUMMARY:Master Level 6 Agility
DESCRIPTION:
URL:https://www.cardunaldogtraining.com/event/master-level-6-agility/2025-01-06/
LOCATION:CarDunAl Dog Training Club\, 10783 Wolf Dr.\, Huntley\, IL\, 60142\, United States
CATEGORIES:Agility
END:VEVENT
BEGIN:VEVENT
DTSTART;TZID=America/Chicago:20250106T170000
DTEND;TZID=America/Chicago:20250106T180000
DTSTAMP:20260424T193809
CREATED:20241221T030818Z
LAST-MODIFIED:20241221T030818Z
UID:25573-1736182800-1736186400@www.cardunaldogtraining.com
SUMMARY:Advanced Agility Level 4
DESCRIPTION:
URL:https://www.cardunaldogtraining.com/event/advanced-agility-level-4-11/2025-01-06/
LOCATION:CarDunAl Dog Training Club\, 10783 Wolf Dr.\, Huntley\, IL\, 60142\, United States
CATEGORIES:Agility
END:VEVENT
BEGIN:VEVENT
DTSTART;TZID=America/Chicago:20250106T180000
DTEND;TZID=America/Chicago:20250106T190000
DTSTAMP:20260424T193809
CREATED:20241221T030915Z
LAST-MODIFIED:20241221T030915Z
UID:25584-1736186400-1736190000@www.cardunaldogtraining.com
SUMMARY:Advanced Agility Level 4
DESCRIPTION:
URL:https://www.cardunaldogtraining.com/event/advanced-agility-level-4-12/2025-01-06/
LOCATION:CarDunAl Dog Training Club\, 10783 Wolf Dr.\, Huntley\, IL\, 60142\, United States
CATEGORIES:Agility
END:VEVENT
BEGIN:VEVENT
DTSTART;TZID=America/Chicago:20250106T180000
DTEND;TZID=America/Chicago:20250106T190000
DTSTAMP:20260424T193809
CREATED:20241221T031045Z
LAST-MODIFIED:20241221T031045Z
UID:25595-1736186400-1736190000@www.cardunaldogtraining.com
SUMMARY:Foundation Class Agility
DESCRIPTION:
URL:https://www.cardunaldogtraining.com/event/foundation-class-agility/2025-01-06/
LOCATION:CarDunAl Dog Training Club\, 10783 Wolf Dr.\, Huntley\, IL\, 60142\, United States
CATEGORIES:Agility
END:VEVENT
BEGIN:VEVENT
DTSTART;TZID=America/Chicago:20250106T180000
DTEND;TZID=America/Chicago:20250106T190000
DTSTAMP:20260424T193809
CREATED:20241221T031231Z
LAST-MODIFIED:20241221T031231Z
UID:25606-1736186400-1736190000@www.cardunaldogtraining.com
SUMMARY:Intermediate Agility Level 2
DESCRIPTION:
URL:https://www.cardunaldogtraining.com/event/intermediate-agility-level-2-6/2025-01-06/
LOCATION:CarDunAl Dog Training Club\, 10783 Wolf Dr.\, Huntley\, IL\, 60142\, United States
CATEGORIES:Agility
END:VEVENT
BEGIN:VEVENT
DTSTART;TZID=America/Chicago:20250106T190000
DTEND;TZID=America/Chicago:20250106T200000
DTSTAMP:20260424T193809
CREATED:20241221T031355Z
LAST-MODIFIED:20241221T031355Z
UID:25617-1736190000-1736193600@www.cardunaldogtraining.com
SUMMARY:Advanced Agility Level 5
DESCRIPTION:
URL:https://www.cardunaldogtraining.com/event/advanced-agility-level-5-3/2025-01-06/
LOCATION:CarDunAl Dog Training Club\, 10783 Wolf Dr.\, Huntley\, IL\, 60142\, United States
CATEGORIES:Agility
END:VEVENT
BEGIN:VEVENT
DTSTART;TZID=America/Chicago:20250106T200000
DTEND;TZID=America/Chicago:20250106T210000
DTSTAMP:20260424T193809
CREATED:20241221T031526Z
LAST-MODIFIED:20241221T031526Z
UID:25628-1736193600-1736197200@www.cardunaldogtraining.com
SUMMARY:Beginner Agility Level 1
DESCRIPTION:
URL:https://www.cardunaldogtraining.com/event/beginner-agility-level-1-6/2025-01-06/
LOCATION:CarDunAl Dog Training Club\, 10783 Wolf Dr.\, Huntley\, IL\, 60142\, United States
CATEGORIES:Agility
END:VEVENT
BEGIN:VEVENT
DTSTART;TZID=America/Chicago:20250106T200000
DTEND;TZID=America/Chicago:20250106T210000
DTSTAMP:20260424T193809
CREATED:20241221T031627Z
LAST-MODIFIED:20241221T031627Z
UID:25639-1736193600-1736197200@www.cardunaldogtraining.com
SUMMARY:Advanced Agility Level 5
DESCRIPTION:
URL:https://www.cardunaldogtraining.com/event/advanced-agility-level-5-4/2025-01-06/
LOCATION:CarDunAl Dog Training Club\, 10783 Wolf Dr.\, Huntley\, IL\, 60142\, United States
CATEGORIES:Agility
END:VEVENT
BEGIN:VEVENT
DTSTART;TZID=America/Chicago:20250107T090000
DTEND;TZID=America/Chicago:20250107T100000
DTSTAMP:20260424T193809
CREATED:20241221T025558Z
LAST-MODIFIED:20241221T025558Z
UID:25496-1736240400-1736244000@www.cardunaldogtraining.com
SUMMARY:Scent Work Level 3
DESCRIPTION:
URL:https://www.cardunaldogtraining.com/event/scent-work-level-3-8/2025-01-07/
LOCATION:CarDunAl Dog Training Club\, 10783 Wolf Dr.\, Huntley\, IL\, 60142\, United States
CATEGORIES:Scent Work
END:VEVENT
BEGIN:VEVENT
DTSTART;TZID=America/Chicago:20250107T100000
DTEND;TZID=America/Chicago:20250107T110000
DTSTAMP:20260424T193809
CREATED:20241221T025703Z
LAST-MODIFIED:20241221T025703Z
UID:25507-1736244000-1736247600@www.cardunaldogtraining.com
SUMMARY:Scent Work Level 3
DESCRIPTION:
URL:https://www.cardunaldogtraining.com/event/scent-work-level-3-9/2025-01-07/
LOCATION:CarDunAl Dog Training Club\, 10783 Wolf Dr.\, Huntley\, IL\, 60142\, United States
CATEGORIES:Scent Work
END:VEVENT
BEGIN:VEVENT
DTSTART;TZID=America/Chicago:20250107T110000
DTEND;TZID=America/Chicago:20250107T120000
DTSTAMP:20260424T193809
CREATED:20241221T025800Z
LAST-MODIFIED:20241221T025800Z
UID:25518-1736247600-1736251200@www.cardunaldogtraining.com
SUMMARY:Scent Work Level 3
DESCRIPTION:
URL:https://www.cardunaldogtraining.com/event/scent-work-level-3-10/2025-01-07/
LOCATION:CarDunAl Dog Training Club\, 10783 Wolf Dr.\, Huntley\, IL\, 60142\, United States
CATEGORIES:Scent Work
END:VEVENT
BEGIN:VEVENT
DTSTART;TZID=America/Chicago:20250107T123000
DTEND;TZID=America/Chicago:20250107T133000
DTSTAMP:20260424T193809
CREATED:20241221T025903Z
LAST-MODIFIED:20241221T025903Z
UID:25529-1736253000-1736256600@www.cardunaldogtraining.com
SUMMARY:Scent Work Level 2
DESCRIPTION:
URL:https://www.cardunaldogtraining.com/event/scent-work-level-2-6/2025-01-07/
LOCATION:CarDunAl Dog Training Club\, 10783 Wolf Dr.\, Huntley\, IL\, 60142\, United States
CATEGORIES:Scent Work
END:VEVENT
BEGIN:VEVENT
DTSTART;TZID=America/Chicago:20250107T140000
DTEND;TZID=America/Chicago:20250107T150000
DTSTAMP:20260424T193809
CREATED:20241221T030016Z
LAST-MODIFIED:20241221T030016Z
UID:25540-1736258400-1736262000@www.cardunaldogtraining.com
SUMMARY:Scent Work Level 1
DESCRIPTION:
URL:https://www.cardunaldogtraining.com/event/scent-work-level-1-6/2025-01-07/
LOCATION:CarDunAl Dog Training Club\, 10783 Wolf Dr.\, Huntley\, IL\, 60142\, United States
CATEGORIES:Scent Work
END:VEVENT
BEGIN:VEVENT
DTSTART;TZID=America/Chicago:20250107T150000
DTEND;TZID=America/Chicago:20250107T160000
DTSTAMP:20260424T193809
CREATED:20241221T030103Z
LAST-MODIFIED:20241221T030103Z
UID:25551-1736262000-1736265600@www.cardunaldogtraining.com
SUMMARY:Scent Work Level 1
DESCRIPTION:
URL:https://www.cardunaldogtraining.com/event/scent-work-level-1-7/2025-01-07/
LOCATION:CarDunAl Dog Training Club\, 10783 Wolf Dr.\, Huntley\, IL\, 60142\, United States
CATEGORIES:Scent Work
END:VEVENT
BEGIN:VEVENT
DTSTART;TZID=America/Chicago:20250107T180000
DTEND;TZID=America/Chicago:20250107T190000
DTSTAMP:20260424T193809
CREATED:20241215T020010Z
LAST-MODIFIED:20241215T020010Z
UID:24995-1736272800-1736276400@www.cardunaldogtraining.com
SUMMARY:Puppy Class Obedience
DESCRIPTION:
URL:https://www.cardunaldogtraining.com/event/puppy-class-obedience-10/2025-01-07/
LOCATION:CarDunAl Dog Training Club\, 10783 Wolf Dr.\, Huntley\, IL\, 60142\, United States
CATEGORIES:AKC Star Puppy / Pre-Beginners Class
END:VEVENT
BEGIN:VEVENT
DTSTART;TZID=America/Chicago:20250107T193000
DTEND;TZID=America/Chicago:20250107T203000
DTSTAMP:20260424T193809
CREATED:20241221T031757Z
LAST-MODIFIED:20241221T031757Z
UID:25650-1736278200-1736281800@www.cardunaldogtraining.com
SUMMARY:Advanced Agility Level 3
DESCRIPTION:
URL:https://www.cardunaldogtraining.com/event/advanced-agility-level-3/2025-01-07/
LOCATION:CarDunAl Dog Training Club\, 10783 Wolf Dr.\, Huntley\, IL\, 60142\, United States
CATEGORIES:Agility
END:VEVENT
BEGIN:VEVENT
DTSTART;TZID=America/Chicago:20250108T093000
DTEND;TZID=America/Chicago:20250108T100000
DTSTAMP:20260424T193809
CREATED:20241221T022836Z
LAST-MODIFIED:20241221T022836Z
UID:25405-1736328600-1736330400@www.cardunaldogtraining.com
SUMMARY:Open/Utility Obedience – No Instructor
DESCRIPTION:
URL:https://www.cardunaldogtraining.com/event/open-utility-obedience-no-instructor-16/2025-01-08/
LOCATION:CarDunAl Dog Training Club\, 10783 Wolf Dr.\, Huntley\, IL\, 60142\, United States
CATEGORIES:Advanced
END:VEVENT
BEGIN:VEVENT
DTSTART;TZID=America/Chicago:20250108T100000
DTEND;TZID=America/Chicago:20250108T110000
DTSTAMP:20260424T193809
CREATED:20241221T021126Z
LAST-MODIFIED:20241221T021126Z
UID:25339-1736330400-1736334000@www.cardunaldogtraining.com
SUMMARY:Novice Obedience
DESCRIPTION:
URL:https://www.cardunaldogtraining.com/event/novice-obedience-22/2025-01-08/
LOCATION:CarDunAl Dog Training Club\, 10783 Wolf Dr.\, Huntley\, IL\, 60142\, United States
CATEGORIES:Advanced
END:VEVENT
BEGIN:VEVENT
DTSTART;TZID=America/Chicago:20250108T100000
DTEND;TZID=America/Chicago:20250108T110000
DTSTAMP:20260424T193809
CREATED:20241221T022227Z
LAST-MODIFIED:20241221T022227Z
UID:25372-1736330400-1736334000@www.cardunaldogtraining.com
SUMMARY:Open Obedience
DESCRIPTION:
URL:https://www.cardunaldogtraining.com/event/open-obedience-19/2025-01-08/
LOCATION:CarDunAl Dog Training Club\, 10783 Wolf Dr.\, Huntley\, IL\, 60142\, United States
CATEGORIES:Advanced
END:VEVENT
BEGIN:VEVENT
DTSTART;TZID=America/Chicago:20250108T100000
DTEND;TZID=America/Chicago:20250108T120000
DTSTAMP:20260424T193809
CREATED:20250106T192713Z
LAST-MODIFIED:20250106T192713Z
UID:25833-1736330400-1736337600@www.cardunaldogtraining.com
SUMMARY:Drop In Obedience Training
DESCRIPTION:
URL:https://www.cardunaldogtraining.com/event/drop-in-obedience-training-4/2025-01-08/
LOCATION:CarDunAl Dog Training Club\, 10783 Wolf Dr.\, Huntley\, IL\, 60142\, United States
CATEGORIES:Drop In Training
END:VEVENT
BEGIN:VEVENT
DTSTART;TZID=America/Chicago:20250108T113000
DTEND;TZID=America/Chicago:20250108T123000
DTSTAMP:20260424T193809
CREATED:20241221T023333Z
LAST-MODIFIED:20241221T023333Z
UID:25427-1736335800-1736339400@www.cardunaldogtraining.com
SUMMARY:Beginner Obedience
DESCRIPTION:
URL:https://www.cardunaldogtraining.com/event/beginner-obedience-32/2025-01-08/
LOCATION:CarDunAl Dog Training Club\, 10783 Wolf Dr.\, Huntley\, IL\, 60142\, United States
CATEGORIES:Beginners
END:VEVENT
BEGIN:VEVENT
DTSTART;TZID=America/Chicago:20250108T120000
DTEND;TZID=America/Chicago:20250108T133000
DTSTAMP:20260424T193809
CREATED:20241222T021525Z
LAST-MODIFIED:20241222T021525Z
UID:25665-1736337600-1736343000@www.cardunaldogtraining.com
SUMMARY:Drop In Rally
DESCRIPTION:
URL:https://www.cardunaldogtraining.com/event/drop-in-rally-2/2025-01-08/
LOCATION:CarDunAl Dog Training Club\, 10783 Wolf Dr.\, Huntley\, IL\, 60142\, United States
CATEGORIES:Drop In Training
END:VEVENT
BEGIN:VEVENT
DTSTART;TZID=America/Chicago:20250108T190000
DTEND;TZID=America/Chicago:20250108T200000
DTSTAMP:20260424T193809
CREATED:20250106T192935Z
LAST-MODIFIED:20251120T012556Z
UID:25884-1736362800-1736366400@www.cardunaldogtraining.com
SUMMARY:Drop In Conformation
DESCRIPTION:
URL:https://www.cardunaldogtraining.com/event/drop-in-conformation-2/2025-01-08/
LOCATION:CarDunAl Dog Training Club\, 10783 Wolf Dr.\, Huntley\, IL\, 60142\, United States
CATEGORIES:Conformation
END:VEVENT
BEGIN:VEVENT
DTSTART;TZID=America/Chicago:20250109T120000
DTEND;TZID=America/Chicago:20250109T130000
DTSTAMP:20260424T193809
CREATED:20241215T020208Z
LAST-MODIFIED:20241215T020641Z
UID:25008-1736424000-1736427600@www.cardunaldogtraining.com
SUMMARY:Puppy Class Obedience
DESCRIPTION:
URL:https://www.cardunaldogtraining.com/event/puppy-class-obedience-11/2025-01-09/
LOCATION:CarDunAl Dog Training Club\, 10783 Wolf Dr.\, Huntley\, IL\, 60142\, United States
CATEGORIES:AKC Star Puppy / Pre-Beginners Class
END:VEVENT
BEGIN:VEVENT
DTSTART;TZID=America/Chicago:20250109T133000
DTEND;TZID=America/Chicago:20250109T143000
DTSTAMP:20260424T193809
CREATED:20241221T023500Z
LAST-MODIFIED:20241221T023500Z
UID:25439-1736429400-1736433000@www.cardunaldogtraining.com
SUMMARY:Beginner Obedience
DESCRIPTION:
URL:https://www.cardunaldogtraining.com/event/beginner-obedience-33/2025-01-09/
LOCATION:CarDunAl Dog Training Club\, 10783 Wolf Dr.\, Huntley\, IL\, 60142\, United States
CATEGORIES:Beginners
END:VEVENT
BEGIN:VEVENT
DTSTART;TZID=America/Chicago:20250109T170000
DTEND;TZID=America/Chicago:20250109T180000
DTSTAMP:20260424T193809
CREATED:20241221T024235Z
LAST-MODIFIED:20241221T024235Z
UID:25486-1736442000-1736445600@www.cardunaldogtraining.com
SUMMARY:Utility Obedience
DESCRIPTION:
URL:https://www.cardunaldogtraining.com/event/utility-obedience-10/2025-01-09/
LOCATION:CarDunAl Dog Training Club\, 10783 Wolf Dr.\, Huntley\, IL\, 60142\, United States
CATEGORIES:Advanced
END:VEVENT
END:VCALENDAR